From mboxrd@z Thu Jan 1 00:00:00 1970 Return-Path: Received: from mails.dpdk.org (mails.dpdk.org [217.70.189.124]) by inbox.dpdk.org (Postfix) with ESMTP id 58285467DC for ; Fri, 30 May 2025 04:14:10 +0200 (CEST) Received: from mails.dpdk.org (localhost [127.0.0.1]) by mails.dpdk.org (Postfix) with ESMTP id 538E740150; Fri, 30 May 2025 04:14:10 +0200 (CEST) Received: from mail-pl1-f226.google.com (mail-pl1-f226.google.com [209.85.214.226]) by mails.dpdk.org (Postfix) with ESMTP id 14A0340150 for ; Fri, 30 May 2025 04:14:09 +0200 (CEST) Received: by mail-pl1-f226.google.com with SMTP id d9443c01a7336-234d366e5f2so20288135ad.1 for ; Thu, 29 May 2025 19:14:09 -0700 (PDT) DKIM-Signature: v=1; a=rsa-sha256; c=relaxed/relaxed; d=iol.unh.edu; s=unh-iol; t=1748571248; x=1749176048; darn=dpdk.org; h=references:in-reply-to:cc:to:from:subject:message-id:date:from:to :cc:subject:date:message-id:reply-to; bh=bqA/nhJJ0AKtbvdUI/qk4YwYKq3kqTlRnHXwgjAkHzw=; b=JglnBzZtdwKq/n313W4l1YnSu90v6cMiKeaZmN39qd2B1qaDcVs2aKYeT61GqwGrSO bmg7J6Knccy5g88AvXtTEKy2lsZU7OoEZI62nf/1MtZkO6tHRB07lWedMWT9VCNp2QKz BD2hXIa0gIkmjaTV4GkqQajyczuJDhTT/NtkE= X-Google-DKIM-Signature: v=1; a=rsa-sha256; c=relaxed/relaxed; d=1e100.net; s=20230601; t=1748571248; x=1749176048; h=references:in-reply-to:cc:to:from:subject:message-id:date :x-gm-message-state:from:to:cc:subject:date:message-id:reply-to; bh=bqA/nhJJ0AKtbvdUI/qk4YwYKq3kqTlRnHXwgjAkHzw=; b=WH3/rv1kkVs3SlXZ0SPaXV5646d/UNbi0KCSf6vb62VBwx1xTKoJymQwi4jUfCFvC9 +i/rHhXznia4Kq6gaeo0mu0BTjhVrfwZkS+YBcvxwY8oK0LxX7/vEktDVeFWfsKKHZba K0c0+GlcZvYNSxXzR43WVTyun+iYBbdIJuEabBRfmCu3LojEH5zBsoh6l4II9yGpvvJX Dy9D7A8Sxmo0bbI/A8k+lZpIsxIBjHKEIS1qjSYuo6EC0XbZfvcRSR87l+g2NAP1AQBa kGI3ce3ghvCSRNn5b+8Zz4aQvM+5lJ8nQUk2325WZjSmgSyj8OEdW4q599h3/jEa4f6W wadQ== X-Gm-Message-State: AOJu0Yx/hZQvFPEp/FwSYM8y8/0TD4ndtWGx3cHqVgtx6ZV2zvMBEvsn LtHrbUvyPVoBfUjMF51/Cv/HxU/V6FmyB2dVo473vSq200lQZdk4O5N7oGU5d5TzPJ9xxfZT0Ms VjYuP1gxlwn4wI31s5IeByppCL0VSbFY2acheckCE3b/VpryLMMxmxnZVbx4A X-Gm-Gg: ASbGncuIkxVXZMO9KZAxWp91ouq0eNKxTqcpfMwy7iyyxZ3UZ1qoe0TYD/0eNKt48g5 XiLzabH0HfdTI1HUDRNh60n98dZg2H/lnBHYEtwBtGVRcE0gV5wdjKvJRl2pwIIVRnJC5n/nWIf 87PiCFAJtkFZmtE2VBe7tVI/+QKkbFmOcAXaxrUF7ElQHpNUZvQLb+AJ/Q3N6d26+adrGjFkhsT 5HOMxf0i+q0RLPtSnqllS7UudEnwsWF6cdpW08LKX+TjMsJvjN3NJJtcBl74HfonV4TR1w18TsJ 8SqDC7NQO87UXI23JvC8m8fZ8DOBPWbA1zgu X-Google-Smtp-Source: AGHT+IHL7XF435PpDHilsnGyZV+JF+zhwsHOOiAx8zKIlVXF/zwg3uU6oQM9HGLVpya6H9uMhAR/DW8ySKKC X-Received: by 2002:a17:903:4410:b0:235:129a:175f with SMTP id d9443c01a7336-23529a28fb8mr24427235ad.34.1748571248329; Thu, 29 May 2025 19:14:08 -0700 (PDT) Received: from postal.iol.unh.edu (postal.iol.unh.edu. [2606:4100:3880:1234::84]) by smtp-relay.gmail.com with ESMTPS id d9443c01a7336-23506d39024sm1405815ad.80.2025.05.29.19.14.08 (version=TLS1_2 cipher=ECDHE-ECDSA-AES128-GCM-SHA256 bits=128/128); Thu, 29 May 2025 19:14:08 -0700 (PDT) X-Relaying-Domain: iol.unh.edu Date: Thu, 29 May 2025 19:14:08 -0700 (PDT) Message-ID: <68391470.170a0220.7319d.79e6SMTPIN_ADDED_MISSING@mx.google.com> Received: from [172.17.0.4] (unknown [172.18.0.74]) by postal.iol.unh.edu (Postfix) with ESMTP id CE9B46052471; Thu, 29 May 2025 22:14:07 -0400 (EDT) Subject: |SUCCESS| pw153839 [PATCH] ethdev: fix null error struct in flow con From: dpdklab@iol.unh.edu To: Test Report Cc: dpdk-test-reports@iol.unh.edu In-Reply-To: <20250529055612.115265-1-mkashani@nvidia.com> References: <20250529055612.115265-1-mkashani@nvidia.com> Content-Type: text/plain X-BeenThere: test-report@dpdk.org X-Mailman-Version: 2.1.29 Precedence: list List-Id: automatic DPDK test reports List-Unsubscribe: , List-Archive: List-Post: List-Help: List-Subscribe: , Errors-To: test-report-bounces@dpdk.org Test-Label: iol-compile-arm64-testing Test-Status: SUCCESS http://dpdk.org/patch/153839 _Testing PASS_ Submitter: Maayan Kashani Date: Thursday, May 29 2025 05:56:10 DPDK git baseline: Repo:dpdk Branch: master CommitID:466db466e2938c0d4e7f3dd75435483133f98770 153839 --> testing pass Upstream job id: Generic-DPDK-Compile-Meson#392563 Test environment and result as below: +------------------------------+--------------------+ | Environment | dpdk_meson_compile | +==============================+====================+ | Red Hat Enterprise Linux 9.5 | PASS | +------------------------------+--------------------+ | Ubuntu 20.04 | PASS | +------------------------------+--------------------+ | Debian GNU/Linux 12 | PASS | +------------------------------+--------------------+ | Fedora 40 (ARM) | PASS | +------------------------------+--------------------+ | Fedora 40 (ARM Clang) | PASS | +------------------------------+--------------------+ | Fedora 41 (ARM) | PASS | +------------------------------+--------------------+ | Fedora 41 (ARM Clang) | PASS | +------------------------------+--------------------+ | Ubuntu 24.04 | PASS | +------------------------------+--------------------+ | CentOS Stream 9 (ARM) | PASS | +------------------------------+--------------------+ | CentOS Stream 10 (ARM) | PASS | +------------------------------+--------------------+ | Ubuntu 22.04 | PASS | +------------------------------+--------------------+ Red Hat Enterprise Linux 9.5 Kernel: 5.4 Compiler: gcc gcc (GCC) 11.5.0 20240719 (Red Hat 11.5.0-2) Ubuntu 20.04 Kernel: 5.15 Compiler: aarch64-linux-gnu-gcc gcc (Ubuntu 9.4.0-1ubuntu1~20.04.2) 9.4.0 Debian GNU/Linux 12 Kernel: 5.4 Compiler: gcc gcc (Debian 12.2.0-14) 12.2.0 Fedora 40 (ARM) Kernel: Depends on container host Compiler: gcc 14.2.1 20240912 (Red Hat 14.2.1-3) Fedora 40 (ARM Clang) Kernel: Depends on container host Compiler: clang 18.1.8 (Fedora 18.1.8-1.fc40) Fedora 41 (ARM) Kernel: Depends on container host Compiler: gcc 14.2.1 20240912 (Red Hat 14.2.1-3) Fedora 41 (ARM Clang) Kernel: Depends on container host Compiler: clang 19.1.5 (Fedora 19.1.5-1.fc41) Ubuntu 24.04 Kernel: 5.4 Compiler: gcc gcc (Ubuntu 13.3.0-6ubuntu2~24.04) 13.3.0 CentOS Stream 9 (ARM) Kernel: Depends on container host Compiler: gcc 11.5.0 20240719 (Red Hat 11.5.0-2) CentOS Stream 10 (ARM) Kernel: Depends on container host Compiler: gcc 14.2.1 20241104 (Red Hat 14.2.1-6) Ubuntu 22.04 Kernel: 5.4 Compiler: gcc gcc (Ubuntu 11.4.0-1ubuntu1~22.04) 11.4.0 To view detailed results, visit: https://lab.dpdk.org/results/dashboard/patchsets/33274/ UNH-IOL DPDK Community Lab To manage your email subscriptions, visit: https://lab.dpdk.org/results/dashboard/preferences/subscriptions/