From mboxrd@z Thu Jan 1 00:00:00 1970 Return-Path: Received: from mails.dpdk.org (mails.dpdk.org [217.70.189.124]) by inbox.dpdk.org (Postfix) with ESMTP id 70EE6467DC for ; Fri, 30 May 2025 04:14:33 +0200 (CEST) Received: from mails.dpdk.org (localhost [127.0.0.1]) by mails.dpdk.org (Postfix) with ESMTP id 6CACC40150; Fri, 30 May 2025 04:14:33 +0200 (CEST) Received: from mail-io1-f99.google.com (mail-io1-f99.google.com [209.85.166.99]) by mails.dpdk.org (Postfix) with ESMTP id D070940150 for ; Fri, 30 May 2025 04:14:32 +0200 (CEST) Received: by mail-io1-f99.google.com with SMTP id ca18e2360f4ac-85b3f92c866so51784639f.3 for ; Thu, 29 May 2025 19:14:32 -0700 (PDT) DKIM-Signature: v=1; a=rsa-sha256; c=relaxed/relaxed; d=iol.unh.edu; s=unh-iol; t=1748571272; x=1749176072; darn=dpdk.org; h=references:in-reply-to:cc:to:from:subject:message-id:date:from:to :cc:subject:date:message-id:reply-to; bh=3dZPcWe5H91IA9xx17BnzhymkcPbsskLnajEcrGF0gM=; b=MW/1X44NLHWDlrQLbCOYz3TTT5epcI6qV1gbOlnmEHP0FPHbGiAUa2izegodb5KRFo FgpjA4uU97CrU1eLnlDIOOIzAvwsuy1tHFx6WWKuKomzqD1ETrPtFuKCuy48rtesp5uu unZxiCyBRWDOuhvcC2cDmKjmNFLIJCp2XAyFE= X-Google-DKIM-Signature: v=1; a=rsa-sha256; c=relaxed/relaxed; d=1e100.net; s=20230601; t=1748571272; x=1749176072; h=references:in-reply-to:cc:to:from:subject:message-id:date :x-gm-message-state:from:to:cc:subject:date:message-id:reply-to; bh=3dZPcWe5H91IA9xx17BnzhymkcPbsskLnajEcrGF0gM=; b=QTFS1xYkjBOoUCrN89+/YYjlm6kjztgL0G1GwoEygIvxgOt4u0xudUAqfLQXTq9VBo nqEj6M9Kk6nI9oKXwZwm/hHZZPv3zRf24muc5sw3VIINQ5kX/axdOLwYusdsRHJn2IV5 qHT86AiHepSvEzzTKKXUNPMepeou+Cv9MXwf05v6bI6Zjr7kI49GipiIomn/2fMdpP96 s6KLDPNiofgbjexbyMAcwgrVXV4rpVLNKRXnYZC3OpmgB1QR0FVvcpuiiwWqD1YwBPV6 lFHQ2NjBLMzUjKC8WG6Xk/w+toXl+uGni9Uk6cCJvKHmfpNtzDb1xck+6eaSo5+QrqG4 j1dw== X-Gm-Message-State: AOJu0Yw5ZqEHAMVMeM6K8Q3wsTPDF+xZLot96PlJwA+dY29ruRaNGfpV f9XNa3gPXy+imm/ay2lSIwQuUnCV3uUtFFv68c694uM1KJui1hz4nJe9vXQRR6VVtuM9YsT1rT/ i6RRatXr+We+DSMKXFfAiCrI5k440CFH9WoWcZxhQdZRHhU+4/KcDDTeitjqd X-Gm-Gg: ASbGncuNLhTxj+UnEVv7dMZVT8cxcywVqRSYFaNaiJmytIyyw3msc+TIDco7Y6Jo3hw GOolI7wdBr9sQoOdznL5JmL+lpnCXyBJJfCix6xPySLMIoW2rvgQsr2kPA7L9ODn9qLbBJy4JKv PLTsgZA2Jzm1/9RnW5PmVRhCwSqaBByWtTy6uRODqCfduNyi6eOQu/MQ3y/+6GpW0GcaXTP1lkQ uwJ3cjLfZtoqYzpykHAmjeH03a/LybBu+w5b7Ay6sCX24zspYt0xjDf3fUs8vxMAPXF8HxOlX1S 7mZtWRQ9hsKoD3iOM8EedDR6FBoukP+3pjXZ4kgCkNQ66Aw= X-Google-Smtp-Source: AGHT+IH6N7LUlJlclJhaSgYt2qb+xDZk8BIUuixBk1qauC+YLPArJbiQbyX/pLWibyqVBUZf/ZQdrf3T/phS X-Received: by 2002:a05:6e02:188c:b0:3dc:870a:e07e with SMTP id e9e14a558f8ab-3dd9c988805mr2909495ab.4.1748571272178; Thu, 29 May 2025 19:14:32 -0700 (PDT) Received: from postal.iol.unh.edu (postal.iol.unh.edu. [2606:4100:3880:1234::84]) by smtp-relay.gmail.com with ESMTPS id e9e14a558f8ab-3dd93549590sm1385495ab.42.2025.05.29.19.14.32 (version=TLS1_2 cipher=ECDHE-ECDSA-AES128-GCM-SHA256 bits=128/128); Thu, 29 May 2025 19:14:32 -0700 (PDT) X-Relaying-Domain: iol.unh.edu Date: Thu, 29 May 2025 19:14:32 -0700 (PDT) Message-ID: <68391488.920a0220.fc2a9.78ceSMTPIN_ADDED_MISSING@mx.google.com> Received: from [172.21.0.7] (unknown [172.18.0.240]) by postal.iol.unh.edu (Postfix) with ESMTP id AE9E96052471; Thu, 29 May 2025 22:14:31 -0400 (EDT) Subject: |SUCCESS| pw153863 [PATCH] [v1,1/1] vhost: handle virtqueue locking From: dpdklab@iol.unh.edu To: Test Report Cc: dpdk-test-reports@iol.unh.edu In-Reply-To: <20250529123102.1875027-2-dvo-plv@napatech.com> References: <20250529123102.1875027-2-dvo-plv@napatech.com> Content-Type: text/plain X-BeenThere: test-report@dpdk.org X-Mailman-Version: 2.1.29 Precedence: list List-Id: automatic DPDK test reports List-Unsubscribe: , List-Archive: List-Post: List-Help: List-Subscribe: , Errors-To: test-report-bounces@dpdk.org Test-Label: iol-unit-amd64-testing Test-Status: SUCCESS http://dpdk.org/patch/153863 _Testing PASS_ Submitter: Danylo Vodopianov Date: Thursday, May 29 2025 12:31:02 DPDK git baseline: Repo:dpdk Branch: master CommitID:3223019e73391066cbb0d248051b163e5373034c 153863 --> testing pass Upstream job id: Generic-Unit-Test-DPDK#341915 Test environment and result as below: +-------------------------------+----------------+ | Environment | dpdk_unit_test | +===============================+================+ | CentOS Stream 9 | PASS | +-------------------------------+----------------+ | Debian GNU/Linux 12 | PASS | +-------------------------------+----------------+ | CentOS Stream 10 | PASS | +-------------------------------+----------------+ | Fedora 41 | PASS | +-------------------------------+----------------+ | Fedora 40 | PASS | +-------------------------------+----------------+ | Fedora 40 (Clang) | PASS | +-------------------------------+----------------+ | Ubuntu 20.04 | PASS | +-------------------------------+----------------+ | Ubuntu 22.04 | PASS | +-------------------------------+----------------+ | Red Hat Enterprise Linux 9.5 | PASS | +-------------------------------+----------------+ | Fedora 41 (Clang) | PASS | +-------------------------------+----------------+ | Red Hat Enterprise Linux 8.10 | PASS | +-------------------------------+----------------+ | Ubuntu 24.04 | PASS | +-------------------------------+----------------+ CentOS Stream 9 Kernel: Depends on container host Compiler: gcc 11.5.0 20240719 (Red Hat 11.5.0-2) Debian GNU/Linux 12 Kernel: 5.15 Compiler: gcc gcc (Debian 12.2.0-14) 12.2.0 CentOS Stream 10 Kernel: Depends on container host Compiler: gcc 14.2.1 20241104 (Red Hat 14.2.1-6) Fedora 41 Kernel: Depends on container host Compiler: gcc 14.2.1 20240912 (Red Hat 14.2.1-3) Fedora 40 Kernel: Depends on container host Compiler: gcc 14.2.1 20240912 (Red Hat 14.2.1-3) Fedora 40 (Clang) Kernel: Depends on container host Compiler: clang 18.1.8 (Fedora 18.1.8-1.fc40) Ubuntu 20.04 Kernel: 5.15 Compiler: gcc gcc (Ubuntu 9.4.0-1ubuntu1~20.04.2) 9.4.0 Ubuntu 22.04 Kernel: 5.15 Compiler: gcc gcc (Ubuntu 11.4.0-1ubuntu1~22.04) 11.4.0 Red Hat Enterprise Linux 9.5 Kernel: 5.15 Compiler: gcc gcc (GCC) 11.5.0 20240719 (Red Hat 11.5.0-2) Fedora 41 (Clang) Kernel: Depends on container host Compiler: clang 19.1.5 (Fedora 19.1.5-1.fc41) Red Hat Enterprise Linux 8.10 Kernel: 5.15 Compiler: gcc gcc (GCC) 8.5.0 20210514 (Red Hat 8.5.0-22) Ubuntu 24.04 Kernel: 5.15 Compiler: gcc gcc (Ubuntu 13.3.0-6ubuntu2~24.04) 13.3.0 To view detailed results, visit: https://lab.dpdk.org/results/dashboard/patchsets/33279/ UNH-IOL DPDK Community Lab To manage your email subscriptions, visit: https://lab.dpdk.org/results/dashboard/preferences/subscriptions/