From mboxrd@z Thu Jan 1 00:00:00 1970 Return-Path: Received: from mails.dpdk.org (mails.dpdk.org [217.70.189.124]) by inbox.dpdk.org (Postfix) with ESMTP id 98F0746824 for ; Fri, 30 May 2025 04:15:23 +0200 (CEST) Received: from mails.dpdk.org (localhost [127.0.0.1]) by mails.dpdk.org (Postfix) with ESMTP id 8DAB640150; Fri, 30 May 2025 04:15:23 +0200 (CEST) Received: from mail-qv1-f100.google.com (mail-qv1-f100.google.com [209.85.219.100]) by mails.dpdk.org (Postfix) with ESMTP id 7EBD540150 for ; Fri, 30 May 2025 04:15:22 +0200 (CEST) Received: by mail-qv1-f100.google.com with SMTP id 6a1803df08f44-6f8d8fb211eso15209226d6.3 for ; Thu, 29 May 2025 19:15:22 -0700 (PDT) DKIM-Signature: v=1; a=rsa-sha256; c=relaxed/relaxed; d=iol.unh.edu; s=unh-iol; t=1748571322; x=1749176122; darn=dpdk.org; h=references:in-reply-to:cc:to:from:subject:message-id:date:from:to :cc:subject:date:message-id:reply-to; bh=j9XDu3DgDW49SVRspBmMlay+MLdBIGnX4vRVWtVIgvo=; b=Ww7Yor7noVd24Wik1nfG3zviKcc/edPDdqGM2+SGOYVpm5cEhb4a0QbHWqP65O5aIK Z9Tmq6H43eaV+pPruCMnvhKICP8NbqN8B3bE3yZsiQOQkrsGgh4xofD6PpK3jC+reKzu Eb1X1UmWdqt1b42pPWBS6mEa6t7s8is3R5lQA= X-Google-DKIM-Signature: v=1; a=rsa-sha256; c=relaxed/relaxed; d=1e100.net; s=20230601; t=1748571322; x=1749176122; h=references:in-reply-to:cc:to:from:subject:message-id:date :x-gm-message-state:from:to:cc:subject:date:message-id:reply-to; bh=j9XDu3DgDW49SVRspBmMlay+MLdBIGnX4vRVWtVIgvo=; b=Yluw0riJJ3efNpEoXLp2rkFzYtVGrjAysuvRXmAJaMTh9ltdzg3eqvduMxPyZIZSXJ Vj5HBh4ZXEEkOOjeLxfTh8Smc0XmqKAIQeB8bGEWsNoXTGetPJ00hMzgR+hCEBi5hVAG v3nyBGcbSfsScY/mMc9KuTvqa3BGBNdMCDqnwWsvd1d9KGmUWWFFTOOnje2SZPEYP6y2 h4Pk9OMzxFS0FFayWo76On2MHVfEKUeDSg+1FHvQnLvr/GJqLW/4xAISM41Y0Td2dnjy DeI+Ax/xhEFEL+AqDK47SIOs72v4szBzyO64qcuxaGsNwwRfzZEfyoBrAz9KObQpBnqY OV9Q== X-Gm-Message-State: AOJu0Yxb1n1+E2GqdS1JzAd+WCF2dvL5+Bz5AzBRZq3PtG+3nxpyj/V5 axivKLb7j4O2TZ5S1xktUzFRCCQIm+mbyuxU05gp5l+/WfJlxvqnQld77vligSIxojyCv1WNvvn K7EzTSeUGxtATSm5zru3sNRNDu/7XFaoDVoEaqCxwjnKjtrzkyzbdj2CYJ5ve X-Gm-Gg: ASbGncvyZvi08dysqvmLxf0PhSzdtBHlhHY+hQZVdaa0sXywZGdA5aCtEgFgKbVGJcy t+xPQ6Zwq1AHZ3zrCozLdmSkeLCV1cgcK/+mj4j5DIzaxmyP4vk9AoUk5m2KtAIA6shMfzLQEnH OgGSeQDb56h1aIex023rP8DFhwOjDsT/f9uCOf02D7ZZmB4HUZMj2Iw9kvjRuQQ6uCG8qSj9gGi OE/3Dd99lIC6bAOJ/W6e24Z2r5gPYtt0O8VQoy8Q607g8imHum2zPhhh4fueKyADe2D0pmBMXiM DTICnvA3eBNLGGcwh3ClrxTVB5+PH8eg2nXY X-Google-Smtp-Source: AGHT+IFZyi1G6K5FoRufxlHHqUwQLojRWPyUQssRKvsTj+Aa9p97HadcztpkQgkiVHkGiYj8Qmt03mAVEosf X-Received: by 2002:a05:6214:1d24:b0:6fa:c55e:869 with SMTP id 6a1803df08f44-6facebb2f28mr33588476d6.23.1748571321842; Thu, 29 May 2025 19:15:21 -0700 (PDT) Received: from postal.iol.unh.edu (postal.iol.unh.edu. [2606:4100:3880:1234::84]) by smtp-relay.gmail.com with ESMTPS id 6a1803df08f44-6fac6f467f8sm1293946d6.58.2025.05.29.19.15.21 (version=TLS1_2 cipher=ECDHE-ECDSA-AES128-GCM-SHA256 bits=128/128); Thu, 29 May 2025 19:15:21 -0700 (PDT) X-Relaying-Domain: iol.unh.edu Date: Thu, 29 May 2025 19:15:21 -0700 (PDT) Message-ID: <683914b9.050a0220.125aca.6ef0SMTPIN_ADDED_MISSING@mx.google.com> Received: from [172.21.0.5] (unknown [172.18.0.240]) by postal.iol.unh.edu (Postfix) with ESMTP id 8B9BA6052471; Thu, 29 May 2025 22:15:21 -0400 (EDT) Subject: |SUCCESS| pw153863 [PATCH] [v1,1/1] vhost: handle virtqueue locking From: dpdklab@iol.unh.edu To: Test Report Cc: dpdk-test-reports@iol.unh.edu In-Reply-To: <20250529123102.1875027-2-dvo-plv@napatech.com> References: <20250529123102.1875027-2-dvo-plv@napatech.com> Content-Type: text/plain X-BeenThere: test-report@dpdk.org X-Mailman-Version: 2.1.29 Precedence: list List-Id: automatic DPDK test reports List-Unsubscribe: , List-Archive: List-Post: List-Help: List-Subscribe: , Errors-To: test-report-bounces@dpdk.org Test-Label: iol-abi-testing Test-Status: SUCCESS http://dpdk.org/patch/153863 _Testing PASS_ Submitter: Danylo Vodopianov Date: Thursday, May 29 2025 12:31:02 DPDK git baseline: Repo:dpdk Branch: master CommitID:3223019e73391066cbb0d248051b163e5373034c 153863 --> testing pass Upstream job id: Generic-DPDK-Compile-ABI#128204 Test environment and result as below: +-------------------------------+----------+ | Environment | abi_test | +===============================+==========+ | CentOS Stream 9 | PASS | +-------------------------------+----------+ | CentOS Stream 10 | PASS | +-------------------------------+----------+ | Debian GNU/Linux 12 | PASS | +-------------------------------+----------+ | Fedora 40 | PASS | +-------------------------------+----------+ | Fedora 40 (Clang) | PASS | +-------------------------------+----------+ | Fedora 41 (Clang) | PASS | +-------------------------------+----------+ | Fedora 41 | PASS | +-------------------------------+----------+ | openSUSE Leap 15.6 | PASS | +-------------------------------+----------+ | Red Hat Enterprise Linux 8.10 | PASS | +-------------------------------+----------+ | Red Hat Enterprise Linux 9.5 | PASS | +-------------------------------+----------+ | Ubuntu 24.04 | PASS | +-------------------------------+----------+ | Ubuntu 22.04 | PASS | +-------------------------------+----------+ CentOS Stream 9 Kernel: Depends on container host Compiler: gcc 11.5.0 20240719 (Red Hat 11.5.0-2) CentOS Stream 10 Kernel: Depends on container host Compiler: gcc 14.2.1 20241104 (Red Hat 14.2.1-6) Debian GNU/Linux 12 Kernel: 5.15 Compiler: gcc gcc (Debian 12.2.0-14) 12.2.0 Fedora 40 Kernel: Depends on container host Compiler: gcc 14.2.1 20240912 (Red Hat 14.2.1-3) Fedora 40 (Clang) Kernel: Depends on container host Compiler: clang 18.1.8 (Fedora 18.1.8-1.fc40) Fedora 41 (Clang) Kernel: Depends on container host Compiler: clang 19.1.5 (Fedora 19.1.5-1.fc41) Fedora 41 Kernel: Depends on container host Compiler: gcc 14.2.1 20240912 (Red Hat 14.2.1-3) openSUSE Leap 15.6 Kernel: 5.15 Compiler: gcc gcc (SUSE Linux) 7.5.0 Red Hat Enterprise Linux 8.10 Kernel: 5.15 Compiler: gcc gcc (GCC) 8.5.0 20210514 (Red Hat 8.5.0-22) Red Hat Enterprise Linux 9.5 Kernel: 5.15 Compiler: gcc gcc (GCC) 11.5.0 20240719 (Red Hat 11.5.0-2) Ubuntu 24.04 Kernel: 5.15 Compiler: gcc gcc (Ubuntu 13.3.0-6ubuntu2~24.04) 13.3.0 Ubuntu 22.04 Kernel: 5.15 Compiler: gcc gcc (Ubuntu 11.4.0-1ubuntu1~22.04) 11.4.0 To view detailed results, visit: https://lab.dpdk.org/results/dashboard/patchsets/33279/ UNH-IOL DPDK Community Lab To manage your email subscriptions, visit: https://lab.dpdk.org/results/dashboard/preferences/subscriptions/