From mboxrd@z Thu Jan 1 00:00:00 1970 Return-Path: Received: from mails.dpdk.org (mails.dpdk.org [217.70.189.124]) by inbox.dpdk.org (Postfix) with ESMTP id 0A7AF4682C for ; Fri, 30 May 2025 06:07:49 +0200 (CEST) Received: from mails.dpdk.org (localhost [127.0.0.1]) by mails.dpdk.org (Postfix) with ESMTP id E50A94014F; Fri, 30 May 2025 06:07:48 +0200 (CEST) Received: from mail-pg1-f227.google.com (mail-pg1-f227.google.com [209.85.215.227]) by mails.dpdk.org (Postfix) with ESMTP id 875004014F for ; Fri, 30 May 2025 06:07:47 +0200 (CEST) Received: by mail-pg1-f227.google.com with SMTP id 41be03b00d2f7-af523f4511fso1314274a12.0 for ; Thu, 29 May 2025 21:07:47 -0700 (PDT) DKIM-Signature: v=1; a=rsa-sha256; c=relaxed/relaxed; d=iol.unh.edu; s=unh-iol; t=1748578066; x=1749182866; darn=dpdk.org; h=references:in-reply-to:cc:to:from:subject:message-id:date:from:to :cc:subject:date:message-id:reply-to; bh=8/cAdRrMxJ6YA5R2CZlrKi6sYxqU5lkJzUV155vSDNI=; b=gpJ01JWVsbGfGmTQGNJRmZkI1KlMwL250dIbanIQDSTK12ziNNKlDbtKuPTNzQsRsL cM4zqV292bWxPWxZNuKpHmbaO8AZVlDRksWnzXOaAFaqt3fVx/1p9fNR14/H+ke3W3hS PX9vdMfrmv4F81AnggV3HREEwOgugABjMj/mk= X-Google-DKIM-Signature: v=1; a=rsa-sha256; c=relaxed/relaxed; d=1e100.net; s=20230601; t=1748578066; x=1749182866; h=references:in-reply-to:cc:to:from:subject:message-id:date :x-gm-message-state:from:to:cc:subject:date:message-id:reply-to; bh=8/cAdRrMxJ6YA5R2CZlrKi6sYxqU5lkJzUV155vSDNI=; b=OYPnrTOl3mXWDmtFhkeJ40xGJ1tj5MqYFYVKDyz/YXsa2U3QJuDErOnUK0q6Z4w+KC m/Vsw10dE6deSIsxIj3KBWUxKJ5WSOxG2j1lgEdCjha/ETlZKpe8lvwl/5Ke79n11q83 zFLEo6y3rmiHLVrA9twqJsPd+/Jt3GMp09oGxn9JGwqRVasj6P1suhqMkHv8pfuq/7cE 3/OdTKWZ0EcaPysOyoxa6Qim+fEt8g/UVwgIr0eof+49mmFRoUid1e3UTQKWjtwBBTfM Ar/+i5ATsEeXf/CaY2jKLOAhwryXIi52RWFZn7dxt5kL2THAWgJ0DFxVCX11XhG0QC1w ftQg== X-Gm-Message-State: AOJu0YzB2Imu7EShpnuSyS8h9/9OhAOoHGtrXsRQc6uRplS6PXd4Cvw2 VpA9k3cmy3jOHpUsXLoQIeFE+BtU3easrcrc++YvVn/AM/qKnXza6zIFzLpCmP8RRIPlf4eLyYI kuwbLeFkzX1mpPs289fctcM1RJ6CnOcoX66DIihJTxyk12vS7bPHT7exx7nnD X-Gm-Gg: ASbGncvJ15SZhvopKfAMs+vd0qO1ISzfHvhN9LKIdR36TfcW16fb6gKxJQBLhSQmcxV 0wqbymsf3rOpdDajOs8/Nyu0BSiHe79ElrdHA8URzEyp68GtaAIGXOk7REDwFZ5nDhPb3UnmUzc sKyFRaTEeyTtlgYnIpFChgEY9ZzHOB5cNnQ5fZozIAUBJF0nVczOFkXW8pv9XzWnkk1s5M71hTb 9u5jhthmxqc2aP24sIyyhR47w52KNXGUe6+Enk59AykDzlilnum2iLci/4qUjzLqn8niHNOQZS5 Xbid1a2I6189oaG4eTIEelzHgrAbVjzdzWiE X-Google-Smtp-Source: AGHT+IEox25Hat+buoFlV7Hgl1H6SNKk8ioK1udYY4Gc6QBRYyfhl2McC7vw0GnGGrSPSIrFSuDuXxvmMSqt X-Received: by 2002:a05:6a20:2589:b0:215:d565:3026 with SMTP id adf61e73a8af0-21ad959ea16mr3037725637.20.1748578066458; Thu, 29 May 2025 21:07:46 -0700 (PDT) Received: from postal.iol.unh.edu (postal.iol.unh.edu. [2606:4100:3880:1234::84]) by smtp-relay.gmail.com with ESMTPS id 41be03b00d2f7-b2eceb9d6b3sm37429a12.24.2025.05.29.21.07.46 (version=TLS1_2 cipher=ECDHE-ECDSA-AES128-GCM-SHA256 bits=128/128); Thu, 29 May 2025 21:07:46 -0700 (PDT) X-Relaying-Domain: iol.unh.edu Date: Thu, 29 May 2025 21:07:46 -0700 (PDT) Message-ID: <68392f12.050a0220.31dba9.2803SMTPIN_ADDED_MISSING@mx.google.com> Received: from [172.21.0.5] (unknown [172.18.0.240]) by postal.iol.unh.edu (Postfix) with ESMTP id B68766052471; Fri, 30 May 2025 00:07:45 -0400 (EDT) Subject: |WARNING| pw153862 [PATCH] crypto/virtio: fix PMD cleanup From: dpdklab@iol.unh.edu To: Test Report Cc: dpdk-test-reports@iol.unh.edu In-Reply-To: <20250529114554.35750-1-radu.nicolau@intel.com> References: <20250529114554.35750-1-radu.nicolau@intel.com> Content-Type: text/plain X-BeenThere: test-report@dpdk.org X-Mailman-Version: 2.1.29 Precedence: list List-Id: automatic DPDK test reports List-Unsubscribe: , List-Archive: List-Post: List-Help: List-Subscribe: , Errors-To: test-report-bounces@dpdk.org Test-Label: iol-compile-amd64-testing Test-Status: WARNING http://dpdk.org/patch/153862 _Testing issues_ Submitter: Radu Nicolau Date: Thursday, May 29 2025 11:45:53 DPDK git baseline: Repo:dpdk Branch: master CommitID:d5968c8a2b355a083db1d2f4f00334760389b54c 153862 --> testing issues Upstream job id: Windows-Compile-DPDK-VS#5858 Test environment and result as below: +-------------------------------+--------------------+-------------------+------------------+-------------------+ | Environment | dpdk_meson_compile | dpdk_compile_spdk | dpdk_compile_ovs | dpdk_msvc_compile | +===============================+====================+===================+==================+===================+ | Ubuntu 20.04 | PASS | SKIPPED | SKIPPED | SKIPPED | +-------------------------------+--------------------+-------------------+------------------+-------------------+ | FreeBSD 14.2 | PASS | SKIPPED | SKIPPED | SKIPPED | +-------------------------------+--------------------+-------------------+------------------+-------------------+ | CentOS Stream 9 | PASS | PASS | SKIPPED | SKIPPED | +-------------------------------+--------------------+-------------------+------------------+-------------------+ | CentOS Stream 10 | PASS | SKIPPED | SKIPPED | SKIPPED | +-------------------------------+--------------------+-------------------+------------------+-------------------+ | Debian GNU/Linux 12 | PASS | PASS | SKIPPED | SKIPPED | +-------------------------------+--------------------+-------------------+------------------+-------------------+ | Fedora 40 (Clang) | PASS | WARN | SKIPPED | SKIPPED | +-------------------------------+--------------------+-------------------+------------------+-------------------+ | Fedora 40 | PASS | PASS | SKIPPED | SKIPPED | +-------------------------------+--------------------+-------------------+------------------+-------------------+ | Fedora 41 (Clang) | PASS | WARN | PASS | SKIPPED | +-------------------------------+--------------------+-------------------+------------------+-------------------+ | Fedora 41 | PASS | PASS | PASS | SKIPPED | +-------------------------------+--------------------+-------------------+------------------+-------------------+ | openSUSE Leap 15.6 | PASS | SKIPPED | SKIPPED | SKIPPED | +-------------------------------+--------------------+-------------------+------------------+-------------------+ | Red Hat Enterprise Linux 8.10 | PASS | SKIPPED | SKIPPED | SKIPPED | +-------------------------------+--------------------+-------------------+------------------+-------------------+ | Red Hat Enterprise Linux 9.5 | PASS | SKIPPED | SKIPPED | SKIPPED | +-------------------------------+--------------------+-------------------+------------------+-------------------+ | Ubuntu 22.04 | PASS | PASS | SKIPPED | SKIPPED | +-------------------------------+--------------------+-------------------+------------------+-------------------+ | Ubuntu 24.04 | PASS | PASS | PASS | SKIPPED | +-------------------------------+--------------------+-------------------+------------------+-------------------+ | Alpine | PASS | SKIPPED | SKIPPED | SKIPPED | +-------------------------------+--------------------+-------------------+------------------+-------------------+ | Windows Server 2022 | SKIPPED | SKIPPED | SKIPPED | PASS | +-------------------------------+--------------------+-------------------+------------------+-------------------+ ==== 20 line log output for Fedora 41 (Clang) (dpdk_compile_spdk): ==== --- Failed to get log output --- ==== End log output ==== Ubuntu 20.04 Kernel: 4.19.325-0419325-generic Compiler: gcc (Ubuntu 9.4.0-1ubuntu1~20.04.2) 9.4.0 FreeBSD 14.2 Kernel: 14.2-RELEASE Compiler: clang 18.1.6 CentOS Stream 9 Kernel: Depends on container host Compiler: gcc 11.5.0 20240719 (Red Hat 11.5.0-2) CentOS Stream 10 Kernel: Depends on container host Compiler: gcc 14.2.1 20241104 (Red Hat 14.2.1-6) Debian GNU/Linux 12 Kernel: 5.15 Compiler: gcc gcc (Debian 12.2.0-14) 12.2.0 Fedora 40 (Clang) Kernel: Depends on container host Compiler: clang 18.1.8 (Fedora 18.1.8-1.fc40) Fedora 40 Kernel: Depends on container host Compiler: gcc 14.2.1 20240912 (Red Hat 14.2.1-3) Fedora 41 (Clang) Kernel: Depends on container host Compiler: clang 19.1.5 (Fedora 19.1.5-1.fc41) Fedora 41 Kernel: Depends on container host Compiler: gcc 14.2.1 20240912 (Red Hat 14.2.1-3) openSUSE Leap 15.6 Kernel: 5.15 Compiler: gcc gcc (SUSE Linux) 7.5.0 Red Hat Enterprise Linux 8.10 Kernel: 5.15 Compiler: gcc gcc (GCC) 8.5.0 20210514 (Red Hat 8.5.0-22) Red Hat Enterprise Linux 9.5 Kernel: 5.15 Compiler: gcc gcc (GCC) 11.5.0 20240719 (Red Hat 11.5.0-2) Ubuntu 22.04 Kernel: 5.15 Compiler: gcc gcc (Ubuntu 11.4.0-1ubuntu1~22.04) 11.4.0 Ubuntu 24.04 Kernel: 5.15 Compiler: gcc gcc (Ubuntu 13.3.0-6ubuntu2~24.04) 13.3.0 Alpine Kernel: Depends on container host Compiler: gcc (Alpine 14.2.0) 14.2.0 Windows Server 2022 Kernel: 10.0.20348.2031 Compiler: clang 15.0.7, gcc 14.1.0 (MinGW), and MSVC VS 19.39.33521 To view detailed results, visit: https://lab.dpdk.org/results/dashboard/patchsets/33278/ UNH-IOL DPDK Community Lab To manage your email subscriptions, visit: https://lab.dpdk.org/results/dashboard/preferences/subscriptions/