From mboxrd@z Thu Jan  1 00:00:00 1970
Return-Path: <test-report-bounces@dpdk.org>
Received: from mails.dpdk.org (mails.dpdk.org [217.70.189.124])
	by inbox.dpdk.org (Postfix) with ESMTP id 18B5446826
	for <public@inbox.dpdk.org>; Fri, 30 May 2025 08:43:30 +0200 (CEST)
Received: from mails.dpdk.org (localhost [127.0.0.1])
	by mails.dpdk.org (Postfix) with ESMTP id 125814014F;
	Fri, 30 May 2025 08:43:30 +0200 (CEST)
Received: from mail-il1-f227.google.com (mail-il1-f227.google.com
 [209.85.166.227])
 by mails.dpdk.org (Postfix) with ESMTP id 327084014F
 for <test-report@dpdk.org>; Fri, 30 May 2025 08:43:29 +0200 (CEST)
Received: by mail-il1-f227.google.com with SMTP id
 e9e14a558f8ab-3d91db4f0c3so5160625ab.3
 for <test-report@dpdk.org>; Thu, 29 May 2025 23:43:29 -0700 (PDT)
DKIM-Signature: v=1; a=rsa-sha256; c=relaxed/relaxed;
 d=iol.unh.edu; s=unh-iol; t=1748587408; x=1749192208; darn=dpdk.org;
 h=references:in-reply-to:cc:to:from:subject:message-id:date:from:to
 :cc:subject:date:message-id:reply-to;
 bh=h0duj4DDawnLY4wPR3V+ZcLknxWVaSotMuFn5vw0X0M=;
 b=jnragMnnruQp4JGxjFj1V1DAuwHC9+7eXktaZU3j3dS8nU/6V8UoY4yo2I5twN01Yn
 WH6+0OKQhUKK1O0EQUeMpZxUCacNL44TvkMLzseGZrM6zBxookOWCgKc6tRsHV/QpH33
 f6WsU4EVIDZk+xwmk02/I39Egbssb0Vjho6SY=
X-Google-DKIM-Signature: v=1; a=rsa-sha256; c=relaxed/relaxed;
 d=1e100.net; s=20230601; t=1748587408; x=1749192208;
 h=references:in-reply-to:cc:to:from:subject:message-id:date
 :x-gm-message-state:from:to:cc:subject:date:message-id:reply-to;
 bh=h0duj4DDawnLY4wPR3V+ZcLknxWVaSotMuFn5vw0X0M=;
 b=ZhZR/4Fw4VHwbO04pAnSdxiJdRVyKT0hyQxZnt9zjEk5dnWnr3m897PWXYMWrFeJro
 pg/xgdrtGjwesWhhv4lPM8K+VkQchjkRcg+GQop+3ZJAtgHKjlYvZQUHpnIjNDvap3YE
 ybS7CL7u7kjCA0RQSM15BCSxbgGlCwYUWpXcRIRNiT4hR4FSgTQIpLqUiD8AsutDdMKK
 HwJ28esIFUPt4VwMAn7jeFznUhchixDn2/iJIHSZM1HUujh+M0qXe6iP8ema3jpO+D3N
 7ZrNaIzi1GI5oEpG7zWeuYkIcSEEPh0CuQfAxpc2ESNjlb5J9msgGE1NNtCUwGtkKe1Y
 QLEA==
X-Gm-Message-State: AOJu0YwxoJOaKyglQ18vZ/g00fwuyzvr7XQUfH1bGXkNrCUlPhhlD3JX
 97dgQHEqbh/0sNBDZBzbTlqE3LvMGQmDY2USCDq6OSQs1tQCIhpVGK8MtNnAKj0AAaRdheL7mYO
 tEZxHkW+yppcbtYNeQ/rKtJjbe5Appqf1W31O63lGogkxNd2DtzVJVlPRHZr9
X-Gm-Gg: ASbGncsrVCBuRezU3JlTipMN6htEUGDGXYn19wNqCHofeCSmTGZfiTni8LhMdXcZ1FP
 PJAvly8go0FQwcTp6mMgsCXTat8RXuEi+wEjq3oLlB+cWXQM05EsaFApV6ZL/JIielfDq+zUUEU
 fdFtNpIc6VNfUTTmbqsj37qfDANmNQhLasbj7Ed/W1tmCgM4AzzRHqcS8Bho6hF8wEolzFXl6+f
 Jz0yDFHerkJ6goHZcD5gWAqufFNB3X+Ggy8Tc1RFzAhVFBKLyHraUwL3DAAOk5V+N+804c5upBl
 IIfFORZV0PkQwJS2QQulfK+Z7SdKv+ilelAq
X-Google-Smtp-Source: AGHT+IGUxCqnYF2P7VBTRyClMrnWAKtIDWejx6uOBtik3mzoko7lL52IrRfcmb2Mzi4o50f3/P5z5z5+f7Hh
X-Received: by 2002:a05:6e02:250c:b0:3dc:746b:5455 with SMTP id
 e9e14a558f8ab-3dd9cacc98bmr6445505ab.13.1748587408545; 
 Thu, 29 May 2025 23:43:28 -0700 (PDT)
Received: from postal.iol.unh.edu (postal.iol.unh.edu.
 [2606:4100:3880:1234::84]) by smtp-relay.gmail.com with ESMTPS id
 8926c6da1cb9f-4fdd7edd53csm60067173.55.2025.05.29.23.43.28
 (version=TLS1_2 cipher=ECDHE-ECDSA-AES128-GCM-SHA256 bits=128/128);
 Thu, 29 May 2025 23:43:28 -0700 (PDT)
X-Relaying-Domain: iol.unh.edu
Date: Thu, 29 May 2025 23:43:28 -0700 (PDT)
Message-ID: <68395390.050a0220.37fb69.339dSMTPIN_ADDED_MISSING@mx.google.com>
Received: from [172.21.0.5] (unknown [172.18.0.240])
 by postal.iol.unh.edu (Postfix) with ESMTP id 164FD6052471;
 Fri, 30 May 2025 02:43:28 -0400 (EDT)
Subject: |SUCCESS| pw153803 [PATCH] common/mlx5: avoid warning about operatio
From: dpdklab@iol.unh.edu
To: Test Report <test-report@dpdk.org>
Cc: dpdk-test-reports@iol.unh.edu
In-Reply-To: <1748389285-26763-1-git-send-email-andremue@linux.microsoft.com>
References: <1748389285-26763-1-git-send-email-andremue@linux.microsoft.com>
Content-Type: text/plain
X-BeenThere: test-report@dpdk.org
X-Mailman-Version: 2.1.29
Precedence: list
List-Id: automatic DPDK test reports <test-report.dpdk.org>
List-Unsubscribe: <https://mails.dpdk.org/options/test-report>,
 <mailto:test-report-request@dpdk.org?subject=unsubscribe>
List-Archive: <http://mails.dpdk.org/archives/test-report/>
List-Post: <mailto:test-report@dpdk.org>
List-Help: <mailto:test-report-request@dpdk.org?subject=help>
List-Subscribe: <https://mails.dpdk.org/listinfo/test-report>,
 <mailto:test-report-request@dpdk.org?subject=subscribe>
Errors-To: test-report-bounces@dpdk.org

Test-Label: iol-unit-amd64-testing
Test-Status: SUCCESS
http://dpdk.org/patch/153803

_Testing PASS_

Submitter: Andre Muezerie <andremue@linux.microsoft.com>
Date: Tuesday, May 27 2025 23:41:25 
DPDK git baseline: Repo:dpdk
  Branch: master
  CommitID:e43585acf22932bc32617f092257795122ced05c

153803 --> testing pass

Upstream job id: Generic-Unit-Test-DPDK#342029

Test environment and result as below:

+-------------------------------+----------------+
|          Environment          | dpdk_unit_test |
+===============================+================+
| CentOS Stream 9               | PASS           |
+-------------------------------+----------------+
| CentOS Stream 10              | PASS           |
+-------------------------------+----------------+
| Fedora 41                     | PASS           |
+-------------------------------+----------------+
| Debian GNU/Linux 12           | PASS           |
+-------------------------------+----------------+
| Fedora 40                     | PASS           |
+-------------------------------+----------------+
| Fedora 40 (Clang)             | PASS           |
+-------------------------------+----------------+
| Fedora 41 (Clang)             | PASS           |
+-------------------------------+----------------+
| Red Hat Enterprise Linux 9.5  | PASS           |
+-------------------------------+----------------+
| Ubuntu 20.04                  | PASS           |
+-------------------------------+----------------+
| Ubuntu 22.04                  | PASS           |
+-------------------------------+----------------+
| Red Hat Enterprise Linux 8.10 | PASS           |
+-------------------------------+----------------+
| Ubuntu 24.04                  | PASS           |
+-------------------------------+----------------+


CentOS Stream 9
	Kernel: Depends on container host
	Compiler: gcc 11.5.0 20240719 (Red Hat 11.5.0-2)

CentOS Stream 10
	Kernel: Depends on container host
	Compiler: gcc 14.2.1 20241104 (Red Hat 14.2.1-6)

Fedora 41
	Kernel: Depends on container host
	Compiler: gcc 14.2.1 20240912 (Red Hat 14.2.1-3)

Debian GNU/Linux 12
	Kernel: 5.15
	Compiler: gcc gcc (Debian 12.2.0-14) 12.2.0

Fedora 40
	Kernel: Depends on container host
	Compiler: gcc 14.2.1 20240912 (Red Hat 14.2.1-3)

Fedora 40 (Clang)
	Kernel: Depends on container host
	Compiler: clang 18.1.8 (Fedora 18.1.8-1.fc40)

Fedora 41 (Clang)
	Kernel: Depends on container host
	Compiler: clang 19.1.5 (Fedora 19.1.5-1.fc41)

Red Hat Enterprise Linux 9.5
	Kernel: 5.15
	Compiler: gcc gcc (GCC) 11.5.0 20240719 (Red Hat 11.5.0-2)

Ubuntu 20.04
	Kernel: 5.15
	Compiler: gcc gcc (Ubuntu 9.4.0-1ubuntu1~20.04.2) 9.4.0

Ubuntu 22.04
	Kernel: 5.15
	Compiler: gcc gcc (Ubuntu 11.4.0-1ubuntu1~22.04) 11.4.0

Red Hat Enterprise Linux 8.10
	Kernel: 5.15
	Compiler: gcc gcc (GCC) 8.5.0 20210514 (Red Hat 8.5.0-22)

Ubuntu 24.04
	Kernel: 5.15
	Compiler: gcc gcc (Ubuntu 13.3.0-6ubuntu2~24.04) 13.3.0

To view detailed results, visit:
https://lab.dpdk.org/results/dashboard/patchsets/33261/

UNH-IOL DPDK Community Lab

To manage your email subscriptions, visit: 
https://lab.dpdk.org/results/dashboard/preferences/subscriptions/