From mboxrd@z Thu Jan 1 00:00:00 1970 Return-Path: Received: from mails.dpdk.org (mails.dpdk.org [217.70.189.124]) by inbox.dpdk.org (Postfix) with ESMTP id 2B28146826 for ; Fri, 30 May 2025 08:54:46 +0200 (CEST) Received: from mails.dpdk.org (localhost [127.0.0.1]) by mails.dpdk.org (Postfix) with ESMTP id 048434014F; Fri, 30 May 2025 08:54:46 +0200 (CEST) Received: from mail-pg1-f228.google.com (mail-pg1-f228.google.com [209.85.215.228]) by mails.dpdk.org (Postfix) with ESMTP id 954BC4014F for ; Fri, 30 May 2025 08:54:44 +0200 (CEST) Received: by mail-pg1-f228.google.com with SMTP id 41be03b00d2f7-af5085f7861so1044731a12.3 for ; Thu, 29 May 2025 23:54:44 -0700 (PDT) DKIM-Signature: v=1; a=rsa-sha256; c=relaxed/relaxed; d=iol.unh.edu; s=unh-iol; t=1748588083; x=1749192883; darn=dpdk.org; h=references:in-reply-to:cc:to:from:subject:message-id:date:from:to :cc:subject:date:message-id:reply-to; bh=hWMoXZTXmyiXz/2NswFxUDhg9FK/CbHltzr+DHzUDRI=; b=DEamGup9aaqjLdri7blckILG/Rmg//B3OrkazBe4KWCfGg1a5710pBrnzdiyYVjcqf soUH9whrmbGfIsXoiEDojLuRhngwQimOW9XY3lSdJaAw/UdbuhlGpBcF4nrZTZlXGivZ DJo53itoCRUAAevg1g7TLDfI1Gn3U0q/FIFvM= X-Google-DKIM-Signature: v=1; a=rsa-sha256; c=relaxed/relaxed; d=1e100.net; s=20230601; t=1748588083; x=1749192883; h=references:in-reply-to:cc:to:from:subject:message-id:date :x-gm-message-state:from:to:cc:subject:date:message-id:reply-to; bh=hWMoXZTXmyiXz/2NswFxUDhg9FK/CbHltzr+DHzUDRI=; b=sx8sjNW+DWzmjE2IBaXnZbW3JeiIexOnRkUOfiI3iO4CmD9ksgHEmw1fGP8UZjJ8kt zUkVDfmChBxnjqTUI99YMwy74I2neOzILWx2DV3GqqWngfRXCBovq2b+SfxE9iOwx+A2 w5/tBD9YCtx/l5CSKUjzNOjIXU9305xCNud6jALtxIn/Wl5I0PB0w7z6zS1Y+DDZkw1f ZI1xRKiXCISwutHqLZrQjTe3oJFPQKq5UenMfqUR/fQjD/pvXQ3Sfivfon46HyG7pFUk TbyQIFzhIckwY4WDLDnZGuqL1pJUQwekN5feBr/3FEpMd4ab9aEsOETpCPHArqtWSzP4 NZTQ== X-Gm-Message-State: AOJu0YxebHs3ZfLCvsiWmT/Wa4GW8CxIoROANzJb+jIsj+w+r1BCU6yz J/9Na7dlkBCrubi6SwrdFsWrt07FVXN7VJNVOnGrxT6BGpVT01TNUUXiE+OKAQqsoal6Umw+YDm WqxefcLjCuksrA3JSgd8Eiwqr5hEEFZ6ErtRYPd+rUoNq X-Gm-Gg: ASbGncuB9E2nfOw+vq+6iSyw5vnrGqg0oIhS1m1uPIWjfA8HGvlZu+GKs1v2+rVazfC SASgtIlxhqFITwHWE8xY/xo4DXu2WKSkatt0GqSoVWeE8CtR+eYaEVr3gc4tjHTG1Zimh2CINJS xo9uMRmQtvXTUfVllknzSYzRrdflYVQPlimRKaPxvpRbz4rXfOsOhFLngxbCf4626k2zlzStcuR /HUmvemlzu2TvsXzM7Swquo+p3sA4ByXXnYL1hmG4W7LpPWh7w5F56uhkMvt7bLGUZfyDHCRSVz gQa0YKWhesoZaocOwFhLfMsBaF46Cvxp9Gxbd1b+lGtZuZu+8XJJwypRwBNy6JLZQotXRA== X-Google-Smtp-Source: AGHT+IH4fjosXGEc7ZiBGu35lfX+nBzqVMObKmdFheu1tKMwMYwjgkDvv1kQ3a/WXaPe9GKJX8Y101QJQ60y X-Received: by 2002:a17:90b:4e87:b0:311:e9ac:f5cd with SMTP id 98e67ed59e1d1-31250442130mr1303714a91.23.1748588083200; Thu, 29 May 2025 23:54:43 -0700 (PDT) Received: from postal.iol.unh.edu (postal.iol.unh.edu. [132.177.123.84]) by smtp-relay.gmail.com with ESMTPS id d9443c01a7336-23506c3289dsm1727435ad.54.2025.05.29.23.54.43 (version=TLS1_2 cipher=ECDHE-ECDSA-AES128-GCM-SHA256 bits=128/128); Thu, 29 May 2025 23:54:43 -0700 (PDT) X-Relaying-Domain: iol.unh.edu Date: Thu, 29 May 2025 23:54:43 -0700 (PDT) Message-ID: <68395633.170a0220.9afd4.9558SMTPIN_ADDED_MISSING@mx.google.com> Received: from [172.21.0.5] (unknown [172.18.0.240]) by postal.iol.unh.edu (Postfix) with ESMTP id 5A59B6052471; Fri, 30 May 2025 02:54:42 -0400 (EDT) Subject: |SUCCESS| pw153803 [PATCH] common/mlx5: avoid warning about operatio From: dpdklab@iol.unh.edu To: Test Report Cc: dpdk-test-reports@iol.unh.edu In-Reply-To: <1748389285-26763-1-git-send-email-andremue@linux.microsoft.com> References: <1748389285-26763-1-git-send-email-andremue@linux.microsoft.com> Content-Type: text/plain X-BeenThere: test-report@dpdk.org X-Mailman-Version: 2.1.29 Precedence: list List-Id: automatic DPDK test reports List-Unsubscribe: , List-Archive: List-Post: List-Help: List-Subscribe: , Errors-To: test-report-bounces@dpdk.org Test-Label: iol-abi-testing Test-Status: SUCCESS http://dpdk.org/patch/153803 _Testing PASS_ Submitter: Andre Muezerie Date: Tuesday, May 27 2025 23:41:25 DPDK git baseline: Repo:dpdk Branch: master CommitID:e43585acf22932bc32617f092257795122ced05c 153803 --> testing pass Upstream job id: Generic-DPDK-Compile-ABI#128259 Test environment and result as below: +-------------------------------+----------+ | Environment | abi_test | +===============================+==========+ | CentOS Stream 10 | PASS | +-------------------------------+----------+ | CentOS Stream 9 | PASS | +-------------------------------+----------+ | Debian GNU/Linux 12 | PASS | +-------------------------------+----------+ | Fedora 40 | PASS | +-------------------------------+----------+ | Fedora 41 (Clang) | PASS | +-------------------------------+----------+ | Fedora 41 | PASS | +-------------------------------+----------+ | Fedora 40 (Clang) | PASS | +-------------------------------+----------+ | Red Hat Enterprise Linux 8.10 | PASS | +-------------------------------+----------+ | Red Hat Enterprise Linux 9.5 | PASS | +-------------------------------+----------+ | Ubuntu 22.04 | PASS | +-------------------------------+----------+ | Ubuntu 24.04 | PASS | +-------------------------------+----------+ | openSUSE Leap 15.6 | PASS | +-------------------------------+----------+ CentOS Stream 10 Kernel: Depends on container host Compiler: gcc 14.2.1 20241104 (Red Hat 14.2.1-6) CentOS Stream 9 Kernel: Depends on container host Compiler: gcc 11.5.0 20240719 (Red Hat 11.5.0-2) Debian GNU/Linux 12 Kernel: 5.15 Compiler: gcc gcc (Debian 12.2.0-14) 12.2.0 Fedora 40 Kernel: Depends on container host Compiler: gcc 14.2.1 20240912 (Red Hat 14.2.1-3) Fedora 41 (Clang) Kernel: Depends on container host Compiler: clang 19.1.5 (Fedora 19.1.5-1.fc41) Fedora 41 Kernel: Depends on container host Compiler: gcc 14.2.1 20240912 (Red Hat 14.2.1-3) Fedora 40 (Clang) Kernel: Depends on container host Compiler: clang 18.1.8 (Fedora 18.1.8-1.fc40) Red Hat Enterprise Linux 8.10 Kernel: 5.15 Compiler: gcc gcc (GCC) 8.5.0 20210514 (Red Hat 8.5.0-22) Red Hat Enterprise Linux 9.5 Kernel: 5.15 Compiler: gcc gcc (GCC) 11.5.0 20240719 (Red Hat 11.5.0-2) Ubuntu 22.04 Kernel: 5.15 Compiler: gcc gcc (Ubuntu 11.4.0-1ubuntu1~22.04) 11.4.0 Ubuntu 24.04 Kernel: 5.15 Compiler: gcc gcc (Ubuntu 13.3.0-6ubuntu2~24.04) 13.3.0 openSUSE Leap 15.6 Kernel: 5.15 Compiler: gcc gcc (SUSE Linux) 7.5.0 To view detailed results, visit: https://lab.dpdk.org/results/dashboard/patchsets/33261/ UNH-IOL DPDK Community Lab To manage your email subscriptions, visit: https://lab.dpdk.org/results/dashboard/preferences/subscriptions/