From mboxrd@z Thu Jan  1 00:00:00 1970
Return-Path: <test-report-bounces@dpdk.org>
Received: from mails.dpdk.org (mails.dpdk.org [217.70.189.124])
	by inbox.dpdk.org (Postfix) with ESMTP id EA12046830
	for <public@inbox.dpdk.org>; Fri, 30 May 2025 10:01:29 +0200 (CEST)
Received: from mails.dpdk.org (localhost [127.0.0.1])
	by mails.dpdk.org (Postfix) with ESMTP id D2C9C4021E;
	Fri, 30 May 2025 10:01:29 +0200 (CEST)
Received: from mail-pl1-f226.google.com (mail-pl1-f226.google.com
 [209.85.214.226])
 by mails.dpdk.org (Postfix) with ESMTP id 0CCFE4021E
 for <test-report@dpdk.org>; Fri, 30 May 2025 10:01:29 +0200 (CEST)
Received: by mail-pl1-f226.google.com with SMTP id
 d9443c01a7336-2350b1b9129so9253145ad.0
 for <test-report@dpdk.org>; Fri, 30 May 2025 01:01:28 -0700 (PDT)
DKIM-Signature: v=1; a=rsa-sha256; c=relaxed/relaxed;
 d=iol.unh.edu; s=unh-iol; t=1748592088; x=1749196888; darn=dpdk.org;
 h=references:in-reply-to:cc:to:from:subject:message-id:date:from:to
 :cc:subject:date:message-id:reply-to;
 bh=+k59ieSFxY2c6TnSxtTvjW2AgzK0t6KftYwkqveHbDg=;
 b=OkjWa2d7hP+ApJ6R3ECr9YmdzVOn297SPon2yx3n+b+l3mWNFT/vxCGk6koDtlG+gp
 FMyEpVGGLRyQbyN8Zdb3s6y0steYRk1Z1izg/1kWPy8mHy7Qp3qBSNT135p8SA2EnTHI
 N9JxnTygb/GggvDdT62EgVchiIVlntdz1gFWE=
X-Google-DKIM-Signature: v=1; a=rsa-sha256; c=relaxed/relaxed;
 d=1e100.net; s=20230601; t=1748592088; x=1749196888;
 h=references:in-reply-to:cc:to:from:subject:message-id:date
 :x-gm-message-state:from:to:cc:subject:date:message-id:reply-to;
 bh=+k59ieSFxY2c6TnSxtTvjW2AgzK0t6KftYwkqveHbDg=;
 b=b+iViYj2OlAATtX7nXDGx/o2FtpZwpSFQPeio6vRV5YV47MP8VLES7oWBYbNoxHtM/
 SFZvMJFOyHtK1sirzU41L/Yq5vo2J3T2JuZM8mO6oBE+/PHhhqLwQIr6D3e6V4xXWQKD
 uHCKmbngryO/ww9+zIF4AuXRLheLzVOO+ee6jT13HoEyGDVrmSXtOKuIAi9Plvpo1Zpn
 2Fc5vxHFAhi1et8E2SQoDFvtB+PuuByEcRfWyMSCO2W5buH1TR+qtKS5G616NISLtqmG
 cufyxMkjyuC+blneSHvrBaprwX/BbfhNxdCwSbmWEWhwiGe8bgPk5KDdCvL2Q+xARCOM
 gY7g==
X-Gm-Message-State: AOJu0Yy7IMaIOVNv07/0Xn7fF/cYiNixxw3LOTpYsH6HJsc/Z3mCOWok
 qCxv3tiknyMfhCWxY9NVlzCFDi4aiGaCFlm0O/Dvk9hDlMCMS7dT2fyAS2/pmkN/LouLgvYjjk4
 upWVXDkQT4F9Uat/Rvxc4/c+VHp+ft274MMkrKtDF20Zb
X-Gm-Gg: ASbGncsgQSNeofFnWmIbuesupGQv8CFsnHk/F1C/eCbD40t1vPR0TVLNi50USCzx92C
 ZBSXjpTSCrTuLclKLUqwphx6IJezdRd0R+Six+xiFU/NSxj/AdA90+Skb2tAzvoo3Qz3y9zhyw2
 fMfN8LvyyaZCmn1HTTviiVemTXwxLiHHVr9RboXzNxANcFdXnD/Gxc1Hr+OhyPqGRRHjqx6et22
 FW80S2vOUgjcjzWR8ynkSnRAIeI6EGk7LOtWsGEA1+H8JdMwJHlYA1eTn1nREc7vn0C3U7MCpUL
 V/rMPEtS9sgxIbJtuZt44xaWyQxOwCmhbQAY4wSyQ+P80OSueoKbbQJhKdo=
X-Google-Smtp-Source: AGHT+IFik8JrWVrLE7v+vOC5QIUcCODYzrNh1dpBSUGTx6w05WmhbpK0FMXWaTkMFzwYjbgU6Kp2EsTvrDQB
X-Received: by 2002:a17:903:1665:b0:234:a734:4ac7 with SMTP id
 d9443c01a7336-23539722656mr19853595ad.49.1748592088119; 
 Fri, 30 May 2025 01:01:28 -0700 (PDT)
Received: from postal.iol.unh.edu (postal.iol.unh.edu. [132.177.123.84])
 by smtp-relay.gmail.com with ESMTPS id
 d9443c01a7336-23506d37f9dsm1756325ad.77.2025.05.30.01.01.27
 (version=TLS1_2 cipher=ECDHE-ECDSA-AES128-GCM-SHA256 bits=128/128);
 Fri, 30 May 2025 01:01:28 -0700 (PDT)
X-Relaying-Domain: iol.unh.edu
Date: Fri, 30 May 2025 01:01:28 -0700 (PDT)
Message-ID: <683965d8.170a0220.1ab927.9789SMTPIN_ADDED_MISSING@mx.google.com>
Received: from [172.21.0.5] (unknown [172.18.0.240])
 by postal.iol.unh.edu (Postfix) with ESMTP id 4463C6052471;
 Fri, 30 May 2025 04:01:27 -0400 (EDT)
Subject: |WARNING| pw153806 [PATCH] net/mlx5: avoid setting kernel MTU if not
From: dpdklab@iol.unh.edu
To: Test Report <test-report@dpdk.org>
Cc: dpdk-test-reports@iol.unh.edu
In-Reply-To: <20250528093644.2456221-1-maxime.coquelin@redhat.com>
References: <20250528093644.2456221-1-maxime.coquelin@redhat.com>
Content-Type: text/plain
X-BeenThere: test-report@dpdk.org
X-Mailman-Version: 2.1.29
Precedence: list
List-Id: automatic DPDK test reports <test-report.dpdk.org>
List-Unsubscribe: <https://mails.dpdk.org/options/test-report>,
 <mailto:test-report-request@dpdk.org?subject=unsubscribe>
List-Archive: <http://mails.dpdk.org/archives/test-report/>
List-Post: <mailto:test-report@dpdk.org>
List-Help: <mailto:test-report-request@dpdk.org?subject=help>
List-Subscribe: <https://mails.dpdk.org/listinfo/test-report>,
 <mailto:test-report-request@dpdk.org?subject=subscribe>
Errors-To: test-report-bounces@dpdk.org

Test-Label: iol-compile-amd64-testing
Test-Status: WARNING
http://dpdk.org/patch/153806

_Testing issues_

Submitter: Maxime Coquelin <maxime.coquelin@redhat.com>
Date: Wednesday, May 28 2025 09:36:44 
DPDK git baseline: Repo:dpdk
  Branch: master
  CommitID:e43585acf22932bc32617f092257795122ced05c

153806 --> testing issues

Upstream job id: Windows-Compile-DPDK-Native#28677

Test environment and result as below:

+-------------------------------+--------------------+-------------------+------------------+-------------------+----------------------+
|          Environment          | dpdk_meson_compile | dpdk_compile_spdk | dpdk_compile_ovs | dpdk_msvc_compile | dpdk_mingw64_compile |
+===============================+====================+===================+==================+===================+======================+
| CentOS Stream 9               | PASS               | PASS              | SKIPPED          | SKIPPED           | SKIPPED              |
+-------------------------------+--------------------+-------------------+------------------+-------------------+----------------------+
| Debian GNU/Linux 12           | PASS               | PASS              | SKIPPED          | SKIPPED           | SKIPPED              |
+-------------------------------+--------------------+-------------------+------------------+-------------------+----------------------+
| Fedora 41                     | PASS               | PASS              | PASS             | SKIPPED           | SKIPPED              |
+-------------------------------+--------------------+-------------------+------------------+-------------------+----------------------+
| Fedora 41 (Clang)             | PASS               | WARN              | PASS             | SKIPPED           | SKIPPED              |
+-------------------------------+--------------------+-------------------+------------------+-------------------+----------------------+
| Fedora 40                     | PASS               | PASS              | SKIPPED          | SKIPPED           | SKIPPED              |
+-------------------------------+--------------------+-------------------+------------------+-------------------+----------------------+
| openSUSE Leap 15.6            | PASS               | SKIPPED           | SKIPPED          | SKIPPED           | SKIPPED              |
+-------------------------------+--------------------+-------------------+------------------+-------------------+----------------------+
| Red Hat Enterprise Linux 9.5  | PASS               | SKIPPED           | SKIPPED          | SKIPPED           | SKIPPED              |
+-------------------------------+--------------------+-------------------+------------------+-------------------+----------------------+
| Red Hat Enterprise Linux 8.10 | PASS               | SKIPPED           | SKIPPED          | SKIPPED           | SKIPPED              |
+-------------------------------+--------------------+-------------------+------------------+-------------------+----------------------+
| Ubuntu 20.04                  | PASS               | SKIPPED           | SKIPPED          | SKIPPED           | SKIPPED              |
+-------------------------------+--------------------+-------------------+------------------+-------------------+----------------------+
| Ubuntu 22.04                  | PASS               | PASS              | SKIPPED          | SKIPPED           | SKIPPED              |
+-------------------------------+--------------------+-------------------+------------------+-------------------+----------------------+
| Ubuntu 24.04                  | PASS               | PASS              | PASS             | SKIPPED           | SKIPPED              |
+-------------------------------+--------------------+-------------------+------------------+-------------------+----------------------+
| Alpine                        | PASS               | SKIPPED           | SKIPPED          | SKIPPED           | SKIPPED              |
+-------------------------------+--------------------+-------------------+------------------+-------------------+----------------------+
| FreeBSD 14.2                  | PASS               | SKIPPED           | SKIPPED          | SKIPPED           | SKIPPED              |
+-------------------------------+--------------------+-------------------+------------------+-------------------+----------------------+
| CentOS Stream 10              | PASS               | SKIPPED           | SKIPPED          | SKIPPED           | SKIPPED              |
+-------------------------------+--------------------+-------------------+------------------+-------------------+----------------------+
| Fedora 40 (Clang)             | PASS               | WARN              | SKIPPED          | SKIPPED           | SKIPPED              |
+-------------------------------+--------------------+-------------------+------------------+-------------------+----------------------+
| Windows Server 2022           | SKIPPED            | SKIPPED           | SKIPPED          | PASS              | PASS                 |
+-------------------------------+--------------------+-------------------+------------------+-------------------+----------------------+

==== 20 line log output for Fedora 40 (Clang) (dpdk_compile_spdk): ====
 --- Failed to get log output --- 
==== End log output ====

CentOS Stream 9
	Kernel: Depends on container host
	Compiler: gcc 11.5.0 20240719 (Red Hat 11.5.0-2)

Debian GNU/Linux 12
	Kernel: 5.15
	Compiler: gcc gcc (Debian 12.2.0-14) 12.2.0

Fedora 41
	Kernel: Depends on container host
	Compiler: gcc 14.2.1 20240912 (Red Hat 14.2.1-3)

Fedora 41 (Clang)
	Kernel: Depends on container host
	Compiler: clang 19.1.5 (Fedora 19.1.5-1.fc41)

Fedora 40
	Kernel: Depends on container host
	Compiler: gcc 14.2.1 20240912 (Red Hat 14.2.1-3)

openSUSE Leap 15.6
	Kernel: 5.15
	Compiler: gcc gcc (SUSE Linux) 7.5.0

Red Hat Enterprise Linux 9.5
	Kernel: 5.15
	Compiler: gcc gcc (GCC) 11.5.0 20240719 (Red Hat 11.5.0-2)

Red Hat Enterprise Linux 8.10
	Kernel: 5.15
	Compiler: gcc gcc (GCC) 8.5.0 20210514 (Red Hat 8.5.0-22)

Ubuntu 20.04
	Kernel: 5.15
	Compiler: gcc gcc (Ubuntu 9.4.0-1ubuntu1~20.04.2) 9.4.0

Ubuntu 22.04
	Kernel: 5.15
	Compiler: gcc gcc (Ubuntu 11.4.0-1ubuntu1~22.04) 11.4.0

Ubuntu 24.04
	Kernel: 5.15
	Compiler: gcc gcc (Ubuntu 13.3.0-6ubuntu2~24.04) 13.3.0

Alpine
	Kernel: Depends on container host
	Compiler: gcc (Alpine 14.2.0) 14.2.0

FreeBSD 14.2
	Kernel: 14.2-RELEASE
	Compiler: clang 18.1.6

CentOS Stream 10
	Kernel: Depends on container host
	Compiler: gcc 14.2.1 20241104 (Red Hat 14.2.1-6)

Fedora 40 (Clang)
	Kernel: Depends on container host
	Compiler: clang 18.1.8 (Fedora 18.1.8-1.fc40)

Windows Server 2022
	Kernel: 10.0.20348.2031
	Compiler: clang 15.0.7, gcc 14.1.0 (MinGW), and MSVC VS 19.39.33521

To view detailed results, visit:
https://lab.dpdk.org/results/dashboard/patchsets/33264/

UNH-IOL DPDK Community Lab

To manage your email subscriptions, visit: 
https://lab.dpdk.org/results/dashboard/preferences/subscriptions/