From mboxrd@z Thu Jan  1 00:00:00 1970
Return-Path: <test-report-bounces@dpdk.org>
Received: from mails.dpdk.org (mails.dpdk.org [217.70.189.124])
	by inbox.dpdk.org (Postfix) with ESMTP id 0A70046824
	for <public@inbox.dpdk.org>; Fri, 30 May 2025 11:30:48 +0200 (CEST)
Received: from mails.dpdk.org (localhost [127.0.0.1])
	by mails.dpdk.org (Postfix) with ESMTP id E27E5402B3;
	Fri, 30 May 2025 11:30:47 +0200 (CEST)
Received: from mail-pg1-f228.google.com (mail-pg1-f228.google.com
 [209.85.215.228])
 by mails.dpdk.org (Postfix) with ESMTP id 6EFD1402B3
 for <test-report@dpdk.org>; Fri, 30 May 2025 11:30:46 +0200 (CEST)
Received: by mail-pg1-f228.google.com with SMTP id
 41be03b00d2f7-b1396171fb1so1100062a12.2
 for <test-report@dpdk.org>; Fri, 30 May 2025 02:30:46 -0700 (PDT)
DKIM-Signature: v=1; a=rsa-sha256; c=relaxed/relaxed;
 d=iol.unh.edu; s=unh-iol; t=1748597445; x=1749202245; darn=dpdk.org;
 h=references:in-reply-to:cc:to:from:subject:message-id:date:from:to
 :cc:subject:date:message-id:reply-to;
 bh=pFnz+rgzzswJH2ARKUFw0KN7Bb5LyfMIv7o32OrHzYc=;
 b=H6Y+JVEtGvkZI1RkjvVQkEfSGqFgc2Lk2HAVpSOmGv+DY9Guuhwqsp0DisJn8POLlj
 pHlo9Z795i53hX7po4XaoWHeuONRQheT89h+OHhKsL4t8QZk/NpoPgX6PUtXcrq5TEEl
 HF5DSnVcIbDXTZ3n079cVCrn5h2XOEglX7/PM=
X-Google-DKIM-Signature: v=1; a=rsa-sha256; c=relaxed/relaxed;
 d=1e100.net; s=20230601; t=1748597445; x=1749202245;
 h=references:in-reply-to:cc:to:from:subject:message-id:date
 :x-gm-message-state:from:to:cc:subject:date:message-id:reply-to;
 bh=pFnz+rgzzswJH2ARKUFw0KN7Bb5LyfMIv7o32OrHzYc=;
 b=Bbq88XzRGwa781rSul9qZVoitPx+IM37mKMLR2M98/zX1hZlQ4aqbIf7+8ZYCTZX2/
 Olliq7Bc5FggQE5G8DEDtHXAGMDoK+pZGCSu1Fx+BBcwW0XdmVyR4uUACh8awKoTsinP
 TgUfzPYdSABsq4X4HNO3w66DgTlryfSBedDqy5NE7GCP0R/W97zy8i6sWOqD1nWWAEbK
 j407MPsh0txUh9SxIcNb1MgiHO21OUQvTW8A0cyIKgu+FLtp2uZSq0BSPqL8jQ3AEfom
 qIawuTvdKIM986L8gpyS3O5N8QUYPceB+BJu3zGvThAD/hSmejEHuQu1lySAoVwj9lON
 SFwQ==
X-Gm-Message-State: AOJu0Yy1oz5XwsJJGoA1dl7QDV613UVJtRihZM4fYMmLvokd60e7eDTa
 j2I8jsWaYFRmyoAaTy0ZY8Z3Phr5clT+xvwPCUoeBLfc45pK1+s59AFR599Ntg7Xh8C9RgshPFy
 oRM4dXJtYI8wgSXtIpUNPfTYbZjsMjrvWLJHbN3FL9RvedAFNo98f8NdjnaTN
X-Gm-Gg: ASbGncvaIFKSz149smUUH6dAvLC0hDOe3TVWcYcNeqOdKkMK8ASJ0DUv3ElcyDl3D/2
 Cq1CJAnAKmJSjN2J5QVKDANKd3deb64Mc8BbRp+QVeoMb/gMgK8DUdkwEliX2YUr+dBgotZ2cLA
 5oxsZES/cVsHYYrhgfs1JA3fwRBTxp84QaeJe91NVvcM9/t0xxEHySvyH0ehjsGZE3tsDK+D/F2
 Otfwl6CtPMx0QwfqAykLBfFiKn7FGixJspqLD4TQkD/Wt/6NcypKCD0iKk7WXIbRewZtuZi2xRB
 7qTOeojAM5uuv9dF6ch+hhBpQEPHndhUszQh
X-Google-Smtp-Source: AGHT+IEgQgFan6CRzzYXE/ED/PhcINdFL2/aCApTjaBs7AU6+kVz+NAX9eM2T1jUxiq1BgV4SrEVHH+mvhWt
X-Received: by 2002:a17:90b:17c8:b0:311:9c9a:58c7 with SMTP id
 98e67ed59e1d1-3124150e626mr4770502a91.7.1748597445341; 
 Fri, 30 May 2025 02:30:45 -0700 (PDT)
Received: from postal.iol.unh.edu (postal.iol.unh.edu.
 [2606:4100:3880:1234::84]) by smtp-relay.gmail.com with ESMTPS id
 98e67ed59e1d1-3124e33276dsm61922a91.13.2025.05.30.02.30.45
 (version=TLS1_2 cipher=ECDHE-ECDSA-AES128-GCM-SHA256 bits=128/128);
 Fri, 30 May 2025 02:30:45 -0700 (PDT)
X-Relaying-Domain: iol.unh.edu
Date: Fri, 30 May 2025 02:30:45 -0700 (PDT)
Message-ID: <68397ac5.170a0220.40579.333aSMTPIN_ADDED_MISSING@mx.google.com>
Received: from [172.21.0.5] (unknown [172.18.0.240])
 by postal.iol.unh.edu (Postfix) with ESMTP id 7A2E26052471;
 Fri, 30 May 2025 05:30:44 -0400 (EDT)
Subject: |WARNING| pw153803 [PATCH] common/mlx5: avoid warning about operatio
From: dpdklab@iol.unh.edu
To: Test Report <test-report@dpdk.org>
Cc: dpdk-test-reports@iol.unh.edu
In-Reply-To: <1748389285-26763-1-git-send-email-andremue@linux.microsoft.com>
References: <1748389285-26763-1-git-send-email-andremue@linux.microsoft.com>
Content-Type: text/plain
X-BeenThere: test-report@dpdk.org
X-Mailman-Version: 2.1.29
Precedence: list
List-Id: automatic DPDK test reports <test-report.dpdk.org>
List-Unsubscribe: <https://mails.dpdk.org/options/test-report>,
 <mailto:test-report-request@dpdk.org?subject=unsubscribe>
List-Archive: <http://mails.dpdk.org/archives/test-report/>
List-Post: <mailto:test-report@dpdk.org>
List-Help: <mailto:test-report-request@dpdk.org?subject=help>
List-Subscribe: <https://mails.dpdk.org/listinfo/test-report>,
 <mailto:test-report-request@dpdk.org?subject=subscribe>
Errors-To: test-report-bounces@dpdk.org

Test-Label: iol-compile-amd64-testing
Test-Status: WARNING
http://dpdk.org/patch/153803

_Testing issues_

Submitter: Andre Muezerie <andremue@linux.microsoft.com>
Date: Tuesday, May 27 2025 23:41:25 
DPDK git baseline: Repo:dpdk
  Branch: master
  CommitID:e43585acf22932bc32617f092257795122ced05c

153803 --> testing issues

Upstream job id: Generic-DPDK-Compile-Meson#392858

Test environment and result as below:

+-------------------------------+--------------------+-------------------+------------------+
|          Environment          | dpdk_meson_compile | dpdk_compile_spdk | dpdk_compile_ovs |
+===============================+====================+===================+==================+
| Ubuntu 20.04                  | PASS               | SKIPPED           | SKIPPED          |
+-------------------------------+--------------------+-------------------+------------------+
| FreeBSD 14.2                  | PASS               | SKIPPED           | SKIPPED          |
+-------------------------------+--------------------+-------------------+------------------+
| CentOS Stream 9               | PASS               | PASS              | SKIPPED          |
+-------------------------------+--------------------+-------------------+------------------+
| CentOS Stream 10              | PASS               | SKIPPED           | SKIPPED          |
+-------------------------------+--------------------+-------------------+------------------+
| Debian GNU/Linux 12           | PASS               | PASS              | SKIPPED          |
+-------------------------------+--------------------+-------------------+------------------+
| Fedora 40 (Clang)             | PASS               | WARN              | SKIPPED          |
+-------------------------------+--------------------+-------------------+------------------+
| Fedora 40                     | PASS               | PASS              | SKIPPED          |
+-------------------------------+--------------------+-------------------+------------------+
| Fedora 41 (Clang)             | PASS               | WARN              | PASS             |
+-------------------------------+--------------------+-------------------+------------------+
| Fedora 41                     | PASS               | PASS              | PASS             |
+-------------------------------+--------------------+-------------------+------------------+
| openSUSE Leap 15.6            | PASS               | SKIPPED           | SKIPPED          |
+-------------------------------+--------------------+-------------------+------------------+
| Red Hat Enterprise Linux 8.10 | PASS               | SKIPPED           | SKIPPED          |
+-------------------------------+--------------------+-------------------+------------------+
| Red Hat Enterprise Linux 9.5  | PASS               | SKIPPED           | SKIPPED          |
+-------------------------------+--------------------+-------------------+------------------+
| Ubuntu 22.04                  | PASS               | PASS              | SKIPPED          |
+-------------------------------+--------------------+-------------------+------------------+
| Ubuntu 24.04                  | PASS               | PASS              | PASS             |
+-------------------------------+--------------------+-------------------+------------------+
| Alpine                        | PASS               | SKIPPED           | SKIPPED          |
+-------------------------------+--------------------+-------------------+------------------+

==== 20 line log output for Fedora 41 (Clang) (dpdk_compile_spdk): ====
 --- Failed to get log output --- 
==== End log output ====

Ubuntu 20.04
	Kernel: 4.19
	Compiler: gcc gcc (Ubuntu 9.4.0-1ubuntu1~20.04.2) 9.4.0

FreeBSD 14.2
	Kernel: 14.2-RELEASE
	Compiler: clang 18.1.6

CentOS Stream 9
	Kernel: Depends on container host
	Compiler: gcc 11.5.0 20240719 (Red Hat 11.5.0-2)

CentOS Stream 10
	Kernel: Depends on container host
	Compiler: gcc 14.2.1 20241104 (Red Hat 14.2.1-6)

Debian GNU/Linux 12
	Kernel: 5.15
	Compiler: gcc gcc (Debian 12.2.0-14) 12.2.0

Fedora 40 (Clang)
	Kernel: Depends on container host
	Compiler: clang 18.1.8 (Fedora 18.1.8-1.fc40)

Fedora 40
	Kernel: Depends on container host
	Compiler: gcc 14.2.1 20240912 (Red Hat 14.2.1-3)

Fedora 41 (Clang)
	Kernel: Depends on container host
	Compiler: clang 19.1.5 (Fedora 19.1.5-1.fc41)

Fedora 41
	Kernel: Depends on container host
	Compiler: gcc 14.2.1 20240912 (Red Hat 14.2.1-3)

openSUSE Leap 15.6
	Kernel: 5.15
	Compiler: gcc gcc (SUSE Linux) 7.5.0

Red Hat Enterprise Linux 8.10
	Kernel: 5.15
	Compiler: gcc gcc (GCC) 8.5.0 20210514 (Red Hat 8.5.0-22)

Red Hat Enterprise Linux 9.5
	Kernel: 5.15
	Compiler: gcc gcc (GCC) 11.5.0 20240719 (Red Hat 11.5.0-2)

Ubuntu 22.04
	Kernel: 5.15
	Compiler: gcc gcc (Ubuntu 11.4.0-1ubuntu1~22.04) 11.4.0

Ubuntu 24.04
	Kernel: 5.15
	Compiler: gcc gcc (Ubuntu 13.3.0-6ubuntu2~24.04) 13.3.0

Alpine
	Kernel: Depends on container host
	Compiler: gcc (Alpine 14.2.0) 14.2.0

To view detailed results, visit:
https://lab.dpdk.org/results/dashboard/patchsets/33261/

UNH-IOL DPDK Community Lab

To manage your email subscriptions, visit: 
https://lab.dpdk.org/results/dashboard/preferences/subscriptions/