From mboxrd@z Thu Jan 1 00:00:00 1970 Return-Path: Received: from mails.dpdk.org (mails.dpdk.org [217.70.189.124]) by inbox.dpdk.org (Postfix) with ESMTP id 827D546828 for ; Fri, 30 May 2025 13:48:10 +0200 (CEST) Received: from mails.dpdk.org (localhost [127.0.0.1]) by mails.dpdk.org (Postfix) with ESMTP id 682764021E; Fri, 30 May 2025 13:48:10 +0200 (CEST) Received: from mail-oa1-f99.google.com (mail-oa1-f99.google.com [209.85.160.99]) by mails.dpdk.org (Postfix) with ESMTP id 62A334021E for ; Fri, 30 May 2025 13:48:09 +0200 (CEST) Received: by mail-oa1-f99.google.com with SMTP id 586e51a60fabf-2e41064e247so1055468fac.3 for ; Fri, 30 May 2025 04:48:09 -0700 (PDT) DKIM-Signature: v=1; a=rsa-sha256; c=relaxed/relaxed; d=iol.unh.edu; s=unh-iol; t=1748605688; x=1749210488; darn=dpdk.org; h=references:in-reply-to:cc:to:from:subject:message-id:date:from:to :cc:subject:date:message-id:reply-to; bh=R1v2tUi98DIIvoSXkV99sxPGE6EwXru2AUDGkTvZvMA=; b=g/BqGspT+0SdJoCmvHiwbbdXZorKzl7Y4/FNZ1gC4HDtizIvY4EP98hEWWi1Jp5wcZ kt3pJpykmAm50dv9drRIFe7KdeHKlqMeyhp2tZhKtLb6Ltc1woe6lqvnB+cGHQhyVBOY UClXNVrR7wgDx4sYgtd3KCV59ayM6fntE57rE= X-Google-DKIM-Signature: v=1; a=rsa-sha256; c=relaxed/relaxed; d=1e100.net; s=20230601; t=1748605688; x=1749210488; h=references:in-reply-to:cc:to:from:subject:message-id:date :x-gm-message-state:from:to:cc:subject:date:message-id:reply-to; bh=R1v2tUi98DIIvoSXkV99sxPGE6EwXru2AUDGkTvZvMA=; b=ofd/OlLsB4KAJaCLfeyOXd6zFM2HsEIe0I27Ax7iV1Z9RT743ZCqSlqs881mpUn6Pa hq2c9zHoYYyaekV15zg4I+yxxKdKk0Yze6iNZlYQe/CO6tdvAJRCdcITeQt7hNIJI4oE PJJNVVHHuQRFfgMbf8AZf6fgMg2q2OxZnUO9kDZdsLdzJBspSPGrSps/4AufJ4Uy2p2B XdRoCxUdqcvymTXmcuk4L3v+TFZJoAaAwYuTrDzVwGr/JlItgQ5FBdOxBl9c7RbwS0H7 Z0CjyIk1EKQoDWoPOi+3wFNNS0+wru/USicGqiwdTFCwkAel5j8Aj9N2ffjnZDsylQNT 44ww== X-Gm-Message-State: AOJu0Yy/D8Y0tilxlt/NPiitxOe19hG00mGbFffMY+oF4k3eocdo7sGq DefIKFTY9sJ/Bcs0ZCdjlR6Zq51gUBxPoUeBojRDFhiO5CFlCQkYeiCz1bIrke85WYB+bB9blp3 ptvJw+il4QShUguZ5zt5W0u4vVy2Xl9vye0lSO0v8CUU0 X-Gm-Gg: ASbGnctMPGk/PrDoW7d3KL272YjcV/ZvJ4G25q/1BLvn+45b2wtJzfViumFtO/Nfewp maGCP+ICvqS/2pcJUzSl1Pf3fD4fGIhQ3ptOcb1U2XLe/mlqXLdnLmuLllUeHsEOWyglPhEiY8p n4+FntL/k9KS9tyMGUcBGHQ+09Spy3AewWCBF2vsZAXdkA1lq4CXhuLwD+ZntIDZddFkz7NJW9t 6oAP5DKzlylu8T7iWETVa8MgUeRUkO67DqiUl4XNYdqQmiCtxuBU2GG2ISbOENcPVPNziZB0tAb xiMILv9RWovTwFp7aAxTiJAjS8DAB1L6GYfpr0UuXY6bdkKtPrRcWvhidNU= X-Google-Smtp-Source: AGHT+IE3+zZSHxNeqg0CSlhRkjMGibEO7SM7qIwiS1TJC6onPRp2K3ufOhpCh4Zq6N+7wzoOABiYxURgVrq+ X-Received: by 2002:a05:6870:7a15:b0:2d0:4a2c:7c22 with SMTP id 586e51a60fabf-2e9213106d3mr1249784fac.18.1748605688481; Fri, 30 May 2025 04:48:08 -0700 (PDT) Received: from postal.iol.unh.edu (postal.iol.unh.edu. [132.177.123.84]) by smtp-relay.gmail.com with ESMTPS id 586e51a60fabf-2e906801472sm160412fac.18.2025.05.30.04.48.08 (version=TLS1_2 cipher=ECDHE-ECDSA-AES128-GCM-SHA256 bits=128/128); Fri, 30 May 2025 04:48:08 -0700 (PDT) X-Relaying-Domain: iol.unh.edu Date: Fri, 30 May 2025 04:48:08 -0700 (PDT) Message-ID: <68399af8.050a0220.3a5a3c.8776SMTPIN_ADDED_MISSING@mx.google.com> Received: from [172.21.0.5] (unknown [172.18.0.240]) by postal.iol.unh.edu (Postfix) with ESMTP id 174F36052471; Fri, 30 May 2025 07:48:08 -0400 (EDT) Subject: |WARNING| pw153863 [PATCH] [v1,1/1] vhost: handle virtqueue locking From: dpdklab@iol.unh.edu To: Test Report Cc: dpdk-test-reports@iol.unh.edu In-Reply-To: <20250529123102.1875027-2-dvo-plv@napatech.com> References: <20250529123102.1875027-2-dvo-plv@napatech.com> Content-Type: text/plain X-BeenThere: test-report@dpdk.org X-Mailman-Version: 2.1.29 Precedence: list List-Id: automatic DPDK test reports List-Unsubscribe: , List-Archive: List-Post: List-Help: List-Subscribe: , Errors-To: test-report-bounces@dpdk.org Test-Label: iol-compile-amd64-testing Test-Status: WARNING http://dpdk.org/patch/153863 _Testing issues_ Submitter: Danylo Vodopianov Date: Thursday, May 29 2025 12:31:02 DPDK git baseline: Repo:dpdk Branch: master CommitID:3223019e73391066cbb0d248051b163e5373034c 153863 --> testing issues Upstream job id: Windows-Compile-DPDK-VS#5864 Test environment and result as below: +-------------------------------+--------------------+-------------------+------------------+-------------------+ | Environment | dpdk_meson_compile | dpdk_compile_spdk | dpdk_compile_ovs | dpdk_msvc_compile | +===============================+====================+===================+==================+===================+ | Ubuntu 20.04 | PASS | SKIPPED | SKIPPED | SKIPPED | +-------------------------------+--------------------+-------------------+------------------+-------------------+ | CentOS Stream 9 | PASS | PASS | SKIPPED | SKIPPED | +-------------------------------+--------------------+-------------------+------------------+-------------------+ | CentOS Stream 10 | PASS | SKIPPED | SKIPPED | SKIPPED | +-------------------------------+--------------------+-------------------+------------------+-------------------+ | Debian GNU/Linux 12 | PASS | PASS | SKIPPED | SKIPPED | +-------------------------------+--------------------+-------------------+------------------+-------------------+ | Fedora 40 (Clang) | PASS | WARN | SKIPPED | SKIPPED | +-------------------------------+--------------------+-------------------+------------------+-------------------+ | Fedora 40 | PASS | PASS | SKIPPED | SKIPPED | +-------------------------------+--------------------+-------------------+------------------+-------------------+ | Fedora 41 (Clang) | PASS | WARN | PASS | SKIPPED | +-------------------------------+--------------------+-------------------+------------------+-------------------+ | Fedora 41 | PASS | PASS | PASS | SKIPPED | +-------------------------------+--------------------+-------------------+------------------+-------------------+ | openSUSE Leap 15.6 | PASS | SKIPPED | SKIPPED | SKIPPED | +-------------------------------+--------------------+-------------------+------------------+-------------------+ | Red Hat Enterprise Linux 8.10 | PASS | SKIPPED | SKIPPED | SKIPPED | +-------------------------------+--------------------+-------------------+------------------+-------------------+ | Red Hat Enterprise Linux 9.5 | PASS | SKIPPED | SKIPPED | SKIPPED | +-------------------------------+--------------------+-------------------+------------------+-------------------+ | Ubuntu 22.04 | PASS | PASS | SKIPPED | SKIPPED | +-------------------------------+--------------------+-------------------+------------------+-------------------+ | FreeBSD 14.2 | PASS | SKIPPED | SKIPPED | SKIPPED | +-------------------------------+--------------------+-------------------+------------------+-------------------+ | Ubuntu 24.04 | PASS | PASS | PASS | SKIPPED | +-------------------------------+--------------------+-------------------+------------------+-------------------+ | Alpine | PASS | SKIPPED | SKIPPED | SKIPPED | +-------------------------------+--------------------+-------------------+------------------+-------------------+ | Windows Server 2022 | SKIPPED | SKIPPED | SKIPPED | PASS | +-------------------------------+--------------------+-------------------+------------------+-------------------+ ==== 20 line log output for Fedora 41 (Clang) (dpdk_compile_spdk): ==== --- Failed to get log output --- ==== End log output ==== Ubuntu 20.04 Kernel: 4.19 Compiler: gcc gcc (Ubuntu 9.4.0-1ubuntu1~20.04.2) 9.4.0 CentOS Stream 9 Kernel: Depends on container host Compiler: gcc 11.5.0 20240719 (Red Hat 11.5.0-2) CentOS Stream 10 Kernel: Depends on container host Compiler: gcc 14.2.1 20241104 (Red Hat 14.2.1-6) Debian GNU/Linux 12 Kernel: 5.15 Compiler: gcc gcc (Debian 12.2.0-14) 12.2.0 Fedora 40 (Clang) Kernel: Depends on container host Compiler: clang 18.1.8 (Fedora 18.1.8-1.fc40) Fedora 40 Kernel: Depends on container host Compiler: gcc 14.2.1 20240912 (Red Hat 14.2.1-3) Fedora 41 (Clang) Kernel: Depends on container host Compiler: clang 19.1.5 (Fedora 19.1.5-1.fc41) Fedora 41 Kernel: Depends on container host Compiler: gcc 14.2.1 20240912 (Red Hat 14.2.1-3) openSUSE Leap 15.6 Kernel: 5.15 Compiler: gcc gcc (SUSE Linux) 7.5.0 Red Hat Enterprise Linux 8.10 Kernel: 5.15 Compiler: gcc gcc (GCC) 8.5.0 20210514 (Red Hat 8.5.0-22) Red Hat Enterprise Linux 9.5 Kernel: 5.15 Compiler: gcc gcc (GCC) 11.5.0 20240719 (Red Hat 11.5.0-2) Ubuntu 22.04 Kernel: 5.15 Compiler: gcc gcc (Ubuntu 11.4.0-1ubuntu1~22.04) 11.4.0 FreeBSD 14.2 Kernel: 14.2-RELEASE Compiler: clang 18.1.6 Ubuntu 24.04 Kernel: 5.15 Compiler: gcc gcc (Ubuntu 13.3.0-6ubuntu2~24.04) 13.3.0 Alpine Kernel: Depends on container host Compiler: gcc (Alpine 14.2.0) 14.2.0 Windows Server 2022 Kernel: 10.0.20348.2031 Compiler: clang 15.0.7, gcc 14.1.0 (MinGW), and MSVC VS 19.39.33521 To view detailed results, visit: https://lab.dpdk.org/results/dashboard/patchsets/33279/ UNH-IOL DPDK Community Lab To manage your email subscriptions, visit: https://lab.dpdk.org/results/dashboard/preferences/subscriptions/