From mboxrd@z Thu Jan  1 00:00:00 1970
Return-Path: <test-report-bounces@dpdk.org>
Received: from mails.dpdk.org (mails.dpdk.org [217.70.189.124])
	by inbox.dpdk.org (Postfix) with ESMTP id E8EE846832
	for <public@inbox.dpdk.org>; Fri, 30 May 2025 19:11:27 +0200 (CEST)
Received: from mails.dpdk.org (localhost [127.0.0.1])
	by mails.dpdk.org (Postfix) with ESMTP id E21F640041;
	Fri, 30 May 2025 19:11:27 +0200 (CEST)
Received: from mail-qt1-f226.google.com (mail-qt1-f226.google.com
 [209.85.160.226])
 by mails.dpdk.org (Postfix) with ESMTP id 0537540041
 for <test-report@dpdk.org>; Fri, 30 May 2025 19:11:26 +0200 (CEST)
Received: by mail-qt1-f226.google.com with SMTP id
 d75a77b69052e-4a43d2d5569so24665711cf.0
 for <test-report@dpdk.org>; Fri, 30 May 2025 10:11:25 -0700 (PDT)
DKIM-Signature: v=1; a=rsa-sha256; c=relaxed/relaxed;
 d=iol.unh.edu; s=unh-iol; t=1748625085; x=1749229885; darn=dpdk.org;
 h=references:in-reply-to:cc:to:from:subject:message-id:date:from:to
 :cc:subject:date:message-id:reply-to;
 bh=huhs6dUyCjXF6Wnn+8k0BdLkV58Sfbbk+xUP88Bu7jE=;
 b=aoGqf6WbSI2qc5rp787HWhc+w3V71CfehLRV7H0sHLTIZhSXCJGSYm60CgUZnM2qPi
 of9Iogg8a/dbap2CUILG8cW69oWd258zJTkpFwGSWgjCD32RmoPVtjc5s5fpMB0kiz4p
 cdk7vKSBTFj3kyqOFr236Q6zFQMS6G+l8Yxtk=
X-Google-DKIM-Signature: v=1; a=rsa-sha256; c=relaxed/relaxed;
 d=1e100.net; s=20230601; t=1748625085; x=1749229885;
 h=references:in-reply-to:cc:to:from:subject:message-id:date
 :x-gm-message-state:from:to:cc:subject:date:message-id:reply-to;
 bh=huhs6dUyCjXF6Wnn+8k0BdLkV58Sfbbk+xUP88Bu7jE=;
 b=r/spXsTuvmyoOXhXDB9WGYX0kL/l/1pYfjo/2RMx+gObbiVmWwzScQJG3tzbbypRe2
 F9fceNYvxcofFOtqlOclY7n0diSiE/MyXL8hEDAFzRqueLQ1pohMY2MtikCJ3h+/AlAe
 GvlCJ1K2rVfjdoPeVmS/9rCHGbLR+oct8qdZEWprITw0U5+H9Or6HVkvgsnLxCYYuzye
 AhnSVHFMWhDi+6zicdo5rrxp3FkMr1YYaiFWkiP09fBDjJQqc8atrxG5DqZXWF0Clg1w
 nPPCzKvgv1ozSIQbGpGs9mNBk7koLZi5x32Cmp4NhOv2oPgog8HkHt4yAvftYpUhdpp0
 F+aQ==
X-Gm-Message-State: AOJu0Ywoxi3gliWaQfaZQ2Y8smtistC4qmGcmbKagY0mvifOawx0qyl+
 LLQ4PHuzWt29Q5SgNNd+75jnC/+BFBADx8tqXl3S22jl/gtXbmMsxrflYJDZ3FvKOuDEkWHvmkZ
 KYkkg5SdK1R1So0QixtNLhUoe5KgFWklpPO1mP3kI2slV
X-Gm-Gg: ASbGncswiizKT1ilq0wRtqbXCPfjNwv34XDN/50/qz4swA6zze6Qcg+iit27jpBS0zF
 ofu3ZWrLcILrMubDq7uBZd38sUWMqV4jIZO9T9j8bvRDDId9KYpeXyMOXwsHKkxEEe1J4mzK+t+
 +GFNK6XmECp1wZnu2rSTKBhVWLevrtCO5tGiRKh0zpZTzOqtYCc+LgkJUBWuoUGA1L2ItrEkioq
 qVmqsoVuKAMIE5FPLcs2qwt0jGRKt1+VN8lJfAQvm0g2uuolvDcY258ITmczbyFiht9wFQ3Cevn
 TAUZMqkEC7NR2qUg8XVqyZJvwWELLGSfbGmP2BdQ6LR8VZsBJLd9zoW8tNU=
X-Google-Smtp-Source: AGHT+IEedoeQaxrk8KHwj7pe0xS8mKMRedOyyOV19Qf2q3XM4pbWXz7jBWcllJlr+q3pURjJzt2xD8arPk0t
X-Received: by 2002:a05:622a:558c:b0:4a4:31a0:68d1 with SMTP id
 d75a77b69052e-4a443f13b8cmr43018631cf.21.1748625085261; 
 Fri, 30 May 2025 10:11:25 -0700 (PDT)
Received: from postal.iol.unh.edu (postal.iol.unh.edu. [132.177.123.84])
 by smtp-relay.gmail.com with ESMTPS id
 d75a77b69052e-4a43596bd6csm61791cf.15.2025.05.30.10.11.25
 (version=TLS1_2 cipher=ECDHE-ECDSA-AES128-GCM-SHA256 bits=128/128);
 Fri, 30 May 2025 10:11:25 -0700 (PDT)
X-Relaying-Domain: iol.unh.edu
Date: Fri, 30 May 2025 10:11:25 -0700 (PDT)
Message-ID: <6839e6bd.c80a0220.200a3a.03f9SMTPIN_ADDED_MISSING@mx.google.com>
Received: from [172.17.0.2] (unknown [172.18.0.76])
 by postal.iol.unh.edu (Postfix) with ESMTP id EB95C6052471;
 Fri, 30 May 2025 13:11:24 -0400 (EDT)
Subject: |WARNING| pw153825-153831 [PATCH] [7/7] doc: updates cnxk doc for ne
From: dpdklab@iol.unh.edu
To: Test Report <test-report@dpdk.org>
Cc: dpdk-test-reports@iol.unh.edu
In-Reply-To: <20250528115122.24052-7-rbhansali@marvell.com>
References: <20250528115122.24052-7-rbhansali@marvell.com>
Content-Type: text/plain
X-BeenThere: test-report@dpdk.org
X-Mailman-Version: 2.1.29
Precedence: list
List-Id: automatic DPDK test reports <test-report.dpdk.org>
List-Unsubscribe: <https://mails.dpdk.org/options/test-report>,
 <mailto:test-report-request@dpdk.org?subject=unsubscribe>
List-Archive: <http://mails.dpdk.org/archives/test-report/>
List-Post: <mailto:test-report@dpdk.org>
List-Help: <mailto:test-report-request@dpdk.org?subject=help>
List-Subscribe: <https://mails.dpdk.org/listinfo/test-report>,
 <mailto:test-report-request@dpdk.org?subject=subscribe>
Errors-To: test-report-bounces@dpdk.org

Test-Label: iol-compile-amd64-testing
Test-Status: WARNING
http://dpdk.org/patch/153831

_Testing issues_

Submitter: Rahul Bhansali <rbhansali@marvell.com>
Date: Wednesday, May 28 2025 11:51:22 
DPDK git baseline: Repo:dpdk
  Branch: master
  CommitID:d0f30081805b9b798a059dd26287436018888064

153825-153831 --> testing issues

Upstream job id: Windows-Compile-DPDK-Native#28691

Test environment and result as below:

+-------------------------------+--------------------+-------------------+------------------+-------------------+-------------------------+----------------------+
|          Environment          | dpdk_meson_compile | dpdk_compile_spdk | dpdk_compile_ovs | dpdk_msvc_compile | dpdk_llvm_clang_compile | dpdk_mingw64_compile |
+===============================+====================+===================+==================+===================+=========================+======================+
| Ubuntu 20.04                  | PASS               | SKIPPED           | SKIPPED          | SKIPPED           | SKIPPED                 | SKIPPED              |
+-------------------------------+--------------------+-------------------+------------------+-------------------+-------------------------+----------------------+
| FreeBSD 14.2                  | PASS               | SKIPPED           | SKIPPED          | SKIPPED           | SKIPPED                 | SKIPPED              |
+-------------------------------+--------------------+-------------------+------------------+-------------------+-------------------------+----------------------+
| CentOS Stream 10              | PASS               | SKIPPED           | SKIPPED          | SKIPPED           | SKIPPED                 | SKIPPED              |
+-------------------------------+--------------------+-------------------+------------------+-------------------+-------------------------+----------------------+
| Debian GNU/Linux 12           | PASS               | PASS              | SKIPPED          | SKIPPED           | SKIPPED                 | SKIPPED              |
+-------------------------------+--------------------+-------------------+------------------+-------------------+-------------------------+----------------------+
| Fedora 40 (Clang)             | PASS               | WARN              | SKIPPED          | SKIPPED           | SKIPPED                 | SKIPPED              |
+-------------------------------+--------------------+-------------------+------------------+-------------------+-------------------------+----------------------+
| Fedora 40                     | PASS               | PASS              | SKIPPED          | SKIPPED           | SKIPPED                 | SKIPPED              |
+-------------------------------+--------------------+-------------------+------------------+-------------------+-------------------------+----------------------+
| Fedora 41 (Clang)             | PASS               | WARN              | PASS             | SKIPPED           | SKIPPED                 | SKIPPED              |
+-------------------------------+--------------------+-------------------+------------------+-------------------+-------------------------+----------------------+
| Fedora 41                     | PASS               | PASS              | PASS             | SKIPPED           | SKIPPED                 | SKIPPED              |
+-------------------------------+--------------------+-------------------+------------------+-------------------+-------------------------+----------------------+
| openSUSE Leap 15.6            | PASS               | SKIPPED           | SKIPPED          | SKIPPED           | SKIPPED                 | SKIPPED              |
+-------------------------------+--------------------+-------------------+------------------+-------------------+-------------------------+----------------------+
| Red Hat Enterprise Linux 8.10 | PASS               | SKIPPED           | SKIPPED          | SKIPPED           | SKIPPED                 | SKIPPED              |
+-------------------------------+--------------------+-------------------+------------------+-------------------+-------------------------+----------------------+
| Ubuntu 22.04                  | PASS               | PASS              | SKIPPED          | SKIPPED           | SKIPPED                 | SKIPPED              |
+-------------------------------+--------------------+-------------------+------------------+-------------------+-------------------------+----------------------+
| Ubuntu 24.04                  | PASS               | PASS              | PASS             | SKIPPED           | SKIPPED                 | SKIPPED              |
+-------------------------------+--------------------+-------------------+------------------+-------------------+-------------------------+----------------------+
| Alpine                        | PASS               | SKIPPED           | SKIPPED          | SKIPPED           | SKIPPED                 | SKIPPED              |
+-------------------------------+--------------------+-------------------+------------------+-------------------+-------------------------+----------------------+
| Red Hat Enterprise Linux 9.5  | PASS               | SKIPPED           | SKIPPED          | SKIPPED           | SKIPPED                 | SKIPPED              |
+-------------------------------+--------------------+-------------------+------------------+-------------------+-------------------------+----------------------+
| Windows Server 2022           | SKIPPED            | SKIPPED           | SKIPPED          | PASS              | PASS                    | PASS                 |
+-------------------------------+--------------------+-------------------+------------------+-------------------+-------------------------+----------------------+

==== 20 line log output for Fedora 41 (Clang) (dpdk_compile_spdk): ====
 --- Failed to get log output --- 
==== End log output ====

Ubuntu 20.04
	Kernel: 4.19
	Compiler: gcc gcc (Ubuntu 9.4.0-1ubuntu1~20.04.2) 9.4.0

FreeBSD 14.2
	Kernel: 14.2-RELEASE
	Compiler: clang 18.1.6

CentOS Stream 10
	Kernel: Depends on container host
	Compiler: gcc 14.2.1 20241104 (Red Hat 14.2.1-6)

Debian GNU/Linux 12
	Kernel: 5.15
	Compiler: gcc gcc (Debian 12.2.0-14) 12.2.0

Fedora 40 (Clang)
	Kernel: Depends on container host
	Compiler: clang 18.1.8 (Fedora 18.1.8-1.fc40)

Fedora 40
	Kernel: Depends on container host
	Compiler: gcc 14.2.1 20240912 (Red Hat 14.2.1-3)

Fedora 41 (Clang)
	Kernel: Depends on container host
	Compiler: clang 19.1.5 (Fedora 19.1.5-1.fc41)

Fedora 41
	Kernel: Depends on container host
	Compiler: gcc 14.2.1 20240912 (Red Hat 14.2.1-3)

openSUSE Leap 15.6
	Kernel: 5.15
	Compiler: gcc gcc (SUSE Linux) 7.5.0

Red Hat Enterprise Linux 8.10
	Kernel: 5.15
	Compiler: gcc gcc (GCC) 8.5.0 20210514 (Red Hat 8.5.0-22)

Ubuntu 22.04
	Kernel: 5.15
	Compiler: gcc gcc (Ubuntu 11.4.0-1ubuntu1~22.04) 11.4.0

Ubuntu 24.04
	Kernel: 5.15
	Compiler: gcc gcc (Ubuntu 13.3.0-6ubuntu2~24.04) 13.3.0

Alpine
	Kernel: Depends on container host
	Compiler: gcc (Alpine 14.2.0) 14.2.0

Red Hat Enterprise Linux 9.5
	Kernel: 5.15
	Compiler: gcc gcc (GCC) 11.5.0 20240719 (Red Hat 11.5.0-2)

Windows Server 2022
	Kernel: 10.0.20348.2031
	Compiler: clang 15.0.7, gcc 14.1.0 (MinGW), and MSVC VS 19.39.33521

To view detailed results, visit:
https://lab.dpdk.org/results/dashboard/patchsets/33268/

UNH-IOL DPDK Community Lab

To manage your email subscriptions, visit: 
https://lab.dpdk.org/results/dashboard/preferences/subscriptions/