From mboxrd@z Thu Jan 1 00:00:00 1970 Return-Path: Received: from mails.dpdk.org (mails.dpdk.org [217.70.189.124]) by inbox.dpdk.org (Postfix) with ESMTP id C2D3046834 for ; Fri, 30 May 2025 22:35:02 +0200 (CEST) Received: from mails.dpdk.org (localhost [127.0.0.1]) by mails.dpdk.org (Postfix) with ESMTP id AE8C54025A; Fri, 30 May 2025 22:35:02 +0200 (CEST) Received: from mail-pg1-f225.google.com (mail-pg1-f225.google.com [209.85.215.225]) by mails.dpdk.org (Postfix) with ESMTP id EE38A4025A for ; Fri, 30 May 2025 22:35:00 +0200 (CEST) Received: by mail-pg1-f225.google.com with SMTP id 41be03b00d2f7-b26df8f44e6so2519815a12.2 for ; Fri, 30 May 2025 13:35:00 -0700 (PDT) DKIM-Signature: v=1; a=rsa-sha256; c=relaxed/relaxed; d=iol.unh.edu; s=unh-iol; t=1748637300; x=1749242100; darn=dpdk.org; h=references:in-reply-to:cc:to:from:subject:message-id:date:from:to :cc:subject:date:message-id:reply-to; bh=RlJCXP03UJtu7VccTCK0S0B3NgQzwlj2OZHfkDDT7Ok=; b=XbQmXG4OXoWkr4LXuaJpfSXX2AMUWc4nto5Txn7l2eCYXmfLfpL+9D4Cq7H4VvCZXd fDX6CBIHyuinQ2wYCl1GnhZg4L+c67/rmIGbwdLm02fod5b4X1w9msH+k/1imEYFJmAJ 7Ma0W52XWgxJXc2QB3I/coAuNkESLpWLGxbQ8= X-Google-DKIM-Signature: v=1; a=rsa-sha256; c=relaxed/relaxed; d=1e100.net; s=20230601; t=1748637300; x=1749242100; h=references:in-reply-to:cc:to:from:subject:message-id:date :x-gm-message-state:from:to:cc:subject:date:message-id:reply-to; bh=RlJCXP03UJtu7VccTCK0S0B3NgQzwlj2OZHfkDDT7Ok=; b=tmc+AL2zB3i+I3U/TCPc8WxFQHm/Bp+SXXpH7ldsATRcDPZDK4VgPlcQ0rEWXCqc/0 lqN7L3BtIxHDE6cPLOxDeW/XojuG95aECmFMUAKhNFScBIy1hsjVfoJcKaO1Nv2Z96up Jg/kuL6kqUvkakWV1NkSXPBg6phN1NMvX980t0I8uqH49QVMKKY5Ja1TsPLVW2RgL0Vd t9gXOF/8Y+NZaO+t4I5lKXtk1+jpradchuFT6iTySn82UR3zvDzFzkxPm6poKT6aXp+o L7/O7IojFio/LCc5dgOt5Kt0LSJvUtZy5ES6kpnt/+j7/oo2HPO4CtwicnxXmEVfiIqS aTHA== X-Gm-Message-State: AOJu0YwJqX2ZjMH9RrOigySsuth+eCFY/+aUTESwDjsEDYsgeTADnNP+ dHqbA+L/cV9tuaeufftIMdOQE5/XrMQNSlO6d7+CuYmu1hsA+SKvt8Q4n5WEfOxX9lsHOG75FKS BllopvZz9siZ3iGIN3764ZjciCHE49wLJGAkvtahEdUwD X-Gm-Gg: ASbGncv29olKl4gCSzI26YKTNu3NMgpvepAuCL7BP4jm269P8lKQmhduSWCf1cQFvBe uMICRXOXLU/eikkaLc2bf+Lp7oP51k8keP0ZMxdPcpy1hcoOozEqROug8W3dSPsgGGUmbTv2I7u Zc/njP7GBToNch/TZr8FcOs391p568KmkJxioymLU+RvNQhResf3T+4y/XuqK8dO+qNW1N9OP9o 0WefErh6eqeRrjnALdnT9L7W54VXzgPe6NJRaMXKodqAOvsXGIUrnV5nBgoVMGAu0MVPyOx99h4 eQTMNsOah3n40bfm38JF2NVBvDZ45+gOFM1DjIpMl/eXoINF3pNtW+RTyoU= X-Google-Smtp-Source: AGHT+IG6jntJpYW/Re4fxbHocGV0gPyYB5oiArnJtK8h4VYmQTYCbei1+Yk7jY4x/MU5iwc9D1gTDMRHOJNT X-Received: by 2002:a05:6e02:214f:b0:3dc:787f:2bc8 with SMTP id e9e14a558f8ab-3dd99becdc6mr70532665ab.12.1748637289089; Fri, 30 May 2025 13:34:49 -0700 (PDT) Received: from postal.iol.unh.edu (postal.iol.unh.edu. [132.177.123.84]) by smtp-relay.gmail.com with ESMTPS id e9e14a558f8ab-3dd93547e3esm2247575ab.38.2025.05.30.13.34.49 (version=TLS1_2 cipher=ECDHE-ECDSA-AES128-GCM-SHA256 bits=128/128); Fri, 30 May 2025 13:34:49 -0700 (PDT) X-Relaying-Domain: iol.unh.edu Date: Fri, 30 May 2025 13:34:49 -0700 (PDT) Message-ID: <683a1669.050a0220.360a46.e717SMTPIN_ADDED_MISSING@mx.google.com> Received: from [172.17.0.2] (unknown [172.18.0.74]) by postal.iol.unh.edu (Postfix) with ESMTP id 8CE1D6052471; Fri, 30 May 2025 16:34:48 -0400 (EDT) Subject: |WARNING| pw153839 [PATCH] ethdev: fix null error struct in flow con From: dpdklab@iol.unh.edu To: Test Report Cc: dpdk-test-reports@iol.unh.edu In-Reply-To: <20250529055612.115265-1-mkashani@nvidia.com> References: <20250529055612.115265-1-mkashani@nvidia.com> Content-Type: text/plain X-BeenThere: test-report@dpdk.org X-Mailman-Version: 2.1.29 Precedence: list List-Id: automatic DPDK test reports List-Unsubscribe: , List-Archive: List-Post: List-Help: List-Subscribe: , Errors-To: test-report-bounces@dpdk.org Test-Label: iol-compile-amd64-testing Test-Status: WARNING http://dpdk.org/patch/153839 _Testing issues_ Submitter: Maayan Kashani Date: Thursday, May 29 2025 05:56:10 DPDK git baseline: Repo:dpdk Branch: master CommitID:466db466e2938c0d4e7f3dd75435483133f98770 153839 --> testing issues Upstream job id: Windows-Compile-DPDK-Native#28702 Test environment and result as below: +-------------------------------+--------------------+-------------------+------------------+-------------------+-------------------------+----------------------+ | Environment | dpdk_meson_compile | dpdk_compile_spdk | dpdk_compile_ovs | dpdk_msvc_compile | dpdk_llvm_clang_compile | dpdk_mingw64_compile | +===============================+====================+===================+==================+===================+=========================+======================+ | CentOS Stream 9 | PASS | PASS | SKIPPED | SKIPPED | SKIPPED | SKIPPED | +-------------------------------+--------------------+-------------------+------------------+-------------------+-------------------------+----------------------+ | Debian GNU/Linux 12 | PASS | PASS | SKIPPED | SKIPPED | SKIPPED | SKIPPED | +-------------------------------+--------------------+-------------------+------------------+-------------------+-------------------------+----------------------+ | Fedora 40 | PASS | PASS | SKIPPED | SKIPPED | SKIPPED | SKIPPED | +-------------------------------+--------------------+-------------------+------------------+-------------------+-------------------------+----------------------+ | Fedora 41 (Clang) | PASS | WARN | PASS | SKIPPED | SKIPPED | SKIPPED | +-------------------------------+--------------------+-------------------+------------------+-------------------+-------------------------+----------------------+ | Red Hat Enterprise Linux 8.10 | PASS | SKIPPED | SKIPPED | SKIPPED | SKIPPED | SKIPPED | +-------------------------------+--------------------+-------------------+------------------+-------------------+-------------------------+----------------------+ | Red Hat Enterprise Linux 9.5 | PASS | SKIPPED | SKIPPED | SKIPPED | SKIPPED | SKIPPED | +-------------------------------+--------------------+-------------------+------------------+-------------------+-------------------------+----------------------+ | openSUSE Leap 15.6 | PASS | SKIPPED | SKIPPED | SKIPPED | SKIPPED | SKIPPED | +-------------------------------+--------------------+-------------------+------------------+-------------------+-------------------------+----------------------+ | Ubuntu 20.04 | PASS | SKIPPED | SKIPPED | SKIPPED | SKIPPED | SKIPPED | +-------------------------------+--------------------+-------------------+------------------+-------------------+-------------------------+----------------------+ | Ubuntu 22.04 | PASS | PASS | SKIPPED | SKIPPED | SKIPPED | SKIPPED | +-------------------------------+--------------------+-------------------+------------------+-------------------+-------------------------+----------------------+ | Ubuntu 24.04 | PASS | PASS | PASS | SKIPPED | SKIPPED | SKIPPED | +-------------------------------+--------------------+-------------------+------------------+-------------------+-------------------------+----------------------+ | Alpine | PASS | SKIPPED | SKIPPED | SKIPPED | SKIPPED | SKIPPED | +-------------------------------+--------------------+-------------------+------------------+-------------------+-------------------------+----------------------+ | FreeBSD 14.2 | PASS | SKIPPED | SKIPPED | SKIPPED | SKIPPED | SKIPPED | +-------------------------------+--------------------+-------------------+------------------+-------------------+-------------------------+----------------------+ | Fedora 41 | PASS | PASS | PASS | SKIPPED | SKIPPED | SKIPPED | +-------------------------------+--------------------+-------------------+------------------+-------------------+-------------------------+----------------------+ | Windows Server 2022 | SKIPPED | SKIPPED | SKIPPED | PASS | PASS | PASS | +-------------------------------+--------------------+-------------------+------------------+-------------------+-------------------------+----------------------+ ==== 20 line log output for Fedora 41 (Clang) (dpdk_compile_spdk): ==== --- Failed to get log output --- ==== End log output ==== CentOS Stream 9 Kernel: Depends on container host Compiler: gcc 11.5.0 20240719 (Red Hat 11.5.0-2) Debian GNU/Linux 12 Kernel: 5.15 Compiler: gcc gcc (Debian 12.2.0-14) 12.2.0 Fedora 40 Kernel: Depends on container host Compiler: gcc 14.2.1 20240912 (Red Hat 14.2.1-3) Fedora 41 (Clang) Kernel: Depends on container host Compiler: clang 19.1.5 (Fedora 19.1.5-1.fc41) Red Hat Enterprise Linux 8.10 Kernel: 5.15 Compiler: gcc gcc (GCC) 8.5.0 20210514 (Red Hat 8.5.0-22) Red Hat Enterprise Linux 9.5 Kernel: 5.15 Compiler: gcc gcc (GCC) 11.5.0 20240719 (Red Hat 11.5.0-2) openSUSE Leap 15.6 Kernel: 5.15 Compiler: gcc gcc (SUSE Linux) 7.5.0 Ubuntu 20.04 Kernel: 5.15 Compiler: gcc gcc (Ubuntu 9.4.0-1ubuntu1~20.04.2) 9.4.0 Ubuntu 22.04 Kernel: 5.15 Compiler: gcc gcc (Ubuntu 11.4.0-1ubuntu1~22.04) 11.4.0 Ubuntu 24.04 Kernel: 5.15 Compiler: gcc gcc (Ubuntu 13.3.0-6ubuntu2~24.04) 13.3.0 Alpine Kernel: Depends on container host Compiler: gcc (Alpine 14.2.0) 14.2.0 FreeBSD 14.2 Kernel: 14.2-RELEASE Compiler: clang 18.1.6 Fedora 41 Kernel: Depends on container host Compiler: gcc 14.2.1 20240912 (Red Hat 14.2.1-3) Windows Server 2022 Kernel: 10.0.20348.2031 Compiler: clang 15.0.7, gcc 14.1.0 (MinGW), and MSVC VS 19.39.33521 To view detailed results, visit: https://lab.dpdk.org/results/dashboard/patchsets/33274/ UNH-IOL DPDK Community Lab To manage your email subscriptions, visit: https://lab.dpdk.org/results/dashboard/preferences/subscriptions/