From mboxrd@z Thu Jan 1 00:00:00 1970 Return-Path: Received: from mails.dpdk.org (mails.dpdk.org [217.70.189.124]) by inbox.dpdk.org (Postfix) with ESMTP id D77B746834 for ; Fri, 30 May 2025 22:36:10 +0200 (CEST) Received: from mails.dpdk.org (localhost [127.0.0.1]) by mails.dpdk.org (Postfix) with ESMTP id D16394025A; Fri, 30 May 2025 22:36:10 +0200 (CEST) Received: from mail-il1-f227.google.com (mail-il1-f227.google.com [209.85.166.227]) by mails.dpdk.org (Postfix) with ESMTP id C8E014025A for ; Fri, 30 May 2025 22:36:08 +0200 (CEST) Received: by mail-il1-f227.google.com with SMTP id e9e14a558f8ab-3dc83a8a4afso11776025ab.1 for ; Fri, 30 May 2025 13:36:08 -0700 (PDT) DKIM-Signature: v=1; a=rsa-sha256; c=relaxed/relaxed; d=iol.unh.edu; s=unh-iol; t=1748637368; x=1749242168; darn=dpdk.org; h=references:in-reply-to:cc:to:from:subject:message-id:date:from:to :cc:subject:date:message-id:reply-to; bh=Tj/Eyfzjt6PJT9KS+H2j+S63abpN8nwZJ5TztMLmS7w=; b=L/Q5ClobOyiDg3M/QRyS64VbhCgC8PNl6BZDsaPTYkEgJuRGFTP7RJmBvhhMGRyiEe k44av6us4JA4XOcBVo8wvMNB2wIliCGW6PTWODqo8aqyq1XTslFPKdf+Fjbeq5RXQb2N xuqRH7MkiEt6HW2Nm3fdqhgBLydGI+TyP84aY= X-Google-DKIM-Signature: v=1; a=rsa-sha256; c=relaxed/relaxed; d=1e100.net; s=20230601; t=1748637368; x=1749242168; h=references:in-reply-to:cc:to:from:subject:message-id:date :x-gm-message-state:from:to:cc:subject:date:message-id:reply-to; bh=Tj/Eyfzjt6PJT9KS+H2j+S63abpN8nwZJ5TztMLmS7w=; b=u+U2qbLPtd+T5KJ+YuPSI/JHobLI6tWPTo1xuPNO3CtSF4S2PQmmESMQ8ej4B3hX0q PmrvtLSzse1HYwJSPybSxrXf5wOZuRnjEbwg9zQVm1aMwKumOoEt/VjJQhknlLsajBh4 9LGaqoEFnHBBcQEG8RlQcJarsUtiEUwJtNt5ww26sxRPVQYjPWpVrG37N+nJj2RxSf3O bRpTZW3KA731B4LaIfZG4bnS3nWx7zdB4Kf8gE4/EMcuObap6To5/2PEbPQAz8wqmJej LE2oZ5ZZfV18VGzqm/TFolviy52BmKxUEjmcwE+c9KnHAJOBa8GTr36YObYpXBP/VrUO 1XbA== X-Gm-Message-State: AOJu0YyLdz+bhjs/SZqspLa6k9v6xymc8Gc+G+yvX4JDFjU9CrscX9Rl dobXxp8OO9MHsTSd7xtVGNYg5MusMJfW0XmzJ0+ga91F+25D1RoqC+EySspUdDu/oxAX+eSIdWt LRgeJH4Te6hk0dpSmKVDq6hhF89wCKWLDtrql/UTrFf25 X-Gm-Gg: ASbGncsdaCmBIrVncALczpXm/pVTt3EHwjp1fH6soUCfmWDffMUGQFd/lirZDNd0pJF iXfYVITF5a9NP4PtaZZbu0dz4WxZMcHX3fqSQ6qo/t6HruVYpEgGkPaosOFzxG6prcTq25QZMvP f1ojLxnh1PsgJSfFLsG6QMDknsDbHMOxLSTcm+GUziPJuZA18iPkh3PWLGsGzwyFCHKDutl1B2S nseVEs+XflKufoZN5mNZg4rj+flfooyu8TxhEo6AY5DeyY1BzxLcDCtOrNs+eBH0QBf8h2Qo4Pu V+Io8FsFHq4eXrobUGCga8GGCaGvPsbwJv5SFF6DKR3HjhhzJSwbHiIGyYY= X-Google-Smtp-Source: AGHT+IEdLSDJr/ercOt2fTb3sorC+q9il9fUZAfcoMmHt2OdMGJu0Yj43YInfOvI9oMCQQW59raPNJN/G5ua X-Received: by 2002:a05:6e02:188b:b0:3dc:9d32:6373 with SMTP id e9e14a558f8ab-3dd90c3f103mr101747885ab.2.1748637368117; Fri, 30 May 2025 13:36:08 -0700 (PDT) Received: from postal.iol.unh.edu (postal.iol.unh.edu. [132.177.123.84]) by smtp-relay.gmail.com with ESMTPS id e9e14a558f8ab-3dd935a8175sm2101895ab.58.2025.05.30.13.36.08 (version=TLS1_2 cipher=ECDHE-ECDSA-AES128-GCM-SHA256 bits=128/128); Fri, 30 May 2025 13:36:08 -0700 (PDT) X-Relaying-Domain: iol.unh.edu Date: Fri, 30 May 2025 13:36:08 -0700 (PDT) Message-ID: <683a16b8.050a0220.1f820e.b8f8SMTPIN_ADDED_MISSING@mx.google.com> Received: from [172.17.0.2] (unknown [172.18.0.74]) by postal.iol.unh.edu (Postfix) with ESMTP id B60166052471; Fri, 30 May 2025 16:36:07 -0400 (EDT) Subject: |WARNING| pw153839 [PATCH] ethdev: fix null error struct in flow con From: dpdklab@iol.unh.edu To: Test Report Cc: dpdk-test-reports@iol.unh.edu In-Reply-To: <20250529055612.115265-1-mkashani@nvidia.com> References: <20250529055612.115265-1-mkashani@nvidia.com> Content-Type: text/plain X-BeenThere: test-report@dpdk.org X-Mailman-Version: 2.1.29 Precedence: list List-Id: automatic DPDK test reports List-Unsubscribe: , List-Archive: List-Post: List-Help: List-Subscribe: , Errors-To: test-report-bounces@dpdk.org Test-Label: iol-compile-amd64-testing Test-Status: WARNING http://dpdk.org/patch/153839 _Testing issues_ Submitter: Maayan Kashani Date: Thursday, May 29 2025 05:56:10 DPDK git baseline: Repo:dpdk Branch: master CommitID:466db466e2938c0d4e7f3dd75435483133f98770 153839 --> testing issues Upstream job id: Windows-Compile-DPDK-Native#28703 Test environment and result as below: +-------------------------------+--------------------+-------------------+------------------+-------------------+-------------------------+ | Environment | dpdk_meson_compile | dpdk_compile_spdk | dpdk_compile_ovs | dpdk_msvc_compile | dpdk_llvm_clang_compile | +===============================+====================+===================+==================+===================+=========================+ | Ubuntu 20.04 | PASS | SKIPPED | SKIPPED | SKIPPED | SKIPPED | +-------------------------------+--------------------+-------------------+------------------+-------------------+-------------------------+ | FreeBSD 14.2 | PASS | SKIPPED | SKIPPED | SKIPPED | SKIPPED | +-------------------------------+--------------------+-------------------+------------------+-------------------+-------------------------+ | CentOS Stream 9 | PASS | PASS | SKIPPED | SKIPPED | SKIPPED | +-------------------------------+--------------------+-------------------+------------------+-------------------+-------------------------+ | CentOS Stream 10 | PASS | SKIPPED | SKIPPED | SKIPPED | SKIPPED | +-------------------------------+--------------------+-------------------+------------------+-------------------+-------------------------+ | Debian GNU/Linux 12 | PASS | PASS | SKIPPED | SKIPPED | SKIPPED | +-------------------------------+--------------------+-------------------+------------------+-------------------+-------------------------+ | Fedora 40 (Clang) | PASS | WARN | SKIPPED | SKIPPED | SKIPPED | +-------------------------------+--------------------+-------------------+------------------+-------------------+-------------------------+ | Fedora 40 | PASS | PASS | SKIPPED | SKIPPED | SKIPPED | +-------------------------------+--------------------+-------------------+------------------+-------------------+-------------------------+ | Fedora 41 (Clang) | PASS | WARN | PASS | SKIPPED | SKIPPED | +-------------------------------+--------------------+-------------------+------------------+-------------------+-------------------------+ | Fedora 41 | PASS | PASS | PASS | SKIPPED | SKIPPED | +-------------------------------+--------------------+-------------------+------------------+-------------------+-------------------------+ | openSUSE Leap 15.6 | PASS | SKIPPED | SKIPPED | SKIPPED | SKIPPED | +-------------------------------+--------------------+-------------------+------------------+-------------------+-------------------------+ | Red Hat Enterprise Linux 8.10 | PASS | SKIPPED | SKIPPED | SKIPPED | SKIPPED | +-------------------------------+--------------------+-------------------+------------------+-------------------+-------------------------+ | Red Hat Enterprise Linux 9.5 | PASS | SKIPPED | SKIPPED | SKIPPED | SKIPPED | +-------------------------------+--------------------+-------------------+------------------+-------------------+-------------------------+ | Ubuntu 22.04 | PASS | PASS | SKIPPED | SKIPPED | SKIPPED | +-------------------------------+--------------------+-------------------+------------------+-------------------+-------------------------+ | Ubuntu 24.04 | PASS | PASS | PASS | SKIPPED | SKIPPED | +-------------------------------+--------------------+-------------------+------------------+-------------------+-------------------------+ | Alpine | PASS | SKIPPED | SKIPPED | SKIPPED | SKIPPED | +-------------------------------+--------------------+-------------------+------------------+-------------------+-------------------------+ | Windows Server 2022 | SKIPPED | SKIPPED | SKIPPED | PASS | PASS | +-------------------------------+--------------------+-------------------+------------------+-------------------+-------------------------+ ==== 20 line log output for Fedora 41 (Clang) (dpdk_compile_spdk): ==== --- Failed to get log output --- ==== End log output ==== Ubuntu 20.04 Kernel: 4.19 Compiler: gcc gcc (Ubuntu 9.4.0-1ubuntu1~20.04.2) 9.4.0 FreeBSD 14.2 Kernel: 14.2-RELEASE Compiler: clang 18.1.6 CentOS Stream 9 Kernel: Depends on container host Compiler: gcc 11.5.0 20240719 (Red Hat 11.5.0-2) CentOS Stream 10 Kernel: Depends on container host Compiler: gcc 14.2.1 20241104 (Red Hat 14.2.1-6) Debian GNU/Linux 12 Kernel: 5.15 Compiler: gcc gcc (Debian 12.2.0-14) 12.2.0 Fedora 40 (Clang) Kernel: Depends on container host Compiler: clang 18.1.8 (Fedora 18.1.8-1.fc40) Fedora 40 Kernel: Depends on container host Compiler: gcc 14.2.1 20240912 (Red Hat 14.2.1-3) Fedora 41 (Clang) Kernel: Depends on container host Compiler: clang 19.1.5 (Fedora 19.1.5-1.fc41) Fedora 41 Kernel: Depends on container host Compiler: gcc 14.2.1 20240912 (Red Hat 14.2.1-3) openSUSE Leap 15.6 Kernel: 5.15 Compiler: gcc gcc (SUSE Linux) 7.5.0 Red Hat Enterprise Linux 8.10 Kernel: 5.15 Compiler: gcc gcc (GCC) 8.5.0 20210514 (Red Hat 8.5.0-22) Red Hat Enterprise Linux 9.5 Kernel: 5.15 Compiler: gcc gcc (GCC) 11.5.0 20240719 (Red Hat 11.5.0-2) Ubuntu 22.04 Kernel: 5.15 Compiler: gcc gcc (Ubuntu 11.4.0-1ubuntu1~22.04) 11.4.0 Ubuntu 24.04 Kernel: 5.15 Compiler: gcc gcc (Ubuntu 13.3.0-6ubuntu2~24.04) 13.3.0 Alpine Kernel: Depends on container host Compiler: gcc (Alpine 14.2.0) 14.2.0 Windows Server 2022 Kernel: 10.0.20348.2031 Compiler: clang 15.0.7, gcc 14.1.0 (MinGW), and MSVC VS 19.39.33521 To view detailed results, visit: https://lab.dpdk.org/results/dashboard/patchsets/33274/ UNH-IOL DPDK Community Lab To manage your email subscriptions, visit: https://lab.dpdk.org/results/dashboard/preferences/subscriptions/