From mboxrd@z Thu Jan 1 00:00:00 1970 Return-Path: Received: from mails.dpdk.org (mails.dpdk.org [217.70.189.124]) by inbox.dpdk.org (Postfix) with ESMTP id 682E446834 for ; Sat, 31 May 2025 00:08:31 +0200 (CEST) Received: from mails.dpdk.org (localhost [127.0.0.1]) by mails.dpdk.org (Postfix) with ESMTP id 401FA4025A; Sat, 31 May 2025 00:08:31 +0200 (CEST) Received: from mail-pf1-f226.google.com (mail-pf1-f226.google.com [209.85.210.226]) by mails.dpdk.org (Postfix) with ESMTP id 8AF144025A for ; Sat, 31 May 2025 00:08:30 +0200 (CEST) Received: by mail-pf1-f226.google.com with SMTP id d2e1a72fcca58-742c5f3456fso2080111b3a.0 for ; Fri, 30 May 2025 15:08:30 -0700 (PDT) DKIM-Signature: v=1; a=rsa-sha256; c=relaxed/relaxed; d=iol.unh.edu; s=unh-iol; t=1748642909; x=1749247709; darn=dpdk.org; h=references:in-reply-to:cc:to:from:subject:message-id:date:from:to :cc:subject:date:message-id:reply-to; bh=X3CBcCOd7qcwAnBHJkb+/6vymGapUrBZFAKoEVnoWJw=; b=gHQ8oQqBMt2DriNQMD1KpFgPQORH6QvSvtCcqv+yD9hmX7hGdVuzBGOyd9ElAGiDkl UIiV7Z4TTcp5RDlg0qZCja4v5YRSIvfd4NJQxCYbvI3envDYaFNSxd5HWjVwaP7SkuC4 gASIiLdhPCWiaq/CsFICXL1ZIQ6/rPSDzS0ww= X-Google-DKIM-Signature: v=1; a=rsa-sha256; c=relaxed/relaxed; d=1e100.net; s=20230601; t=1748642909; x=1749247709; h=references:in-reply-to:cc:to:from:subject:message-id:date :x-gm-message-state:from:to:cc:subject:date:message-id:reply-to; bh=X3CBcCOd7qcwAnBHJkb+/6vymGapUrBZFAKoEVnoWJw=; b=T713x5lmJzWFKO31tI9A2sfZ03VkkODwrkYv51zDAq6DogW2/rKFDTPvhHE4d6yhE6 1BSNx4jNpxnkLxWkWsInlIkbvYEQysyaCbToAcPIXGJjvdpl0i3XFKcD588GhvkPT7Cp YhH8zuCjXIPIHqDnhiApiGbNP38MCoBggDrsyVMPuwoYcJCZ/6psX0EU5YuNAYeCEB0c VOAA5lhzCc4Cn2qJ2mtlmISEpj6+rTwB97VxQ4Zi5e6ylFTwJ9C5FF6cL5zgNoFV0Fby RZT2hGmT2+Ijmr0Zr28I0yAZ1pC/IvGySwnkF5oiSUSpBM3lJ/eeGFYBii1/0HtTEwPI YE0Q== X-Gm-Message-State: AOJu0Yzgk8+z5kotk2n/o3jc12fyZuPP0eRZ6Wy3cTDUyEjhyEmbBzc7 doJzAhRwylNn3U7ozUTmcI8ShAqJM+Z9NO2o/Z+VLPwXF/2oH9tmB2KEADrmVPjcACGjZ1gnp5V VW2NtMQf78cXqy+hLFfDJvsnmXLpQVlRFsJ6W01rBG3IR X-Gm-Gg: ASbGncu7FdffyzcYIhoo/Ao9MntgchfvnqK0wjJ2f9whO6LpWjPk11PtscFT6iFh/uW cjOJwBsoX/lVKPCSZD/2C8DXGV4aOMWcXiuIMOb+sT1Kjiy26dZYRbn9xnJa2zhf+kkFoQLAoQ4 telvJIgcfleIU8HH1lGxw2zF5WZ5fvdjKROgkLXbjYlKsgAcZ1uZib94wajJAMNscnEgI0rmNAT 4kQ0dOUtssWJETU//aAr+0F46HxODPDtXNBqQEE1crwP7m3m9Vk73fd0cxA0QukVcnwm/GYKz0t /0dHy9QoO1YO0TJ2hjvY4s1P+ftod6ilGZijLwE6IHiHd7mi/EJlOeQo6bhKzENhO4KRlw== X-Google-Smtp-Source: AGHT+IEJJq2qFHDDfXURK5AY2VG+yHZTugxD4eeNNmUrhgTF3G4cAC0ECJAKS80dkDc/7zqEbRjszKFs4gXH X-Received: by 2002:a05:6a21:3418:b0:215:edce:4e2c with SMTP id adf61e73a8af0-21ad97994d9mr7266884637.28.1748642909588; Fri, 30 May 2025 15:08:29 -0700 (PDT) Received: from postal.iol.unh.edu (postal.iol.unh.edu. [132.177.123.84]) by smtp-relay.gmail.com with ESMTPS id d2e1a72fcca58-747afee0b65sm263806b3a.14.2025.05.30.15.08.29 (version=TLS1_2 cipher=ECDHE-ECDSA-AES128-GCM-SHA256 bits=128/128); Fri, 30 May 2025 15:08:29 -0700 (PDT) X-Relaying-Domain: iol.unh.edu Date: Fri, 30 May 2025 15:08:29 -0700 (PDT) Message-ID: <683a2c5d.050a0220.30104a.e311SMTPIN_ADDED_MISSING@mx.google.com> Received: from [172.17.0.2] (unknown [172.18.0.76]) by postal.iol.unh.edu (Postfix) with ESMTP id 0CA186052471; Fri, 30 May 2025 18:08:29 -0400 (EDT) Subject: |WARNING| pw153863 [PATCH] [v1,1/1] vhost: handle virtqueue locking From: dpdklab@iol.unh.edu To: Test Report Cc: dpdk-test-reports@iol.unh.edu In-Reply-To: <20250529123102.1875027-2-dvo-plv@napatech.com> References: <20250529123102.1875027-2-dvo-plv@napatech.com> Content-Type: text/plain X-BeenThere: test-report@dpdk.org X-Mailman-Version: 2.1.29 Precedence: list List-Id: automatic DPDK test reports List-Unsubscribe: , List-Archive: List-Post: List-Help: List-Subscribe: , Errors-To: test-report-bounces@dpdk.org Test-Label: iol-compile-amd64-testing Test-Status: WARNING http://dpdk.org/patch/153863 _Testing issues_ Submitter: Danylo Vodopianov Date: Thursday, May 29 2025 12:31:02 DPDK git baseline: Repo:dpdk Branch: master CommitID:3223019e73391066cbb0d248051b163e5373034c 153863 --> testing issues Upstream job id: Windows-Compile-DPDK-Native#28717 Test environment and result as below: +-------------------------------+--------------------+-------------------+------------------+-------------------+-------------------------+ | Environment | dpdk_meson_compile | dpdk_compile_spdk | dpdk_compile_ovs | dpdk_msvc_compile | dpdk_llvm_clang_compile | +===============================+====================+===================+==================+===================+=========================+ | Ubuntu 20.04 | PASS | SKIPPED | SKIPPED | SKIPPED | SKIPPED | +-------------------------------+--------------------+-------------------+------------------+-------------------+-------------------------+ | CentOS Stream 9 | PASS | PASS | SKIPPED | SKIPPED | SKIPPED | +-------------------------------+--------------------+-------------------+------------------+-------------------+-------------------------+ | CentOS Stream 10 | PASS | SKIPPED | SKIPPED | SKIPPED | SKIPPED | +-------------------------------+--------------------+-------------------+------------------+-------------------+-------------------------+ | Debian GNU/Linux 12 | PASS | PASS | SKIPPED | SKIPPED | SKIPPED | +-------------------------------+--------------------+-------------------+------------------+-------------------+-------------------------+ | Fedora 40 (Clang) | PASS | WARN | SKIPPED | SKIPPED | SKIPPED | +-------------------------------+--------------------+-------------------+------------------+-------------------+-------------------------+ | Fedora 40 | PASS | PASS | SKIPPED | SKIPPED | SKIPPED | +-------------------------------+--------------------+-------------------+------------------+-------------------+-------------------------+ | Fedora 41 (Clang) | PASS | WARN | PASS | SKIPPED | SKIPPED | +-------------------------------+--------------------+-------------------+------------------+-------------------+-------------------------+ | Fedora 41 | PASS | PASS | PASS | SKIPPED | SKIPPED | +-------------------------------+--------------------+-------------------+------------------+-------------------+-------------------------+ | openSUSE Leap 15.6 | PASS | SKIPPED | SKIPPED | SKIPPED | SKIPPED | +-------------------------------+--------------------+-------------------+------------------+-------------------+-------------------------+ | Red Hat Enterprise Linux 8.10 | PASS | SKIPPED | SKIPPED | SKIPPED | SKIPPED | +-------------------------------+--------------------+-------------------+------------------+-------------------+-------------------------+ | Red Hat Enterprise Linux 9.5 | PASS | SKIPPED | SKIPPED | SKIPPED | SKIPPED | +-------------------------------+--------------------+-------------------+------------------+-------------------+-------------------------+ | Ubuntu 22.04 | PASS | PASS | SKIPPED | SKIPPED | SKIPPED | +-------------------------------+--------------------+-------------------+------------------+-------------------+-------------------------+ | FreeBSD 14.2 | PASS | SKIPPED | SKIPPED | SKIPPED | SKIPPED | +-------------------------------+--------------------+-------------------+------------------+-------------------+-------------------------+ | Ubuntu 24.04 | PASS | PASS | PASS | SKIPPED | SKIPPED | +-------------------------------+--------------------+-------------------+------------------+-------------------+-------------------------+ | Alpine | PASS | SKIPPED | SKIPPED | SKIPPED | SKIPPED | +-------------------------------+--------------------+-------------------+------------------+-------------------+-------------------------+ | Windows Server 2022 | SKIPPED | SKIPPED | SKIPPED | PASS | PASS | +-------------------------------+--------------------+-------------------+------------------+-------------------+-------------------------+ ==== 20 line log output for Fedora 41 (Clang) (dpdk_compile_spdk): ==== --- Failed to get log output --- ==== End log output ==== Ubuntu 20.04 Kernel: 4.19 Compiler: gcc gcc (Ubuntu 9.4.0-1ubuntu1~20.04.2) 9.4.0 CentOS Stream 9 Kernel: Depends on container host Compiler: gcc 11.5.0 20240719 (Red Hat 11.5.0-2) CentOS Stream 10 Kernel: Depends on container host Compiler: gcc 14.2.1 20241104 (Red Hat 14.2.1-6) Debian GNU/Linux 12 Kernel: 5.15 Compiler: gcc gcc (Debian 12.2.0-14) 12.2.0 Fedora 40 (Clang) Kernel: Depends on container host Compiler: clang 18.1.8 (Fedora 18.1.8-1.fc40) Fedora 40 Kernel: Depends on container host Compiler: gcc 14.2.1 20240912 (Red Hat 14.2.1-3) Fedora 41 (Clang) Kernel: Depends on container host Compiler: clang 19.1.5 (Fedora 19.1.5-1.fc41) Fedora 41 Kernel: Depends on container host Compiler: gcc 14.2.1 20240912 (Red Hat 14.2.1-3) openSUSE Leap 15.6 Kernel: 5.15 Compiler: gcc gcc (SUSE Linux) 7.5.0 Red Hat Enterprise Linux 8.10 Kernel: 5.15 Compiler: gcc gcc (GCC) 8.5.0 20210514 (Red Hat 8.5.0-22) Red Hat Enterprise Linux 9.5 Kernel: 5.15 Compiler: gcc gcc (GCC) 11.5.0 20240719 (Red Hat 11.5.0-2) Ubuntu 22.04 Kernel: 5.15 Compiler: gcc gcc (Ubuntu 11.4.0-1ubuntu1~22.04) 11.4.0 FreeBSD 14.2 Kernel: 14.2-RELEASE Compiler: clang 18.1.6 Ubuntu 24.04 Kernel: 5.15 Compiler: gcc gcc (Ubuntu 13.3.0-6ubuntu2~24.04) 13.3.0 Alpine Kernel: Depends on container host Compiler: gcc (Alpine 14.2.0) 14.2.0 Windows Server 2022 Kernel: 10.0.20348.2031 Compiler: clang 15.0.7, gcc 14.1.0 (MinGW), and MSVC VS 19.39.33521 To view detailed results, visit: https://lab.dpdk.org/results/dashboard/patchsets/33279/ UNH-IOL DPDK Community Lab To manage your email subscriptions, visit: https://lab.dpdk.org/results/dashboard/preferences/subscriptions/