From mboxrd@z Thu Jan  1 00:00:00 1970
Return-Path: <test-report-bounces@dpdk.org>
Received: from mails.dpdk.org (mails.dpdk.org [217.70.189.124])
	by inbox.dpdk.org (Postfix) with ESMTP id 1D3F146834
	for <public@inbox.dpdk.org>; Sat, 31 May 2025 00:43:47 +0200 (CEST)
Received: from mails.dpdk.org (localhost [127.0.0.1])
	by mails.dpdk.org (Postfix) with ESMTP id 158324025A;
	Sat, 31 May 2025 00:43:47 +0200 (CEST)
Received: from mail-pl1-f227.google.com (mail-pl1-f227.google.com
 [209.85.214.227])
 by mails.dpdk.org (Postfix) with ESMTP id 484FE4025A
 for <test-report@dpdk.org>; Sat, 31 May 2025 00:43:45 +0200 (CEST)
Received: by mail-pl1-f227.google.com with SMTP id
 d9443c01a7336-23526264386so15131655ad.2
 for <test-report@dpdk.org>; Fri, 30 May 2025 15:43:45 -0700 (PDT)
DKIM-Signature: v=1; a=rsa-sha256; c=relaxed/relaxed;
 d=iol.unh.edu; s=unh-iol; t=1748645024; x=1749249824; darn=dpdk.org;
 h=references:in-reply-to:cc:to:from:subject:message-id:date:from:to
 :cc:subject:date:message-id:reply-to;
 bh=Zyy977+Dl5VWbQj0CAOkFOMSvopibXqY6VINU7Uqw24=;
 b=NPknAk3poAPtwuIBkQvYAk8VIjh6RVc04cJRLNgBa/v5LoPEAIJsoGGHLq7jtBz6dS
 9CLDaQ0tvx2CJlGSW1tYoZdMv0ce3euhUj/OS4mSsAXdsjI6mQGTTYKVPHl1F9HEmKXI
 8MvQrWNo9EEo90vQLArUG4cmoXM1T4NqbD+DI=
X-Google-DKIM-Signature: v=1; a=rsa-sha256; c=relaxed/relaxed;
 d=1e100.net; s=20230601; t=1748645024; x=1749249824;
 h=references:in-reply-to:cc:to:from:subject:message-id:date
 :x-gm-message-state:from:to:cc:subject:date:message-id:reply-to;
 bh=Zyy977+Dl5VWbQj0CAOkFOMSvopibXqY6VINU7Uqw24=;
 b=NZ5rkUYkxAMs/HEj9kPe8TmG6THR/9VcnRaClRTdAg2vxwoJkf6P16a2FzcI76uS65
 jaYuTF2OEXMhIAZBEPatkiPR4mky0gOPaoV0OLU9em7dRYyf+10hnaxurSOaA/1lfdAq
 GEgHeUeb5NJrRv6MeH1JxGbnqBlPgqLg63WC1/2EqPfaROrzv5kKOEpwP4czYQzL1RZl
 uIO8uOwes7W9woUCqgUf+aHyA8Ov/ROq51M9J4w1HwjI60ZO5bEym9seFcOmrs6xxljP
 Ml4QFVdkxYUGUHJqDL3qPmsqu9NJeBsq2HjOD3regFmbXYZ8vrl1kYRp3zFQkz9nOwuJ
 wzsQ==
X-Gm-Message-State: AOJu0YyPL6E0sqqUT/GURPFl9Mexud7/iksPadY8ichh92jY+cb5hC2C
 am1VlLhVK28dapKUxgkoKj+0vTRC6vedbByOhtgRfVduU66kTMd3W+HOEefpn4mkF8EqASVDb5L
 p7/UxTeuOOktx9Eqgm3XAPZhYZvn/+vzHQYYEcpK3twYL0DrlPIb7xTcXU+si
X-Gm-Gg: ASbGnctEakDJtEaJKPMLB6q+H0hTaY20PebCENSkjscgO5y54G8Q/OFWLjtNNz2e0tl
 v7OitWYo8Nt3luLLEhgv1ZWwt7Mzo4soTNTpbYVaK6U2A3DU8XVUkRscfxbLY2RpWzIePAoFOoQ
 +M6+Vx/xMr8y0a3zf7BbWc5yWjQnxsC9+Phl+QsMGEpiB6dPLoPAHEPjiotN8Ig/6IzXABhNXP1
 BLzYraNpcASIc8vEX8XO8/2RoW9NJjkQLziRjcRYr2oNC12HEw94ml5q2xyTs68eVA4Fv3s/FQr
 gqI0FzImZUTKu2cR9J5c4MNW+NBYgTC/t8UW9BExbxtN9aQ=
X-Google-Smtp-Source: AGHT+IGFUlYKCpFFgUbynvHI4xq/Fng8uryJPnIDijtTtNeIk2GLQZWKLcGwesk7cEltCuoE5allXAs4fdrt
X-Received: by 2002:a17:903:2f90:b0:234:f580:a15 with SMTP id
 d9443c01a7336-23529203bdfmr83086635ad.14.1748645024422; 
 Fri, 30 May 2025 15:43:44 -0700 (PDT)
Received: from postal.iol.unh.edu (postal.iol.unh.edu.
 [2606:4100:3880:1234::84]) by smtp-relay.gmail.com with ESMTPS id
 d9443c01a7336-23506bf7eafsm2680725ad.39.2025.05.30.15.43.44
 (version=TLS1_2 cipher=ECDHE-ECDSA-AES128-GCM-SHA256 bits=128/128);
 Fri, 30 May 2025 15:43:44 -0700 (PDT)
X-Relaying-Domain: iol.unh.edu
Date: Fri, 30 May 2025 15:43:44 -0700 (PDT)
Message-ID: <683a34a0.170a0220.3c6e43.e726SMTPIN_ADDED_MISSING@mx.google.com>
Received: from [172.17.0.2] (unknown [172.18.0.76])
 by postal.iol.unh.edu (Postfix) with ESMTP id 36DFB6052471;
 Fri, 30 May 2025 18:43:43 -0400 (EDT)
Subject: |SUCCESS| pw153839 [PATCH] ethdev: fix null error struct in flow con
From: dpdklab@iol.unh.edu
To: Test Report <test-report@dpdk.org>
Cc: dpdk-test-reports@iol.unh.edu
In-Reply-To: <20250529055612.115265-1-mkashani@nvidia.com>
References: <20250529055612.115265-1-mkashani@nvidia.com>
Content-Type: text/plain
X-BeenThere: test-report@dpdk.org
X-Mailman-Version: 2.1.29
Precedence: list
List-Id: automatic DPDK test reports <test-report.dpdk.org>
List-Unsubscribe: <https://mails.dpdk.org/options/test-report>,
 <mailto:test-report-request@dpdk.org?subject=unsubscribe>
List-Archive: <http://mails.dpdk.org/archives/test-report/>
List-Post: <mailto:test-report@dpdk.org>
List-Help: <mailto:test-report-request@dpdk.org?subject=help>
List-Subscribe: <https://mails.dpdk.org/listinfo/test-report>,
 <mailto:test-report-request@dpdk.org?subject=subscribe>
Errors-To: test-report-bounces@dpdk.org

Test-Label: iol-unit-amd64-testing
Test-Status: SUCCESS
http://dpdk.org/patch/153839

_Testing PASS_

Submitter: Maayan Kashani <mkashani@nvidia.com>
Date: Thursday, May 29 2025 05:56:10 
DPDK git baseline: Repo:dpdk
  Branch: master
  CommitID:466db466e2938c0d4e7f3dd75435483133f98770

153839 --> testing pass

Upstream job id: Generic-VM-Unit-Test-DPDK#28833

Test environment and result as below:

+-------------------------------+----------------+
|          Environment          | dpdk_unit_test |
+===============================+================+
| Fedora 40                     | PASS           |
+-------------------------------+----------------+
| CentOS Stream 10              | PASS           |
+-------------------------------+----------------+
| CentOS Stream 9               | PASS           |
+-------------------------------+----------------+
| Debian GNU/Linux 12           | PASS           |
+-------------------------------+----------------+
| Fedora 40 (Clang)             | PASS           |
+-------------------------------+----------------+
| Fedora 41                     | PASS           |
+-------------------------------+----------------+
| Fedora 41 (Clang)             | PASS           |
+-------------------------------+----------------+
| Red Hat Enterprise Linux 9.5  | PASS           |
+-------------------------------+----------------+
| Ubuntu 22.04                  | PASS           |
+-------------------------------+----------------+
| Ubuntu 20.04                  | PASS           |
+-------------------------------+----------------+
| Red Hat Enterprise Linux 8.10 | PASS           |
+-------------------------------+----------------+
| Ubuntu 24.04                  | PASS           |
+-------------------------------+----------------+
| Windows Server 2022           | PASS           |
+-------------------------------+----------------+


Fedora 40
	Kernel: Depends on container host
	Compiler: gcc 14.2.1 20240912 (Red Hat 14.2.1-3)

CentOS Stream 10
	Kernel: Depends on container host
	Compiler: gcc 14.2.1 20241104 (Red Hat 14.2.1-6)

CentOS Stream 9
	Kernel: Depends on container host
	Compiler: gcc 11.5.0 20240719 (Red Hat 11.5.0-2)

Debian GNU/Linux 12
	Kernel: 5.15
	Compiler: gcc gcc (Debian 12.2.0-14) 12.2.0

Fedora 40 (Clang)
	Kernel: Depends on container host
	Compiler: clang 18.1.8 (Fedora 18.1.8-1.fc40)

Fedora 41
	Kernel: Depends on container host
	Compiler: gcc 14.2.1 20240912 (Red Hat 14.2.1-3)

Fedora 41 (Clang)
	Kernel: Depends on container host
	Compiler: clang 19.1.5 (Fedora 19.1.5-1.fc41)

Red Hat Enterprise Linux 9.5
	Kernel: 5.15
	Compiler: gcc gcc (GCC) 11.5.0 20240719 (Red Hat 11.5.0-2)

Ubuntu 22.04
	Kernel: 5.15
	Compiler: gcc gcc (Ubuntu 11.4.0-1ubuntu1~22.04) 11.4.0

Ubuntu 20.04
	Kernel: 5.15
	Compiler: gcc gcc (Ubuntu 9.4.0-1ubuntu1~20.04.2) 9.4.0

Red Hat Enterprise Linux 8.10
	Kernel: 5.15
	Compiler: gcc gcc (GCC) 8.5.0 20210514 (Red Hat 8.5.0-22)

Ubuntu 24.04
	Kernel: 5.15
	Compiler: gcc gcc (Ubuntu 13.3.0-6ubuntu2~24.04) 13.3.0

Windows Server 2022
	Kernel: 10.0.20348.2031
	Compiler: clang 15.0.7, gcc 14.1.0 (MinGW), and MSVC VS 19.39.33521

To view detailed results, visit:
https://lab.dpdk.org/results/dashboard/patchsets/33274/

UNH-IOL DPDK Community Lab

To manage your email subscriptions, visit: 
https://lab.dpdk.org/results/dashboard/preferences/subscriptions/