From mboxrd@z Thu Jan 1 00:00:00 1970 Return-Path: Received: from mails.dpdk.org (mails.dpdk.org [217.70.189.124]) by inbox.dpdk.org (Postfix) with ESMTP id E472346836 for ; Sat, 31 May 2025 01:40:01 +0200 (CEST) Received: from mails.dpdk.org (localhost [127.0.0.1]) by mails.dpdk.org (Postfix) with ESMTP id ACA004025A; Sat, 31 May 2025 01:40:01 +0200 (CEST) Received: from mail-io1-f99.google.com (mail-io1-f99.google.com [209.85.166.99]) by mails.dpdk.org (Postfix) with ESMTP id 7DBAD4025A for ; Sat, 31 May 2025 01:40:00 +0200 (CEST) Received: by mail-io1-f99.google.com with SMTP id ca18e2360f4ac-86cdb34a56cso64776339f.3 for ; Fri, 30 May 2025 16:40:00 -0700 (PDT) DKIM-Signature: v=1; a=rsa-sha256; c=relaxed/relaxed; d=iol.unh.edu; s=unh-iol; t=1748648399; x=1749253199; darn=dpdk.org; h=references:in-reply-to:cc:to:from:subject:message-id:date:from:to :cc:subject:date:message-id:reply-to; bh=UZlbynNrza9/vZ1nq1GuJGpu+2U6U9uylfJfZnKdFMY=; b=SSXzFfWzzKXgGT4F74AV32Z1+hEDgLcrH1VCl4KbugbuLZfT4+z3wu8nDC8GNcrynY /RmNl7f/vHcXKIj5U9EpIXQm7W9/s+4Gf3pRcoT8jXF1WPo+98+62yTV0acVExkX9Xff XCIF7i547U4gCbRWZWGkqewOCxvy5lDRMqL9s= X-Google-DKIM-Signature: v=1; a=rsa-sha256; c=relaxed/relaxed; d=1e100.net; s=20230601; t=1748648399; x=1749253199; h=references:in-reply-to:cc:to:from:subject:message-id:date :x-gm-message-state:from:to:cc:subject:date:message-id:reply-to; bh=UZlbynNrza9/vZ1nq1GuJGpu+2U6U9uylfJfZnKdFMY=; b=n1btKRxwKxmd+85uDkli0nRnLrG2f9rL2YYUziD59UZEvFBhPXPulry/Zn+s5BopcS Ii9NUc9ogfWeZFqUQKIeaesHhSp/DiB2x6I2N/DOcmmJzMH0qvjePHlVH77lVIhJD3MJ N9cMKVe8A2P7YNTxVCHB86JSDq8UN7PnUkbpmPkZduYrWWkNdq6CXiFqEqXmlf++9GcS DcpxqIYSLsczbnodGsdypcDrY8M9LN6u/sKZCVTnrylH2U/yVr8sINQ/wWcPJR32Z3eK XvdV/p9gMTLz65AzKv8Tlo/WJjRI70OIwk/Cfz7zSVTtlM7t6MA1ihrPEkZXNHAz1iCo DESQ== X-Gm-Message-State: AOJu0YzYxA1mD21Xrtgnr5yHRfKVAyRSgnjqkXY4AhkfM9NsNJWzHtHl PYstZC55Gy+kwpKyI/PWr9Qcwtw7CAThX75IT+fxz/4XzYSTAhdDuAgj0Q9Q30B2fdDNHaJPbwD APej4TAvNtpBgfWSWHKURR6ZBLfU6worVcGEQ+moxDfXV X-Gm-Gg: ASbGncvzoYrRUW4OU/RUUGdnpIbZg2N4ikII0oddBTemq4CPc97vEzdTAfxMYoPWtf7 5ldrpf4bXFKSPsuQYzfNQ/ckSSVV4bfeoVllr02oaqOdjN0xUMG707go42om0IXtEhXm7tqYeU8 1SukX4jHZebYD8ZPo6FIM01RK1Y7sa0RJ3acqkLSx5hUA3slcQXg0B50Vo5aHvfihvzGHsXQ5Wg tFNcsvjeGW6wJbTXKwSpE3MP+93Wqj38vHLSguJv3qYwL7h6XmstrXcWhu+DN/DuBOhF6ottMVV FTOz6dwlj5tyJxA2xXVtHW/3raIJHeYZTgapKMVGosNE9MBabboADxrXYq8= X-Google-Smtp-Source: AGHT+IE9/bvmvnQqlD3i0lH3dY2WQfQdXr2aamyg9ycKCQmBGb2C0T22ibKmr80HzyYV96kitIj7M6A63geo X-Received: by 2002:a05:6602:b90:b0:867:6680:cfd with SMTP id ca18e2360f4ac-86d2d99dcdfmr18441239f.1.1748648399695; Fri, 30 May 2025 16:39:59 -0700 (PDT) Received: from postal.iol.unh.edu (postal.iol.unh.edu. [132.177.123.84]) by smtp-relay.gmail.com with ESMTPS id ca18e2360f4ac-86cf5e43408sm14707339f.11.2025.05.30.16.39.59 (version=TLS1_2 cipher=ECDHE-ECDSA-AES128-GCM-SHA256 bits=128/128); Fri, 30 May 2025 16:39:59 -0700 (PDT) X-Relaying-Domain: iol.unh.edu Date: Fri, 30 May 2025 16:39:59 -0700 (PDT) Message-ID: <683a41cf.050a0220.d7248.7ad3SMTPIN_ADDED_MISSING@mx.google.com> Received: from [172.17.0.2] (unknown [172.18.0.74]) by postal.iol.unh.edu (Postfix) with ESMTP id 35CAE6052471; Fri, 30 May 2025 19:39:59 -0400 (EDT) Subject: |SUCCESS| pw153839 [PATCH] ethdev: fix null error struct in flow con From: dpdklab@iol.unh.edu To: Test Report Cc: dpdk-test-reports@iol.unh.edu In-Reply-To: <20250529055612.115265-1-mkashani@nvidia.com> References: <20250529055612.115265-1-mkashani@nvidia.com> Content-Type: text/plain X-BeenThere: test-report@dpdk.org X-Mailman-Version: 2.1.29 Precedence: list List-Id: automatic DPDK test reports List-Unsubscribe: , List-Archive: List-Post: List-Help: List-Subscribe: , Errors-To: test-report-bounces@dpdk.org Test-Label: iol-unit-amd64-testing Test-Status: SUCCESS http://dpdk.org/patch/153839 _Testing PASS_ Submitter: Maayan Kashani Date: Thursday, May 29 2025 05:56:10 DPDK git baseline: Repo:dpdk Branch: master CommitID:466db466e2938c0d4e7f3dd75435483133f98770 153839 --> testing pass Upstream job id: Generic-VM-Unit-Test-DPDK#28838 Test environment and result as below: +-------------------------------+----------------+ | Environment | dpdk_unit_test | +===============================+================+ | CentOS Stream 9 | PASS | +-------------------------------+----------------+ | Debian GNU/Linux 12 | PASS | +-------------------------------+----------------+ | CentOS Stream 10 | PASS | +-------------------------------+----------------+ | Fedora 40 (Clang) | PASS | +-------------------------------+----------------+ | Fedora 40 | PASS | +-------------------------------+----------------+ | Fedora 41 (Clang) | PASS | +-------------------------------+----------------+ | Fedora 41 | PASS | +-------------------------------+----------------+ | Ubuntu 20.04 | PASS | +-------------------------------+----------------+ | Red Hat Enterprise Linux 8.10 | PASS | +-------------------------------+----------------+ | Red Hat Enterprise Linux 9.5 | PASS | +-------------------------------+----------------+ | Ubuntu 22.04 | PASS | +-------------------------------+----------------+ | Ubuntu 24.04 | PASS | +-------------------------------+----------------+ | Windows Server 2022 | PASS | +-------------------------------+----------------+ CentOS Stream 9 Kernel: Depends on container host Compiler: gcc 11.5.0 20240719 (Red Hat 11.5.0-2) Debian GNU/Linux 12 Kernel: 5.15 Compiler: gcc gcc (Debian 12.2.0-14) 12.2.0 CentOS Stream 10 Kernel: Depends on container host Compiler: gcc 14.2.1 20241104 (Red Hat 14.2.1-6) Fedora 40 (Clang) Kernel: Depends on container host Compiler: clang 18.1.8 (Fedora 18.1.8-1.fc40) Fedora 40 Kernel: Depends on container host Compiler: gcc 14.2.1 20240912 (Red Hat 14.2.1-3) Fedora 41 (Clang) Kernel: Depends on container host Compiler: clang 19.1.5 (Fedora 19.1.5-1.fc41) Fedora 41 Kernel: Depends on container host Compiler: gcc 14.2.1 20240912 (Red Hat 14.2.1-3) Ubuntu 20.04 Kernel: 5.15 Compiler: gcc gcc (Ubuntu 9.4.0-1ubuntu1~20.04.2) 9.4.0 Red Hat Enterprise Linux 8.10 Kernel: 5.15 Compiler: gcc gcc (GCC) 8.5.0 20210514 (Red Hat 8.5.0-22) Red Hat Enterprise Linux 9.5 Kernel: 5.15 Compiler: gcc gcc (GCC) 11.5.0 20240719 (Red Hat 11.5.0-2) Ubuntu 22.04 Kernel: 5.15 Compiler: gcc gcc (Ubuntu 11.4.0-1ubuntu1~22.04) 11.4.0 Ubuntu 24.04 Kernel: 5.15 Compiler: gcc gcc (Ubuntu 13.3.0-6ubuntu2~24.04) 13.3.0 Windows Server 2022 Kernel: 10.0.20348.2031 Compiler: clang 15.0.7, gcc 14.1.0 (MinGW), and MSVC VS 19.39.33521 To view detailed results, visit: https://lab.dpdk.org/results/dashboard/patchsets/33274/ UNH-IOL DPDK Community Lab To manage your email subscriptions, visit: https://lab.dpdk.org/results/dashboard/preferences/subscriptions/