From mboxrd@z Thu Jan 1 00:00:00 1970 Return-Path: Received: from mails.dpdk.org (mails.dpdk.org [217.70.189.124]) by inbox.dpdk.org (Postfix) with ESMTP id 4567446837 for ; Sat, 31 May 2025 02:04:10 +0200 (CEST) Received: from mails.dpdk.org (localhost [127.0.0.1]) by mails.dpdk.org (Postfix) with ESMTP id 3E4324025A; Sat, 31 May 2025 02:04:10 +0200 (CEST) Received: from mail-oo1-f97.google.com (mail-oo1-f97.google.com [209.85.161.97]) by mails.dpdk.org (Postfix) with ESMTP id 4E8BE4025A for ; Sat, 31 May 2025 02:04:08 +0200 (CEST) Received: by mail-oo1-f97.google.com with SMTP id 006d021491bc7-60be2256b4dso770995eaf.0 for ; Fri, 30 May 2025 17:04:08 -0700 (PDT) DKIM-Signature: v=1; a=rsa-sha256; c=relaxed/relaxed; d=iol.unh.edu; s=unh-iol; t=1748649847; x=1749254647; darn=dpdk.org; h=references:in-reply-to:cc:to:from:subject:message-id:date:from:to :cc:subject:date:message-id:reply-to; bh=QYb0Rbi+WOJRnAVjdsz735caI8FtZf3J8qEmTYGj2v8=; b=SFqbEbiMHppqCluef0mjXzECkNXrdApiamPWEDHE/+HNFk14vJ+QEvN0OSN7nNJj9J jGBrUK37F99zQCBqZmP5CFlJ282crFkK5gtuvU6aD0WmUgmnLBl4/PWF2C34TuyY2zYy 8IYO+2jQJZj2nXoKnHlk0RYUW6J7BRx1GZX2c= X-Google-DKIM-Signature: v=1; a=rsa-sha256; c=relaxed/relaxed; d=1e100.net; s=20230601; t=1748649847; x=1749254647; h=references:in-reply-to:cc:to:from:subject:message-id:date :x-gm-message-state:from:to:cc:subject:date:message-id:reply-to; bh=QYb0Rbi+WOJRnAVjdsz735caI8FtZf3J8qEmTYGj2v8=; b=aP26NH0k7TSYaqoA8dHYz+K2FGC0MHpJc4xQoixUaA5Iqt64PwZJsp91q95FjyUhHk o+iB4KHRuOaYTUNXteCIWCzj1Cn5u4TAlZTMcEX4QIFU42AhloVFJOPK5lmWFL3VfyoL Hceyx3bAznmMxtnxHitXPudZMnSIk/S2gTWtHYYl++I958bfkeytgAJdA+817MXydKDI jEH2AVACIuzCXK/QQpA+Y1njTGnUYGTktUTBPFcS3JEpaStxnEXm1QtyjrWTd5oAhNlg VZfNQ2DD2Ks7v9vd5UK64ptenHFCf65jWJCSKowptbyH41UlMXdH6aHMjmaFAiDUV+pN dIlw== X-Gm-Message-State: AOJu0YzSKK8pzbZ9xUQGKSnbhYlk3V7NKQMZnYM6ujNAAje1QgdST4hr Dxf/uRI+rkSX7uXU3YyE9miLrH56hHxr4ITQs7Km6OzKzqdRUFKmTsLO0sn0e6yXOtjds/cDg0G RM/svCUNB+GPYRePocmpCVjRCXyXJ3VtUY3BkARrOYjYWf2B28991ywwwo9Gf X-Gm-Gg: ASbGncunaQw0IxPOLf29dHp5J0vuhbT6ry00oFLCg5OgGm/MQ0NEaRxil8ROg+DUw6u bEmn8D+jo8He2S5U2EZC4TLMMjlyitx9JEQkhymGludS11apmGYKC0rGFBdATLMkA5DrHG5YKTs KSpg5kFpW8veyQPIeDiMns7Bt4iUm1jjgy11v0t7vP0F42EnlOo6/91Gnn3U4z2Sm9smizSEmh6 fDJakqHjMW8f2i8ru5c8TQVbn4a4TGn+IejCbT8KMZAhZusuktJhvXI9s2KLlq6nhAtTcJU+Cl+ Z+F8RmecacsjhXVqvXlT8ToHsQdhzlkL3Y1i X-Google-Smtp-Source: AGHT+IGgriPNgopKwjygk7ZNSYNhMYlxSMtLs+kb8Ccwg7FSKjcILDlml9s3QnblxGTw0dSfcELW7LV1xI67 X-Received: by 2002:a05:6870:7a11:b0:2d5:4f4:e24d with SMTP id 586e51a60fabf-2e92a11d025mr2687648fac.6.1748649847236; Fri, 30 May 2025 17:04:07 -0700 (PDT) Received: from postal.iol.unh.edu (postal.iol.unh.edu. [2606:4100:3880:1234::84]) by smtp-relay.gmail.com with ESMTPS id 006d021491bc7-60c14c71fa2sm78439eaf.3.2025.05.30.17.04.07 (version=TLS1_2 cipher=ECDHE-ECDSA-AES128-GCM-SHA256 bits=128/128); Fri, 30 May 2025 17:04:07 -0700 (PDT) X-Relaying-Domain: iol.unh.edu Date: Fri, 30 May 2025 17:04:07 -0700 (PDT) Message-ID: <683a4777.4a0a0220.2f8f8.4141SMTPIN_ADDED_MISSING@mx.google.com> Received: from [172.17.0.2] (unknown [172.18.0.76]) by postal.iol.unh.edu (Postfix) with ESMTP id BB8B26052471; Fri, 30 May 2025 20:04:06 -0400 (EDT) Subject: |SUCCESS| pw153862 [PATCH] crypto/virtio: fix PMD cleanup From: dpdklab@iol.unh.edu To: Test Report Cc: dpdk-test-reports@iol.unh.edu In-Reply-To: <20250529114554.35750-1-radu.nicolau@intel.com> References: <20250529114554.35750-1-radu.nicolau@intel.com> Content-Type: text/plain X-BeenThere: test-report@dpdk.org X-Mailman-Version: 2.1.29 Precedence: list List-Id: automatic DPDK test reports List-Unsubscribe: , List-Archive: List-Post: List-Help: List-Subscribe: , Errors-To: test-report-bounces@dpdk.org Test-Label: iol-unit-amd64-testing Test-Status: SUCCESS http://dpdk.org/patch/153862 _Testing PASS_ Submitter: Radu Nicolau Date: Thursday, May 29 2025 11:45:53 DPDK git baseline: Repo:dpdk Branch: master CommitID:d5968c8a2b355a083db1d2f4f00334760389b54c 153862 --> testing pass Upstream job id: Generic-VM-Unit-Test-DPDK#28840 Test environment and result as below: +-------------------------------+----------------+ | Environment | dpdk_unit_test | +===============================+================+ | CentOS Stream 10 | PASS | +-------------------------------+----------------+ | Debian GNU/Linux 12 | PASS | +-------------------------------+----------------+ | CentOS Stream 9 | PASS | +-------------------------------+----------------+ | Fedora 40 | PASS | +-------------------------------+----------------+ | Fedora 41 | PASS | +-------------------------------+----------------+ | Ubuntu 20.04 | PASS | +-------------------------------+----------------+ | Fedora 40 (Clang) | PASS | +-------------------------------+----------------+ | Red Hat Enterprise Linux 9.5 | PASS | +-------------------------------+----------------+ | Red Hat Enterprise Linux 8.10 | PASS | +-------------------------------+----------------+ | Fedora 41 (Clang) | PASS | +-------------------------------+----------------+ | Ubuntu 22.04 | PASS | +-------------------------------+----------------+ | Ubuntu 24.04 | PASS | +-------------------------------+----------------+ | Windows Server 2022 | PASS | +-------------------------------+----------------+ CentOS Stream 10 Kernel: Depends on container host Compiler: gcc 14.2.1 20241104 (Red Hat 14.2.1-6) Debian GNU/Linux 12 Kernel: 5.15 Compiler: gcc gcc (Debian 12.2.0-14) 12.2.0 CentOS Stream 9 Kernel: Depends on container host Compiler: gcc 11.5.0 20240719 (Red Hat 11.5.0-2) Fedora 40 Kernel: Depends on container host Compiler: gcc 14.2.1 20240912 (Red Hat 14.2.1-3) Fedora 41 Kernel: Depends on container host Compiler: gcc 14.2.1 20240912 (Red Hat 14.2.1-3) Ubuntu 20.04 Kernel: 5.15 Compiler: gcc gcc (Ubuntu 9.4.0-1ubuntu1~20.04.2) 9.4.0 Fedora 40 (Clang) Kernel: Depends on container host Compiler: clang 18.1.8 (Fedora 18.1.8-1.fc40) Red Hat Enterprise Linux 9.5 Kernel: 5.15 Compiler: gcc gcc (GCC) 11.5.0 20240719 (Red Hat 11.5.0-2) Red Hat Enterprise Linux 8.10 Kernel: 5.15 Compiler: gcc gcc (GCC) 8.5.0 20210514 (Red Hat 8.5.0-22) Fedora 41 (Clang) Kernel: Depends on container host Compiler: clang 19.1.5 (Fedora 19.1.5-1.fc41) Ubuntu 22.04 Kernel: 5.15 Compiler: gcc gcc (Ubuntu 11.4.0-1ubuntu1~22.04) 11.4.0 Ubuntu 24.04 Kernel: 5.15 Compiler: gcc gcc (Ubuntu 13.3.0-6ubuntu2~24.04) 13.3.0 Windows Server 2022 Kernel: 10.0.20348.2031 Compiler: clang 15.0.7, gcc 14.1.0 (MinGW), and MSVC VS 19.39.33521 To view detailed results, visit: https://lab.dpdk.org/results/dashboard/patchsets/33278/ UNH-IOL DPDK Community Lab To manage your email subscriptions, visit: https://lab.dpdk.org/results/dashboard/preferences/subscriptions/