From mboxrd@z Thu Jan  1 00:00:00 1970
Return-Path: <test-report-bounces@dpdk.org>
Received: from mails.dpdk.org (mails.dpdk.org [217.70.189.124])
	by inbox.dpdk.org (Postfix) with ESMTP id 3BFCD4685B
	for <public@inbox.dpdk.org>; Mon,  2 Jun 2025 12:52:51 +0200 (CEST)
Received: from mails.dpdk.org (localhost [127.0.0.1])
	by mails.dpdk.org (Postfix) with ESMTP id 35D554025E;
	Mon,  2 Jun 2025 12:52:51 +0200 (CEST)
Received: from mail-oa1-f100.google.com (mail-oa1-f100.google.com
 [209.85.160.100])
 by mails.dpdk.org (Postfix) with ESMTP id 25F4B4025E
 for <test-report@dpdk.org>; Mon,  2 Jun 2025 12:52:50 +0200 (CEST)
Received: by mail-oa1-f100.google.com with SMTP id
 586e51a60fabf-2e94deefa95so1153145fac.2
 for <test-report@dpdk.org>; Mon, 02 Jun 2025 03:52:50 -0700 (PDT)
DKIM-Signature: v=1; a=rsa-sha256; c=relaxed/relaxed;
 d=iol.unh.edu; s=unh-iol; t=1748861569; x=1749466369; darn=dpdk.org;
 h=references:in-reply-to:cc:to:from:subject:message-id:date:from:to
 :cc:subject:date:message-id:reply-to;
 bh=NVQBUs0HwwIfehlE42dBsD7T7UgoToRQsXQZwrugAmA=;
 b=MtChgp2qJfFJG07nDhMK3b/om+NJEX95Xr5B6/ifmUz4VGztWxoqt/oOzeMWN05rdZ
 D1s9qKVwxc9rSjdz6RbeZy1SouDA+g3C3x6wWbqt+oWbtiLBzfixnDTeyKE2psQ5v6pO
 a0ajS1A2T2zSolQTF84sR+zgBAUXaeq2srY3Q=
X-Google-DKIM-Signature: v=1; a=rsa-sha256; c=relaxed/relaxed;
 d=1e100.net; s=20230601; t=1748861569; x=1749466369;
 h=references:in-reply-to:cc:to:from:subject:message-id:date
 :x-gm-message-state:from:to:cc:subject:date:message-id:reply-to;
 bh=NVQBUs0HwwIfehlE42dBsD7T7UgoToRQsXQZwrugAmA=;
 b=wnHSBFEYi7Ox9+v88BXF7MRii38d+UwnFcp0hLNW423R1VvbwJcD8uw46PYTkl7UfN
 pezh+X+W1rUaedSCN3ZG+ogf+Nx9DZhMwK/XqCzZxzbfz/nMdw7ZIaxfAWlWDAy+VQKl
 XgxoccgHTjY+NDdudpLcbWYCn6QcEa2q8CGnwDP+srQjbIUzpW10Ha/I8HSBLAcVBynB
 0tbzulyTzwzCvBKX3+XyvXrM2G26oSzWbFl8awWpXCGmRfiLfuOV9Ee92qSfog3eQYQh
 VSczr3OzI7aAjR7wf2SsGK7uf6COF/G38i9AsUJaWe4HiVLopRYJl7zyDHEGCZFCzd2F
 l+sQ==
X-Gm-Message-State: AOJu0YwfweDJKXyCdLBgkQ0CVC9opltgef7F9HCLq+/P4ZAsFvsYlr5f
 DlnOXl8l1xyAHVkIQ1NasmyWaY/4J0bP2q5PC8FOKU0AOEier29WNpCsHoAZfEHyJ0WJmw4ydNV
 yCxHggm9DWncarQFFPPaiHqn736ni3VdygyBHIaQXHfQQxayW2/zx94g66Mss
X-Gm-Gg: ASbGncssEtKOuDUxywP9mCkLgRLFNOifwNn3SqbkMOI36PL1NpeKMlXbO/g7rzJxzuM
 hIzovj7kTreXN8zQoXktUP2mLSSIrC9/gV1uvc0WEP8vb4580EKtyhs1Iu1jUiSZlG35l/p1t35
 MZMDfezXbQtVf+G362MDmRK6NYpCzwbYSl6P2uBbSftOogejfhWaybqS3PGEKMeiFJBlLj1sxhg
 kxaPbVazSJlYg2tWtvE3/H4Q2UVsszUxw00WIwKKsi72O2zkej6FwKF4ggiGk1rMt51zSU1kkI4
 vtDITegiA/zqO2kziYoIrY0foCZB/oFDKBm4
X-Google-Smtp-Source: AGHT+IFJjkDZ1e+2ss/4pq/f5Er27obwBrhHJaOkEt7J9CPvCVu9Yeh+LkfKJ8s58eYyQ2vc+15jp3XA7yqM
X-Received: by 2002:a05:6871:68d:b0:29e:27b6:bea5 with SMTP id
 586e51a60fabf-2e92a3c0a3cmr5961430fac.25.1748861569181; 
 Mon, 02 Jun 2025 03:52:49 -0700 (PDT)
Received: from postal.iol.unh.edu (postal.iol.unh.edu.
 [2606:4100:3880:1234::84]) by smtp-relay.gmail.com with ESMTPS id
 586e51a60fabf-2e90644e8c2sm493025fac.4.2025.06.02.03.52.49
 (version=TLS1_2 cipher=ECDHE-ECDSA-AES128-GCM-SHA256 bits=128/128);
 Mon, 02 Jun 2025 03:52:49 -0700 (PDT)
X-Relaying-Domain: iol.unh.edu
Date: Mon, 02 Jun 2025 03:52:49 -0700 (PDT)
Message-ID: <683d8281.050a0220.17f18e.a4feSMTPIN_ADDED_MISSING@mx.google.com>
Received: from [172.17.0.5] (unknown [172.18.0.74])
 by postal.iol.unh.edu (Postfix) with ESMTP id A62AC6052471;
 Mon,  2 Jun 2025 06:52:48 -0400 (EDT)
Subject: |WARNING| pw153937 [PATCH] [v3,1/1] vhost: handle virtqueue locking 
From: dpdklab@iol.unh.edu
To: Test Report <test-report@dpdk.org>
Cc: dpdk-test-reports@iol.unh.edu
In-Reply-To: <20250602084025.1881768-2-dvo-plv@napatech.com>
References: <20250602084025.1881768-2-dvo-plv@napatech.com>
Content-Type: text/plain
X-BeenThere: test-report@dpdk.org
X-Mailman-Version: 2.1.29
Precedence: list
List-Id: automatic DPDK test reports <test-report.dpdk.org>
List-Unsubscribe: <https://mails.dpdk.org/options/test-report>,
 <mailto:test-report-request@dpdk.org?subject=unsubscribe>
List-Archive: <http://mails.dpdk.org/archives/test-report/>
List-Post: <mailto:test-report@dpdk.org>
List-Help: <mailto:test-report-request@dpdk.org?subject=help>
List-Subscribe: <https://mails.dpdk.org/listinfo/test-report>,
 <mailto:test-report-request@dpdk.org?subject=subscribe>
Errors-To: test-report-bounces@dpdk.org

Test-Label: iol-compile-amd64-testing
Test-Status: WARNING
http://dpdk.org/patch/153937

_Testing issues_

Submitter: Danylo Vodopianov <dvo-plv@napatech.com>
Date: Monday, June 02 2025 08:40:25 
DPDK git baseline: Repo:dpdk
  Branch: master
  CommitID:3223019e73391066cbb0d248051b163e5373034c

153937 --> testing issues

Upstream job id: Generic-DPDK-Compile-Meson#393497

Test environment and result as below:

+-------------------------------+--------------------+-------------------+------------------+-------------------------+-------------------+----------------------+
|          Environment          | dpdk_meson_compile | dpdk_compile_spdk | dpdk_compile_ovs | dpdk_llvm_clang_compile | dpdk_msvc_compile | dpdk_mingw64_compile |
+===============================+====================+===================+==================+=========================+===================+======================+
| CentOS Stream 9               | PASS               | PASS              | SKIPPED          | SKIPPED                 | SKIPPED           | SKIPPED              |
+-------------------------------+--------------------+-------------------+------------------+-------------------------+-------------------+----------------------+
| Debian GNU/Linux 12           | PASS               | PASS              | SKIPPED          | SKIPPED                 | SKIPPED           | SKIPPED              |
+-------------------------------+--------------------+-------------------+------------------+-------------------------+-------------------+----------------------+
| CentOS Stream 10              | PASS               | SKIPPED           | SKIPPED          | SKIPPED                 | SKIPPED           | SKIPPED              |
+-------------------------------+--------------------+-------------------+------------------+-------------------------+-------------------+----------------------+
| Fedora 40                     | PASS               | PASS              | SKIPPED          | SKIPPED                 | SKIPPED           | SKIPPED              |
+-------------------------------+--------------------+-------------------+------------------+-------------------------+-------------------+----------------------+
| Fedora 40 (Clang)             | PASS               | WARN              | SKIPPED          | SKIPPED                 | SKIPPED           | SKIPPED              |
+-------------------------------+--------------------+-------------------+------------------+-------------------------+-------------------+----------------------+
| Fedora 41 (Clang)             | PASS               | WARN              | PASS             | SKIPPED                 | SKIPPED           | SKIPPED              |
+-------------------------------+--------------------+-------------------+------------------+-------------------------+-------------------+----------------------+
| Fedora 41                     | PASS               | PASS              | PASS             | SKIPPED                 | SKIPPED           | SKIPPED              |
+-------------------------------+--------------------+-------------------+------------------+-------------------------+-------------------+----------------------+
| Red Hat Enterprise Linux 9.5  | PASS               | SKIPPED           | SKIPPED          | SKIPPED                 | SKIPPED           | SKIPPED              |
+-------------------------------+--------------------+-------------------+------------------+-------------------------+-------------------+----------------------+
| Red Hat Enterprise Linux 8.10 | PASS               | SKIPPED           | SKIPPED          | SKIPPED                 | SKIPPED           | SKIPPED              |
+-------------------------------+--------------------+-------------------+------------------+-------------------------+-------------------+----------------------+
| Ubuntu 20.04                  | PASS               | SKIPPED           | SKIPPED          | SKIPPED                 | SKIPPED           | SKIPPED              |
+-------------------------------+--------------------+-------------------+------------------+-------------------------+-------------------+----------------------+
| Ubuntu 22.04                  | PASS               | PASS              | SKIPPED          | SKIPPED                 | SKIPPED           | SKIPPED              |
+-------------------------------+--------------------+-------------------+------------------+-------------------------+-------------------+----------------------+
| Ubuntu 24.04                  | PASS               | PASS              | PASS             | SKIPPED                 | SKIPPED           | SKIPPED              |
+-------------------------------+--------------------+-------------------+------------------+-------------------------+-------------------+----------------------+
| Alpine                        | PASS               | SKIPPED           | SKIPPED          | SKIPPED                 | SKIPPED           | SKIPPED              |
+-------------------------------+--------------------+-------------------+------------------+-------------------------+-------------------+----------------------+
| FreeBSD 14.2                  | PASS               | SKIPPED           | SKIPPED          | SKIPPED                 | SKIPPED           | SKIPPED              |
+-------------------------------+--------------------+-------------------+------------------+-------------------------+-------------------+----------------------+
| openSUSE Leap 15.6            | PASS               | SKIPPED           | SKIPPED          | SKIPPED                 | SKIPPED           | SKIPPED              |
+-------------------------------+--------------------+-------------------+------------------+-------------------------+-------------------+----------------------+
| Windows Server 2022           | SKIPPED            | SKIPPED           | SKIPPED          | PASS                    | PASS              | PASS                 |
+-------------------------------+--------------------+-------------------+------------------+-------------------------+-------------------+----------------------+

==== 20 line log output for Fedora 41 (Clang) (dpdk_compile_spdk): ====
 --- Failed to get log output --- 
==== End log output ====

CentOS Stream 9
	Kernel: Depends on container host
	Compiler: gcc 11.5.0 20240719 (Red Hat 11.5.0-2)

Debian GNU/Linux 12
	Kernel: 5.15
	Compiler: gcc gcc (Debian 12.2.0-14) 12.2.0

CentOS Stream 10
	Kernel: Depends on container host
	Compiler: gcc 14.2.1 20241104 (Red Hat 14.2.1-6)

Fedora 40
	Kernel: Depends on container host
	Compiler: gcc 14.2.1 20240912 (Red Hat 14.2.1-3)

Fedora 40 (Clang)
	Kernel: Depends on container host
	Compiler: clang 18.1.8 (Fedora 18.1.8-1.fc40)

Fedora 41 (Clang)
	Kernel: Depends on container host
	Compiler: clang 19.1.5 (Fedora 19.1.5-1.fc41)

Fedora 41
	Kernel: Depends on container host
	Compiler: gcc 14.2.1 20240912 (Red Hat 14.2.1-3)

Red Hat Enterprise Linux 9.5
	Kernel: 5.15
	Compiler: gcc gcc (GCC) 11.5.0 20240719 (Red Hat 11.5.0-2)

Red Hat Enterprise Linux 8.10
	Kernel: 5.15
	Compiler: gcc gcc (GCC) 8.5.0 20210514 (Red Hat 8.5.0-22)

Ubuntu 20.04
	Kernel: 5.15
	Compiler: gcc gcc (Ubuntu 9.4.0-1ubuntu1~20.04.2) 9.4.0

Ubuntu 22.04
	Kernel: 5.15
	Compiler: gcc gcc (Ubuntu 11.4.0-1ubuntu1~22.04) 11.4.0

Ubuntu 24.04
	Kernel: 5.15
	Compiler: gcc gcc (Ubuntu 13.3.0-6ubuntu2~24.04) 13.3.0

Alpine
	Kernel: Depends on container host
	Compiler: gcc (Alpine 14.2.0) 14.2.0

FreeBSD 14.2
	Kernel: 14.2-RELEASE
	Compiler: clang 18.1.6

openSUSE Leap 15.6
	Kernel: 5.15
	Compiler: gcc gcc (SUSE Linux) 7.5.0

Windows Server 2022
	Kernel: 10.0.20348.2031
	Compiler: clang 15.0.7, gcc 14.1.0 (MinGW), and MSVC VS 19.39.33521

To view detailed results, visit:
https://lab.dpdk.org/results/dashboard/patchsets/33298/

UNH-IOL DPDK Community Lab

To manage your email subscriptions, visit: 
https://lab.dpdk.org/results/dashboard/preferences/subscriptions/