From mboxrd@z Thu Jan 1 00:00:00 1970 Return-Path: Received: from mails.dpdk.org (mails.dpdk.org [217.70.189.124]) by inbox.dpdk.org (Postfix) with ESMTP id 995D54685E for ; Mon, 2 Jun 2025 18:37:32 +0200 (CEST) Received: from mails.dpdk.org (localhost [127.0.0.1]) by mails.dpdk.org (Postfix) with ESMTP id 8EF6C4028E; Mon, 2 Jun 2025 18:37:32 +0200 (CEST) Received: from mail-pl1-f226.google.com (mail-pl1-f226.google.com [209.85.214.226]) by mails.dpdk.org (Postfix) with ESMTP id 088224028E for ; Mon, 2 Jun 2025 18:37:31 +0200 (CEST) Received: by mail-pl1-f226.google.com with SMTP id d9443c01a7336-235a3dd4f0dso7042205ad.0 for ; Mon, 02 Jun 2025 09:37:30 -0700 (PDT) DKIM-Signature: v=1; a=rsa-sha256; c=relaxed/relaxed; d=iol.unh.edu; s=unh-iol; t=1748882250; x=1749487050; darn=dpdk.org; h=references:in-reply-to:cc:to:from:subject:message-id:date:from:to :cc:subject:date:message-id:reply-to; bh=AMIgmccoCDcg2UiR/nKy5yqglK9AqnvbKKhTOLnGZEY=; b=c01OzLsoz6uTy7gsnX3PMMB6R5VXUvF3URajObSuQUHgBE0y/iXAN5k+Uj+OxgFQUN ZbUFYXPl3FiJVT1INWmST61Jdg1mwDuJsJIJOPrZt+jWr7SSZnkJpVTr6vJnTrabbXZq UNAJ+6OGJa/gk+2Z9RhjnN/c0ljj5RJi1dsl4= X-Google-DKIM-Signature: v=1; a=rsa-sha256; c=relaxed/relaxed; d=1e100.net; s=20230601; t=1748882250; x=1749487050; h=references:in-reply-to:cc:to:from:subject:message-id:date :x-gm-message-state:from:to:cc:subject:date:message-id:reply-to; bh=AMIgmccoCDcg2UiR/nKy5yqglK9AqnvbKKhTOLnGZEY=; b=WYZ+Vaz5rs8BVw6DuzCdCQ0/mqBUaz0RJGm7Lja40aSVaSMs3io/QmmL7xUz5Y1t8y H5ZclvEHb8hRLUL/+3sy/3VR4QTC6EjLx+wBLc9DSk5j/mMlg4q7rZZQbyDuMP7ZtJ5j kvKWZLszkU/elW6P4t6kz1E1UaPYf8FsgxL1JFiRsJ/+v1mbQt8WysZK4qzynj6l/gmC ZeX118JsQETrcY70y3eOGzdYfdYzPmuCsdr3QhOlO4BNw42OW81J9JZdrUDxDsU7cy3u tOoZUGRo49TP87H3c+47kWCl69lpjfgS/UOQczXZe9hRZi+k+yiewlYc7dsyAUnj8SG8 1e0g== X-Gm-Message-State: AOJu0YzkLYhibh3ylQ5P0mNOPwnR+1gkJe9zPkpf0g2kQbCpyXy5vjPs sRDDv7BUh6ReFhOLlaynvBrBzZFl6NW5GHJGZVb2FklO7hKq9HU3GSD0Qi+9tQOLSqLgRhOuf2f A75likNsaQRS/5v1x32Sv1SKg+QnCAoxmhvA+Kpufr1rA X-Gm-Gg: ASbGnct8HzYneX5d0o4JY8tW9QpNVgYG+htyj3A/Jwld+Hv1a+kEH46Nhojk9TL3XZv WDeJHuFbX6HJtd+N7jWHfAEGcUDCjucJIx8pRRMS070NfnPYgJiELeNVGFvVNoc1rWhqV3UC7ze fg2zIL0neD3H4jJ/4NUvB2vRiuwKrB7EbHz0hvz2pmzN73UVvubLsFt2gKUS7xmTAUdi3g0BQFq GPEQQSiFeYG5RCkTzVK26mBz4TaQO0NVhL8e4c1ur47mpz67vdmcRQmwkYWzl1GXOR1jg6vU8E2 Z3GW/F54royhp2AwOZUGEE9+8NT1GSMTAQJAddJme0LN/7Ycw0eE45hWHUk= X-Google-Smtp-Source: AGHT+IEKwCzvPQMuha4j8IAxyum4xme330LX9AAnpCLYUJPUQ6sRiQM4DWW3jyEeDd30lr1vDCe6BPaqQQDn X-Received: by 2002:a17:903:166e:b0:224:c46:d167 with SMTP id d9443c01a7336-23528aff171mr208231625ad.16.1748882249866; Mon, 02 Jun 2025 09:37:29 -0700 (PDT) Received: from postal.iol.unh.edu (postal.iol.unh.edu. [132.177.123.84]) by smtp-relay.gmail.com with ESMTPS id d9443c01a7336-23506d554c2sm5765625ad.110.2025.06.02.09.37.29 (version=TLS1_2 cipher=ECDHE-ECDSA-AES128-GCM-SHA256 bits=128/128); Mon, 02 Jun 2025 09:37:29 -0700 (PDT) X-Relaying-Domain: iol.unh.edu Date: Mon, 02 Jun 2025 09:37:29 -0700 (PDT) Message-ID: <683dd349.170a0220.2c483d.fe2fSMTPIN_ADDED_MISSING@mx.google.com> Received: from [172.21.0.6] (unknown [172.18.0.240]) by postal.iol.unh.edu (Postfix) with ESMTP id 077B26052471; Mon, 2 Jun 2025 12:37:29 -0400 (EDT) Subject: |SUCCESS| pw153938 [PATCH] [v4,1/1] vhost: handle virtqueue locking From: dpdklab@iol.unh.edu To: Test Report Cc: dpdk-test-reports@iol.unh.edu In-Reply-To: <20250602085005.1882499-2-dvo-plv@napatech.com> References: <20250602085005.1882499-2-dvo-plv@napatech.com> Content-Type: text/plain X-BeenThere: test-report@dpdk.org X-Mailman-Version: 2.1.29 Precedence: list List-Id: automatic DPDK test reports List-Unsubscribe: , List-Archive: List-Post: List-Help: List-Subscribe: , Errors-To: test-report-bounces@dpdk.org Test-Label: iol-abi-testing Test-Status: SUCCESS http://dpdk.org/patch/153938 _Testing PASS_ Submitter: Danylo Vodopianov Date: Monday, June 02 2025 08:50:05 DPDK git baseline: Repo:dpdk Branch: master CommitID:3223019e73391066cbb0d248051b163e5373034c 153938 --> testing pass Upstream job id: Generic-DPDK-Compile-ABI#128603 Test environment and result as below: +-------------------------------+----------+ | Environment | abi_test | +===============================+==========+ | CentOS Stream 9 | PASS | +-------------------------------+----------+ | CentOS Stream 10 | PASS | +-------------------------------+----------+ | Debian GNU/Linux 12 | PASS | +-------------------------------+----------+ | Fedora 40 | PASS | +-------------------------------+----------+ | Fedora 41 | PASS | +-------------------------------+----------+ | Fedora 41 (Clang) | PASS | +-------------------------------+----------+ | openSUSE Leap 15.6 | PASS | +-------------------------------+----------+ | Fedora 40 (Clang) | PASS | +-------------------------------+----------+ | Red Hat Enterprise Linux 8.10 | PASS | +-------------------------------+----------+ | Red Hat Enterprise Linux 9.5 | PASS | +-------------------------------+----------+ | Ubuntu 22.04 | PASS | +-------------------------------+----------+ | Ubuntu 24.04 | PASS | +-------------------------------+----------+ CentOS Stream 9 Kernel: Depends on container host Compiler: gcc 11.5.0 20240719 (Red Hat 11.5.0-2) CentOS Stream 10 Kernel: Depends on container host Compiler: gcc 14.2.1 20241104 (Red Hat 14.2.1-6) Debian GNU/Linux 12 Kernel: 5.15 Compiler: gcc gcc (Debian 12.2.0-14) 12.2.0 Fedora 40 Kernel: Depends on container host Compiler: gcc 14.2.1 20240912 (Red Hat 14.2.1-3) Fedora 41 Kernel: Depends on container host Compiler: gcc 14.2.1 20240912 (Red Hat 14.2.1-3) Fedora 41 (Clang) Kernel: Depends on container host Compiler: clang 19.1.5 (Fedora 19.1.5-1.fc41) openSUSE Leap 15.6 Kernel: 5.15 Compiler: gcc gcc (SUSE Linux) 7.5.0 Fedora 40 (Clang) Kernel: Depends on container host Compiler: clang 18.1.8 (Fedora 18.1.8-1.fc40) Red Hat Enterprise Linux 8.10 Kernel: 5.15 Compiler: gcc gcc (GCC) 8.5.0 20210514 (Red Hat 8.5.0-22) Red Hat Enterprise Linux 9.5 Kernel: 5.15 Compiler: gcc gcc (GCC) 11.5.0 20240719 (Red Hat 11.5.0-2) Ubuntu 22.04 Kernel: 5.15 Compiler: gcc gcc (Ubuntu 11.4.0-1ubuntu1~22.04) 11.4.0 Ubuntu 24.04 Kernel: 5.15 Compiler: gcc gcc (Ubuntu 13.3.0-6ubuntu2~24.04) 13.3.0 To view detailed results, visit: https://lab.dpdk.org/results/dashboard/patchsets/33299/ UNH-IOL DPDK Community Lab To manage your email subscriptions, visit: https://lab.dpdk.org/results/dashboard/preferences/subscriptions/