From mboxrd@z Thu Jan 1 00:00:00 1970 Return-Path: Received: from mails.dpdk.org (mails.dpdk.org [217.70.189.124]) by inbox.dpdk.org (Postfix) with ESMTP id B67B94685E for ; Mon, 2 Jun 2025 18:38:45 +0200 (CEST) Received: from mails.dpdk.org (localhost [127.0.0.1]) by mails.dpdk.org (Postfix) with ESMTP id B0D344028E; Mon, 2 Jun 2025 18:38:45 +0200 (CEST) Received: from mail-vs1-f100.google.com (mail-vs1-f100.google.com [209.85.217.100]) by mails.dpdk.org (Postfix) with ESMTP id E85A74028E for ; Mon, 2 Jun 2025 18:38:44 +0200 (CEST) Received: by mail-vs1-f100.google.com with SMTP id ada2fe7eead31-4e58ef9cb69so1493286137.1 for ; Mon, 02 Jun 2025 09:38:44 -0700 (PDT) DKIM-Signature: v=1; a=rsa-sha256; c=relaxed/relaxed; d=iol.unh.edu; s=unh-iol; t=1748882324; x=1749487124; darn=dpdk.org; h=references:in-reply-to:cc:to:from:subject:message-id:date:from:to :cc:subject:date:message-id:reply-to; bh=IjLR1f8Slncp0GTamt4Slkc0hRl00Pt9qIch4ft3d0I=; b=VURWN6slUgb0W5M1YybZ1FfY5HXDpAvaPCXLDQhfwGDFYEzUHatoY5aIFVSU2f9uNI 5pU4BGk18Z+hhrS8V7a0JZDJC/xG+PIHyzSef08+pNMJCr7Daw7AGRiindaSrMCszVds 9ZTlo/MRDRqRICzqYF7NXd+wiKHalzMMbtQu4= X-Google-DKIM-Signature: v=1; a=rsa-sha256; c=relaxed/relaxed; d=1e100.net; s=20230601; t=1748882324; x=1749487124; h=references:in-reply-to:cc:to:from:subject:message-id:date :x-gm-message-state:from:to:cc:subject:date:message-id:reply-to; bh=IjLR1f8Slncp0GTamt4Slkc0hRl00Pt9qIch4ft3d0I=; b=eRwaZTF2neCudOnFAClURkNKpu1BjMf9yR+uWA+f1jdh2K0Ry+MFBHj7ctpkrrhmIl pg125WJIDlsAg+RAKgVkIpvVb2zADdmDXNHDZeOju3ZOqnE8eGSaKUJO9WoodCQisa0W 4iz6ubl6Ay9h/RmnDdqLL9Bsn8ezJ2htKzS5RnCd40fkXLMwGwmCptdYCIyH4tXFun5n bJBU1b8ScFhBVixaSZ4eNhqEixbQVVfMx1x2JjFMMolwMv6Oxbh8HrLeRUs4fwGGluQQ NGWRe8C5EsOVRK4Vm+qNDp6szuG8J046YgHOJso8Z6RA7idu3Xsy5Hd5BTFtG6OGI/yy CU+w== X-Gm-Message-State: AOJu0Yy/kwtzkMtnig3nhwrHPTf/2J5RzW//gqGoGrhua8zTMfm/gFLm N3R2ZvS4YlkEfzpTUful+Nnlb1wa3Cf94NKpNCv0KTqkmZDIp606mo/PIfOYLxI152XpNTnFqih FjfuKR6js+WBrKEZ7ruDFszijblA70cvMtxLCfxoHgSTt X-Gm-Gg: ASbGnctwyK8IJeWFMdsPZZBqMbd5lq9yh7zFz6b8Cml8m3b2+YCSLDjUTVu16c3AFw0 L3DzRzrOcqXO3hoHBWB00745zRurv6/W0BCzU4U2sm4vpiblMDWqFgAZjO62lIAggOu92k7ruxZ 3tag3QuHgM2dsQt75O/ORjtSJpz8xo3ziYZBt0CfUiiMAAedWOlEWYqvIiP9rtgxzb7y2Ley4Bw /nzGbA5ILq1DEy1hkRyDU+nMxQNCIPOdxiNrJUDUgp9Q9LzSOk1gnCvFtZoI3fW1FsznQIKd1fl 8YPxw+k0ixayWsJM3CZ1SSFTaiArIPP/J9cywyN0+3l4Egi5AIpQT6nI1lY= X-Google-Smtp-Source: AGHT+IGgwY6UQrKIGXiRR8BUSFtQd82z1EUlSuV7rRHu0WhM5EN74MugEfA+Xu9ulBQMqQxBn7ZzpS/FvsOP X-Received: by 2002:a05:6102:8024:b0:4e6:a338:a41d with SMTP id ada2fe7eead31-4e6ecd881d3mr10827593137.11.1748882324189; Mon, 02 Jun 2025 09:38:44 -0700 (PDT) Received: from postal.iol.unh.edu (postal.iol.unh.edu. [132.177.123.84]) by smtp-relay.gmail.com with ESMTPS id ada2fe7eead31-4e64e9b743esm308109137.5.2025.06.02.09.38.44 (version=TLS1_2 cipher=ECDHE-ECDSA-AES128-GCM-SHA256 bits=128/128); Mon, 02 Jun 2025 09:38:44 -0700 (PDT) X-Relaying-Domain: iol.unh.edu Date: Mon, 02 Jun 2025 09:38:44 -0700 (PDT) Message-ID: <683dd394.050a0220.15d05b.0ad4SMTPIN_ADDED_MISSING@mx.google.com> Received: from [172.21.0.7] (unknown [172.18.0.240]) by postal.iol.unh.edu (Postfix) with ESMTP id 9D8066052471; Mon, 2 Jun 2025 12:38:43 -0400 (EDT) Subject: |SUCCESS| pw153938 [PATCH] [v4,1/1] vhost: handle virtqueue locking From: dpdklab@iol.unh.edu To: Test Report Cc: dpdk-test-reports@iol.unh.edu In-Reply-To: <20250602085005.1882499-2-dvo-plv@napatech.com> References: <20250602085005.1882499-2-dvo-plv@napatech.com> Content-Type: text/plain X-BeenThere: test-report@dpdk.org X-Mailman-Version: 2.1.29 Precedence: list List-Id: automatic DPDK test reports List-Unsubscribe: , List-Archive: List-Post: List-Help: List-Subscribe: , Errors-To: test-report-bounces@dpdk.org Test-Label: iol-abi-testing Test-Status: SUCCESS http://dpdk.org/patch/153938 _Testing PASS_ Submitter: Danylo Vodopianov Date: Monday, June 02 2025 08:50:05 DPDK git baseline: Repo:dpdk Branch: master CommitID:3223019e73391066cbb0d248051b163e5373034c 153938 --> testing pass Upstream job id: Generic-DPDK-Compile-ABI#128602 Test environment and result as below: +-------------------------------+----------+ | Environment | abi_test | +===============================+==========+ | CentOS Stream 9 | PASS | +-------------------------------+----------+ | CentOS Stream 10 | PASS | +-------------------------------+----------+ | Debian GNU/Linux 12 | PASS | +-------------------------------+----------+ | Fedora 40 | PASS | +-------------------------------+----------+ | Fedora 41 | PASS | +-------------------------------+----------+ | Fedora 41 (Clang) | PASS | +-------------------------------+----------+ | openSUSE Leap 15.6 | PASS | +-------------------------------+----------+ | Fedora 40 (Clang) | PASS | +-------------------------------+----------+ | Red Hat Enterprise Linux 8.10 | PASS | +-------------------------------+----------+ | Red Hat Enterprise Linux 9.5 | PASS | +-------------------------------+----------+ | Ubuntu 22.04 | PASS | +-------------------------------+----------+ | Ubuntu 24.04 | PASS | +-------------------------------+----------+ CentOS Stream 9 Kernel: Depends on container host Compiler: gcc 11.5.0 20240719 (Red Hat 11.5.0-2) CentOS Stream 10 Kernel: Depends on container host Compiler: gcc 14.2.1 20241104 (Red Hat 14.2.1-6) Debian GNU/Linux 12 Kernel: 5.15 Compiler: gcc gcc (Debian 12.2.0-14) 12.2.0 Fedora 40 Kernel: Depends on container host Compiler: gcc 14.2.1 20240912 (Red Hat 14.2.1-3) Fedora 41 Kernel: Depends on container host Compiler: gcc 14.2.1 20240912 (Red Hat 14.2.1-3) Fedora 41 (Clang) Kernel: Depends on container host Compiler: clang 19.1.5 (Fedora 19.1.5-1.fc41) openSUSE Leap 15.6 Kernel: 5.15 Compiler: gcc gcc (SUSE Linux) 7.5.0 Fedora 40 (Clang) Kernel: Depends on container host Compiler: clang 18.1.8 (Fedora 18.1.8-1.fc40) Red Hat Enterprise Linux 8.10 Kernel: 5.15 Compiler: gcc gcc (GCC) 8.5.0 20210514 (Red Hat 8.5.0-22) Red Hat Enterprise Linux 9.5 Kernel: 5.15 Compiler: gcc gcc (GCC) 11.5.0 20240719 (Red Hat 11.5.0-2) Ubuntu 22.04 Kernel: 5.15 Compiler: gcc gcc (Ubuntu 11.4.0-1ubuntu1~22.04) 11.4.0 Ubuntu 24.04 Kernel: 5.15 Compiler: gcc gcc (Ubuntu 13.3.0-6ubuntu2~24.04) 13.3.0 To view detailed results, visit: https://lab.dpdk.org/results/dashboard/patchsets/33299/ UNH-IOL DPDK Community Lab To manage your email subscriptions, visit: https://lab.dpdk.org/results/dashboard/preferences/subscriptions/