From mboxrd@z Thu Jan 1 00:00:00 1970 Return-Path: Received: from mails.dpdk.org (mails.dpdk.org [217.70.189.124]) by inbox.dpdk.org (Postfix) with ESMTP id 7D8F34685E for ; Mon, 2 Jun 2025 19:21:23 +0200 (CEST) Received: from mails.dpdk.org (localhost [127.0.0.1]) by mails.dpdk.org (Postfix) with ESMTP id 75DB04028E; Mon, 2 Jun 2025 19:21:23 +0200 (CEST) Received: from mail-pl1-f227.google.com (mail-pl1-f227.google.com [209.85.214.227]) by mails.dpdk.org (Postfix) with ESMTP id C2A224028E for ; Mon, 2 Jun 2025 19:21:21 +0200 (CEST) Received: by mail-pl1-f227.google.com with SMTP id d9443c01a7336-234b9dfb842so43432715ad.1 for ; Mon, 02 Jun 2025 10:21:21 -0700 (PDT) DKIM-Signature: v=1; a=rsa-sha256; c=relaxed/relaxed; d=iol.unh.edu; s=unh-iol; t=1748884881; x=1749489681; darn=dpdk.org; h=references:in-reply-to:cc:to:from:subject:message-id:date:from:to :cc:subject:date:message-id:reply-to; bh=+aEV+Ai25vJYLzyeW42+POnYDpYU7k72TgoEmEkgX7M=; b=iz+Sv/EhILNBU2JUoJpNlsB4CDs1VcsJXgHAdhOSbBBYU/TECBnak4MocP+IIQfivJ fGUEFhd6Gt55TuQuwYKh9CROjadBsl3gbBsXnVGMMxfajF0mLx+OyWbGvlKzg6++KjUF hPQXHzjgYH7FGqkuEW6p63+3WwNUtPj1sMdB4= X-Google-DKIM-Signature: v=1; a=rsa-sha256; c=relaxed/relaxed; d=1e100.net; s=20230601; t=1748884881; x=1749489681; h=references:in-reply-to:cc:to:from:subject:message-id:date :x-gm-message-state:from:to:cc:subject:date:message-id:reply-to; bh=+aEV+Ai25vJYLzyeW42+POnYDpYU7k72TgoEmEkgX7M=; b=Q+vV5BgyosGwl1HMtDhecTAOqIIQf9wEIZEJXIlutrU/PfDfDVnYS5mlXLjmMZa4Mw TEdXHBA/Xt2xGZ92NEZgmh0QJw6jMdKEg/Ayo4ffxyHAozpTqVVt46zlCL+gqzDxBqAb AqyhDZeeYoawKf8zB0YqD9TvQmRC43Tu3OcGvml+sob+YW9LXXaFPU+YAYClA42vOoyu ra9x9DhtLEPYTvA6lwdlzRwc2u3JfpRIq6jSLRW9O7SHn8EMgHOlLJgxLQoZkQheYkrw SGS7M5ZrVy4r6exe64diVTPllfj+VEpQcZceIzT5gCD9ztyeDIfgP6voJXrccyCIbOHc OSjA== X-Gm-Message-State: AOJu0Yw/q9bmy44rL07DH/NoxHsAF+Ust1NF3EYB1FCfSwvLGtsauKb9 ZBe0A5+OvlLuk2zHd6A19yoJJyTrP8KAZSf1k0o2l2FSsYkFYwsz2TfGDmaOw+U+U8W100mVM/X lWULu3Px3pv8OOZ8u89QIuV/ahN+VoVlcVh52SXjnjG9gsF1DLIUzCvWAYJlU X-Gm-Gg: ASbGncuQeEH21YJpIM6vRXYxSvHvNILOJu1+wQyZOg/MHu45o8wurFr2Xl0heADT5zB fiTu6a3P+YP9knAE6/3QQr1QeffkNw9A5R4az7XQqT8AIjn1eRJNGQBg5o4XgdYiQgBETAnbrtD GCsddWQhQohJL593rxlYpg5+ayLZxZ+fArOzDDqIgaF3c//ZNIYqCverbUk8MCZzeSjgMXfvnuT kMCP5Fv0jj0GiZK8D16qzPzGMrrBtFd0YLiqCYkKNHNYS9CF+Dp+vV2Ht/ONJTZNHRnws3zigDK WEVJqfoP6QLQ2Wfmnl+qxBv6pASjRnYA/Ax1 X-Google-Smtp-Source: AGHT+IFWnb4XnNVP6VwmlGAYpFuntCPVTEwnRnTH1O7vRD7Daa4hRN9/wrKE8dUgTvwgwvS3GRuIAzPqsiZK X-Received: by 2002:a17:903:1a03:b0:234:a063:e2c0 with SMTP id d9443c01a7336-2355f6de4camr153331795ad.21.1748884880636; Mon, 02 Jun 2025 10:21:20 -0700 (PDT) Received: from postal.iol.unh.edu (postal.iol.unh.edu. [2606:4100:3880:1234::84]) by smtp-relay.gmail.com with ESMTPS id d9443c01a7336-23506d37f6csm5573315ad.83.2025.06.02.10.21.20 (version=TLS1_2 cipher=ECDHE-ECDSA-AES128-GCM-SHA256 bits=128/128); Mon, 02 Jun 2025 10:21:20 -0700 (PDT) X-Relaying-Domain: iol.unh.edu Date: Mon, 02 Jun 2025 10:21:20 -0700 (PDT) Message-ID: <683ddd90.170a0220.23ed02.f234SMTPIN_ADDED_MISSING@mx.google.com> Received: from [172.17.0.2] (unknown [172.18.0.76]) by postal.iol.unh.edu (Postfix) with ESMTP id D02F26052471; Mon, 2 Jun 2025 13:21:19 -0400 (EDT) Subject: |WARNING| pw153938 [PATCH] [v4,1/1] vhost: handle virtqueue locking From: dpdklab@iol.unh.edu To: Test Report Cc: dpdk-test-reports@iol.unh.edu In-Reply-To: <20250602085005.1882499-2-dvo-plv@napatech.com> References: <20250602085005.1882499-2-dvo-plv@napatech.com> Content-Type: text/plain X-BeenThere: test-report@dpdk.org X-Mailman-Version: 2.1.29 Precedence: list List-Id: automatic DPDK test reports List-Unsubscribe: , List-Archive: List-Post: List-Help: List-Subscribe: , Errors-To: test-report-bounces@dpdk.org Test-Label: iol-compile-amd64-testing Test-Status: WARNING http://dpdk.org/patch/153938 _Testing issues_ Submitter: Danylo Vodopianov Date: Monday, June 02 2025 08:50:05 DPDK git baseline: Repo:dpdk Branch: master CommitID:3223019e73391066cbb0d248051b163e5373034c 153938 --> testing issues Upstream job id: Generic-DPDK-Compile-Meson#393636 Test environment and result as below: +-------------------------------+--------------------+-------------------+------------------+-------------------+ | Environment | dpdk_meson_compile | dpdk_compile_spdk | dpdk_compile_ovs | dpdk_msvc_compile | +===============================+====================+===================+==================+===================+ | CentOS Stream 9 | PASS | PASS | SKIPPED | SKIPPED | +-------------------------------+--------------------+-------------------+------------------+-------------------+ | CentOS Stream 10 | PASS | SKIPPED | SKIPPED | SKIPPED | +-------------------------------+--------------------+-------------------+------------------+-------------------+ | Debian GNU/Linux 12 | PASS | PASS | SKIPPED | SKIPPED | +-------------------------------+--------------------+-------------------+------------------+-------------------+ | Fedora 40 (Clang) | PASS | WARN | SKIPPED | SKIPPED | +-------------------------------+--------------------+-------------------+------------------+-------------------+ | Fedora 40 | PASS | PASS | SKIPPED | SKIPPED | +-------------------------------+--------------------+-------------------+------------------+-------------------+ | Fedora 41 (Clang) | PEND | PEND | PEND | SKIPPED | +-------------------------------+--------------------+-------------------+------------------+-------------------+ | Fedora 41 | PASS | PASS | PASS | SKIPPED | +-------------------------------+--------------------+-------------------+------------------+-------------------+ | openSUSE Leap 15.6 | PASS | SKIPPED | SKIPPED | SKIPPED | +-------------------------------+--------------------+-------------------+------------------+-------------------+ | Red Hat Enterprise Linux 8.10 | PASS | SKIPPED | SKIPPED | SKIPPED | +-------------------------------+--------------------+-------------------+------------------+-------------------+ | Ubuntu 20.04 | PASS | SKIPPED | SKIPPED | SKIPPED | +-------------------------------+--------------------+-------------------+------------------+-------------------+ | Red Hat Enterprise Linux 9.5 | PASS | SKIPPED | SKIPPED | SKIPPED | +-------------------------------+--------------------+-------------------+------------------+-------------------+ | Ubuntu 22.04 | PEND | PEND | SKIPPED | SKIPPED | +-------------------------------+--------------------+-------------------+------------------+-------------------+ | Ubuntu 24.04 | PASS | PASS | PASS | SKIPPED | +-------------------------------+--------------------+-------------------+------------------+-------------------+ | Alpine | PASS | SKIPPED | SKIPPED | SKIPPED | +-------------------------------+--------------------+-------------------+------------------+-------------------+ | FreeBSD 14.2 | PASS | SKIPPED | SKIPPED | SKIPPED | +-------------------------------+--------------------+-------------------+------------------+-------------------+ | Windows Server 2022 | SKIPPED | SKIPPED | SKIPPED | PASS | +-------------------------------+--------------------+-------------------+------------------+-------------------+ ==== 20 line log output for Fedora 40 (Clang) (dpdk_compile_spdk): ==== --- Failed to get log output --- ==== End log output ==== CentOS Stream 9 Kernel: Depends on container host Compiler: gcc 11.5.0 20240719 (Red Hat 11.5.0-2) CentOS Stream 10 Kernel: Depends on container host Compiler: gcc 14.2.1 20241104 (Red Hat 14.2.1-6) Debian GNU/Linux 12 Kernel: 5.15 Compiler: gcc gcc (Debian 12.2.0-14) 12.2.0 Fedora 40 (Clang) Kernel: Depends on container host Compiler: clang 18.1.8 (Fedora 18.1.8-1.fc40) Fedora 40 Kernel: Depends on container host Compiler: gcc 14.2.1 20240912 (Red Hat 14.2.1-3) Fedora 41 (Clang) Kernel: Depends on container host Compiler: clang 19.1.5 (Fedora 19.1.5-1.fc41) Fedora 41 Kernel: Depends on container host Compiler: gcc 14.2.1 20240912 (Red Hat 14.2.1-3) openSUSE Leap 15.6 Kernel: 5.15 Compiler: gcc gcc (SUSE Linux) 7.5.0 Red Hat Enterprise Linux 8.10 Kernel: 5.15 Compiler: gcc gcc (GCC) 8.5.0 20210514 (Red Hat 8.5.0-22) Ubuntu 20.04 Kernel: 4.19 Compiler: gcc gcc (Ubuntu 9.4.0-1ubuntu1~20.04.2) 9.4.0 Red Hat Enterprise Linux 9.5 Kernel: 5.15 Compiler: gcc gcc (GCC) 11.5.0 20240719 (Red Hat 11.5.0-2) Ubuntu 22.04 Kernel: 5.15 Compiler: gcc gcc (Ubuntu 11.4.0-1ubuntu1~22.04) 11.4.0 Ubuntu 24.04 Kernel: 5.15 Compiler: gcc gcc (Ubuntu 13.3.0-6ubuntu2~24.04) 13.3.0 Alpine Kernel: Depends on container host Compiler: gcc (Alpine 14.2.0) 14.2.0 FreeBSD 14.2 Kernel: 14.2-RELEASE Compiler: clang 18.1.6 Windows Server 2022 Kernel: 10.0.20348.2031 Compiler: clang 15.0.7, gcc 14.1.0 (MinGW), and MSVC VS 19.39.33521 To view detailed results, visit: https://lab.dpdk.org/results/dashboard/patchsets/33299/ UNH-IOL DPDK Community Lab To manage your email subscriptions, visit: https://lab.dpdk.org/results/dashboard/preferences/subscriptions/