From mboxrd@z Thu Jan 1 00:00:00 1970 Return-Path: Received: from mails.dpdk.org (mails.dpdk.org [217.70.189.124]) by inbox.dpdk.org (Postfix) with ESMTP id 6054C4685E for ; Mon, 2 Jun 2025 19:27:45 +0200 (CEST) Received: from mails.dpdk.org (localhost [127.0.0.1]) by mails.dpdk.org (Postfix) with ESMTP id 5B52C4028E; Mon, 2 Jun 2025 19:27:45 +0200 (CEST) Received: from mail-io1-f100.google.com (mail-io1-f100.google.com [209.85.166.100]) by mails.dpdk.org (Postfix) with ESMTP id ADCA04028E for ; Mon, 2 Jun 2025 19:27:44 +0200 (CEST) Received: by mail-io1-f100.google.com with SMTP id ca18e2360f4ac-86cf51b9a0dso101349039f.1 for ; Mon, 02 Jun 2025 10:27:44 -0700 (PDT) DKIM-Signature: v=1; a=rsa-sha256; c=relaxed/relaxed; d=iol.unh.edu; s=unh-iol; t=1748885264; x=1749490064; darn=dpdk.org; h=references:in-reply-to:cc:to:from:subject:message-id:date:from:to :cc:subject:date:message-id:reply-to; bh=aPg7nLjxrp76KQ1v6YAH6qTn+EVvgpJsePxjXprq9iw=; b=QEiNJqyHyu+3+6UxoZ041LuPk/MWbZ42wOa6o4ez78Zzu3BRxr6Xv5r8rB+judHeSq Om0pNedKJ5J0T/pJp60tI+fnON8aWEc+eISVz5jRW2rurxmbiWlzZ0Feo4p+TgSbl74d vlLSN4kCjU18iuwuIbh27aryCZjs980Y0anqw= X-Google-DKIM-Signature: v=1; a=rsa-sha256; c=relaxed/relaxed; d=1e100.net; s=20230601; t=1748885264; x=1749490064; h=references:in-reply-to:cc:to:from:subject:message-id:date :x-gm-message-state:from:to:cc:subject:date:message-id:reply-to; bh=aPg7nLjxrp76KQ1v6YAH6qTn+EVvgpJsePxjXprq9iw=; b=envLT3cSoWnX/JmIMXH90bnyLADUjvEAk395lv6SVMiFiYytyi78N5OeUKyxbxC/RH Dh/yvVebcIM9hiBhRzlsOkL2/Q26pkN9WCxGqxZ1JVaGEvN22aZ+xUb3DiarXb7GeE9N zPMrNWvmhWTA6xaWqY9Nhu5MSK61z1XzyuXIATXwXVO5flKcfD09YdQFgSmnXkYNn7Km x1aOPB883JP4DfXZhl9OVnAo/t4DTP1jeGjgIFL4Kex3dIfSNt1SsSnEKg4x7bXJ5aZq ZWYPLicR+Z6vm9jq0Cvm5mSWA55FKlARJpnnDfFCMeoid/cz6zX45VmUvXv5h/qgts/8 6DRw== X-Gm-Message-State: AOJu0YzdwZIqUBER5gJCytHOSS14+F1+hLZllGukr3T7bhFTJ3WTXelG 4/crIDyEFChYrG15XsDI0VSO494GXOV9ytN1DMZAmR0YNG3DGTYnWsrew178upFvEEWJOZT3xLj ZnlIgZ1leqMVO6BoiUgzPQOWf3FlHSdiQlKsWYUFkW4MvjYkTCHY+NK7b7U1O X-Gm-Gg: ASbGnctNxtyNluCeCBxVVk5ddlXaLf+kT14GBPVxxueQq1KoT6gm+xyF37xDy3YXg/E a79GTJ6S0IPd7o6vVXHnC1C5GUX/AaczB1Q7npD2B2bkpWtirMTY7zLL787Tbonl8qNqqCKvfRz WloiqUmZCYaU6qzQKDKGK0MPZlaYHcCcvTYLiSVCLgVJmsfTgekF0Z5lm2wkqhXjSREiQZhwgIe ntCNbo1Wl9h8y3b4DNAXdQOI+d/o5jMQKrbZoWP2A8aUfblxC4ywbSH+xf5mMjMAQLYRsK1QAMS wH4Cf+pytYfh0p5suVdRg82L7YZPb/Aryf7j X-Google-Smtp-Source: AGHT+IHDg0FMZ01lVDJUbea4hjJg9kD6/Za6Cm/+kmFU2MG9gvHHPWGjGhNGtXC02DYDGGlxpQvXyBB77qSL X-Received: by 2002:a05:6602:3e89:b0:862:fe54:df4e with SMTP id ca18e2360f4ac-86d2da0b35bmr997689739f.7.1748885263690; Mon, 02 Jun 2025 10:27:43 -0700 (PDT) Received: from postal.iol.unh.edu (postal.iol.unh.edu. [2606:4100:3880:1234::84]) by smtp-relay.gmail.com with ESMTPS id 8926c6da1cb9f-4fdd7e3ecc1sm181009173.34.2025.06.02.10.27.43 (version=TLS1_2 cipher=ECDHE-ECDSA-AES128-GCM-SHA256 bits=128/128); Mon, 02 Jun 2025 10:27:43 -0700 (PDT) X-Relaying-Domain: iol.unh.edu Date: Mon, 02 Jun 2025 10:27:43 -0700 (PDT) Message-ID: <683ddf0f.050a0220.655c0.9663SMTPIN_ADDED_MISSING@mx.google.com> Received: from [172.17.0.4] (unknown [172.18.0.74]) by postal.iol.unh.edu (Postfix) with ESMTP id 2CD016052471; Mon, 2 Jun 2025 13:27:43 -0400 (EDT) Subject: |WARNING| pw153938 [PATCH] [v4,1/1] vhost: handle virtqueue locking From: dpdklab@iol.unh.edu To: Test Report Cc: dpdk-test-reports@iol.unh.edu In-Reply-To: <20250602085005.1882499-2-dvo-plv@napatech.com> References: <20250602085005.1882499-2-dvo-plv@napatech.com> Content-Type: text/plain X-BeenThere: test-report@dpdk.org X-Mailman-Version: 2.1.29 Precedence: list List-Id: automatic DPDK test reports List-Unsubscribe: , List-Archive: List-Post: List-Help: List-Subscribe: , Errors-To: test-report-bounces@dpdk.org Test-Label: iol-compile-amd64-testing Test-Status: WARNING http://dpdk.org/patch/153938 _Testing issues_ Submitter: Danylo Vodopianov Date: Monday, June 02 2025 08:50:05 DPDK git baseline: Repo:dpdk Branch: master CommitID:3223019e73391066cbb0d248051b163e5373034c 153938 --> testing issues Upstream job id: Generic-DPDK-Compile-Meson#393634 Test environment and result as below: +-------------------------------+--------------------+-------------------+------------------+-------------------+ | Environment | dpdk_meson_compile | dpdk_compile_spdk | dpdk_compile_ovs | dpdk_msvc_compile | +===============================+====================+===================+==================+===================+ | CentOS Stream 9 | PASS | PASS | SKIPPED | SKIPPED | +-------------------------------+--------------------+-------------------+------------------+-------------------+ | CentOS Stream 10 | PASS | SKIPPED | SKIPPED | SKIPPED | +-------------------------------+--------------------+-------------------+------------------+-------------------+ | Debian GNU/Linux 12 | PASS | PASS | SKIPPED | SKIPPED | +-------------------------------+--------------------+-------------------+------------------+-------------------+ | Fedora 40 (Clang) | PASS | WARN | SKIPPED | SKIPPED | +-------------------------------+--------------------+-------------------+------------------+-------------------+ | Fedora 40 | PASS | PASS | SKIPPED | SKIPPED | +-------------------------------+--------------------+-------------------+------------------+-------------------+ | Fedora 41 (Clang) | PASS | WARN | PASS | SKIPPED | +-------------------------------+--------------------+-------------------+------------------+-------------------+ | Fedora 41 | PASS | PASS | PASS | SKIPPED | +-------------------------------+--------------------+-------------------+------------------+-------------------+ | openSUSE Leap 15.6 | PASS | SKIPPED | SKIPPED | SKIPPED | +-------------------------------+--------------------+-------------------+------------------+-------------------+ | Red Hat Enterprise Linux 8.10 | PASS | SKIPPED | SKIPPED | SKIPPED | +-------------------------------+--------------------+-------------------+------------------+-------------------+ | Ubuntu 20.04 | PASS | SKIPPED | SKIPPED | SKIPPED | +-------------------------------+--------------------+-------------------+------------------+-------------------+ | Red Hat Enterprise Linux 9.5 | PASS | SKIPPED | SKIPPED | SKIPPED | +-------------------------------+--------------------+-------------------+------------------+-------------------+ | Ubuntu 22.04 | PASS | PASS | SKIPPED | SKIPPED | +-------------------------------+--------------------+-------------------+------------------+-------------------+ | Ubuntu 24.04 | PASS | PASS | PASS | SKIPPED | +-------------------------------+--------------------+-------------------+------------------+-------------------+ | Alpine | PASS | SKIPPED | SKIPPED | SKIPPED | +-------------------------------+--------------------+-------------------+------------------+-------------------+ | FreeBSD 14.2 | PASS | SKIPPED | SKIPPED | SKIPPED | +-------------------------------+--------------------+-------------------+------------------+-------------------+ | Windows Server 2022 | SKIPPED | SKIPPED | SKIPPED | PASS | +-------------------------------+--------------------+-------------------+------------------+-------------------+ ==== 20 line log output for Fedora 41 (Clang) (dpdk_compile_spdk): ==== --- Failed to get log output --- ==== End log output ==== CentOS Stream 9 Kernel: Depends on container host Compiler: gcc 11.5.0 20240719 (Red Hat 11.5.0-2) CentOS Stream 10 Kernel: Depends on container host Compiler: gcc 14.2.1 20241104 (Red Hat 14.2.1-6) Debian GNU/Linux 12 Kernel: 5.15 Compiler: gcc gcc (Debian 12.2.0-14) 12.2.0 Fedora 40 (Clang) Kernel: Depends on container host Compiler: clang 18.1.8 (Fedora 18.1.8-1.fc40) Fedora 40 Kernel: Depends on container host Compiler: gcc 14.2.1 20240912 (Red Hat 14.2.1-3) Fedora 41 (Clang) Kernel: Depends on container host Compiler: clang 19.1.5 (Fedora 19.1.5-1.fc41) Fedora 41 Kernel: Depends on container host Compiler: gcc 14.2.1 20240912 (Red Hat 14.2.1-3) openSUSE Leap 15.6 Kernel: 5.15 Compiler: gcc gcc (SUSE Linux) 7.5.0 Red Hat Enterprise Linux 8.10 Kernel: 5.15 Compiler: gcc gcc (GCC) 8.5.0 20210514 (Red Hat 8.5.0-22) Ubuntu 20.04 Kernel: 4.19 Compiler: gcc gcc (Ubuntu 9.4.0-1ubuntu1~20.04.2) 9.4.0 Red Hat Enterprise Linux 9.5 Kernel: 5.15 Compiler: gcc gcc (GCC) 11.5.0 20240719 (Red Hat 11.5.0-2) Ubuntu 22.04 Kernel: 5.15 Compiler: gcc gcc (Ubuntu 11.4.0-1ubuntu1~22.04) 11.4.0 Ubuntu 24.04 Kernel: 5.15 Compiler: gcc gcc (Ubuntu 13.3.0-6ubuntu2~24.04) 13.3.0 Alpine Kernel: Depends on container host Compiler: gcc (Alpine 14.2.0) 14.2.0 FreeBSD 14.2 Kernel: 14.2-RELEASE Compiler: clang 18.1.6 Windows Server 2022 Kernel: 10.0.20348.2031 Compiler: clang 15.0.7, gcc 14.1.0 (MinGW), and MSVC VS 19.39.33521 To view detailed results, visit: https://lab.dpdk.org/results/dashboard/patchsets/33299/ UNH-IOL DPDK Community Lab To manage your email subscriptions, visit: https://lab.dpdk.org/results/dashboard/preferences/subscriptions/