From mboxrd@z Thu Jan 1 00:00:00 1970 Return-Path: Received: from mails.dpdk.org (mails.dpdk.org [217.70.189.124]) by inbox.dpdk.org (Postfix) with ESMTP id A12D84685E for ; Mon, 2 Jun 2025 19:30:02 +0200 (CEST) Received: from mails.dpdk.org (localhost [127.0.0.1]) by mails.dpdk.org (Postfix) with ESMTP id 9CCC24028E; Mon, 2 Jun 2025 19:30:02 +0200 (CEST) Received: from mail-oa1-f98.google.com (mail-oa1-f98.google.com [209.85.160.98]) by mails.dpdk.org (Postfix) with ESMTP id 885514028E for ; Mon, 2 Jun 2025 19:30:01 +0200 (CEST) Received: by mail-oa1-f98.google.com with SMTP id 586e51a60fabf-2d0920ce388so2546153fac.0 for ; Mon, 02 Jun 2025 10:30:01 -0700 (PDT) DKIM-Signature: v=1; a=rsa-sha256; c=relaxed/relaxed; d=iol.unh.edu; s=unh-iol; t=1748885400; x=1749490200; darn=dpdk.org; h=references:in-reply-to:cc:to:from:subject:message-id:date:from:to :cc:subject:date:message-id:reply-to; bh=fDGbziZXxD4SWd11LOIfwRLylfAzhLNGuk7WEuQMfp0=; b=ex9xijBy0hJI2FaRkbKkRRYtFGm7O8zStQUPVmPMR844IJzg4Z8voH1j3C8z/GRBBO V6gAj8fcawCK0jK67F51yatohkaA+aEQunENfJnRM1BM84SVizFyM8j3a3EjgBDxvJs7 aOgTVqYGMlO6Sv2hQta3s9u5WLPVSiOvmSuAE= X-Google-DKIM-Signature: v=1; a=rsa-sha256; c=relaxed/relaxed; d=1e100.net; s=20230601; t=1748885400; x=1749490200; h=references:in-reply-to:cc:to:from:subject:message-id:date :x-gm-message-state:from:to:cc:subject:date:message-id:reply-to; bh=fDGbziZXxD4SWd11LOIfwRLylfAzhLNGuk7WEuQMfp0=; b=CdiigzgOzfQyZWKrIVtQdvdYcjx4/+GxFBrwjWvoDlS92KxDBLbPlpgxQd3lPiiFVD Tfiysfh66Vv/B8KtF4udAo18xpd6JZ2RGKFoRGCBwmef27TjyFdacxkNVyI11A8gXmpf ndJZ8xt8FgsXySaXeVW6mu0n5p/KVyqO03aCJX9Lewe4Mczh7dG3WwsV+1LIp86KGTzR UM4yN/2/iOMFhkvt1h/K4xFViljjDv23f478V465oxx3GeqoSPVdtzUqKOuFUAmBfx5N PEVe02a7v70E05W+CuiELqODET0KHaua+MchFjEBFTwQw5i/niokRHd3u/XAyZFnHYyV EgJA== X-Gm-Message-State: AOJu0YyC/lkqWsHAV17m7932IUV6Q/u0Tq1MTMYaq75bo7q/PvkV8bs/ iIZiNiC/96EaqsH8PfA1ZZ4b4JbiNTpvMQlhKKe0OzjklUV2kbTwlZbcmgrTR872N90CDulH+Qm y2rW9uO6KaR66g3NApWq0Mx3klTE6XOeJnR3ZNUJoIInEmv0Z6FmBw70Kjw9p X-Gm-Gg: ASbGncv2gatdEMlLW0QI5+gAr8g+la0b557fEg1QPkOZdNFvTL/mrphwv8lU7gpvhwo hFYxNLENXVzSkDzrf8pyhrDMvGPuD8RXSo52QuTdlqkaXXW/5CNPM1HnEULAWLbEQH8IeiDp/BO sfiAn7uu9d1BT4/61/ZIQwP6/SmKM5ZQyUJCGF2JTyWqQRfryUI1ANkOHqRNA3SdoMdowWdRI2T wijArZkAIWfLXpSzWF407R9LK7zhor/QxzwwpYFzOhAoFz8DjVIyC9mL/WsL0De+Su8lVlm3wPF I24oZcm1rSXpgL5mM4lF/JCO2wpsDI+XtJLR X-Google-Smtp-Source: AGHT+IFjl8//v3S0WGdBxv07Qtw0COOUoY39q7qo4QqvJtKQUeIX2jzxSId2cya4VcrgrDDrvCBisdjM/6EV X-Received: by 2002:a05:6871:3591:b0:2c2:3e54:553 with SMTP id 586e51a60fabf-2e921522266mr8508324fac.28.1748885400581; Mon, 02 Jun 2025 10:30:00 -0700 (PDT) Received: from postal.iol.unh.edu (postal.iol.unh.edu. [2606:4100:3880:1234::84]) by smtp-relay.gmail.com with ESMTPS id 586e51a60fabf-2e906804d42sm445940fac.19.2025.06.02.10.30.00 (version=TLS1_2 cipher=ECDHE-ECDSA-AES128-GCM-SHA256 bits=128/128); Mon, 02 Jun 2025 10:30:00 -0700 (PDT) X-Relaying-Domain: iol.unh.edu Date: Mon, 02 Jun 2025 10:30:00 -0700 (PDT) Message-ID: <683ddf98.050a0220.1b897a.708aSMTPIN_ADDED_MISSING@mx.google.com> Received: from [172.17.0.2] (unknown [172.18.0.74]) by postal.iol.unh.edu (Postfix) with ESMTP id 104DD6052471; Mon, 2 Jun 2025 13:30:00 -0400 (EDT) Subject: |SUCCESS| pw153938 [PATCH] [v4,1/1] vhost: handle virtqueue locking From: dpdklab@iol.unh.edu To: Test Report Cc: dpdk-test-reports@iol.unh.edu In-Reply-To: <20250602085005.1882499-2-dvo-plv@napatech.com> References: <20250602085005.1882499-2-dvo-plv@napatech.com> Content-Type: text/plain X-BeenThere: test-report@dpdk.org X-Mailman-Version: 2.1.29 Precedence: list List-Id: automatic DPDK test reports List-Unsubscribe: , List-Archive: List-Post: List-Help: List-Subscribe: , Errors-To: test-report-bounces@dpdk.org Test-Label: iol-unit-arm64-testing Test-Status: SUCCESS http://dpdk.org/patch/153938 _Testing PASS_ Submitter: Danylo Vodopianov Date: Monday, June 02 2025 08:50:05 DPDK git baseline: Repo:dpdk Branch: master CommitID:3223019e73391066cbb0d248051b163e5373034c 153938 --> testing pass Upstream job id: Aarch32-Unit-Test#6421 Test environment and result as below: +------------------------------+----------------+------------------------------+---------------------------+--------------+ | Environment | dpdk_unit_test | cryptodev_sw_snow3g_autotest | cryptodev_sw_zuc_autotest | lpm_autotest | +==============================+================+==============================+===========================+==============+ | CentOS Stream 9 (ARM) | PASS | SKIPPED | SKIPPED | SKIPPED | +------------------------------+----------------+------------------------------+---------------------------+--------------+ | Fedora 40 (ARM Clang) | PASS | SKIPPED | SKIPPED | SKIPPED | +------------------------------+----------------+------------------------------+---------------------------+--------------+ | CentOS Stream 10 (ARM) | PASS | SKIPPED | SKIPPED | SKIPPED | +------------------------------+----------------+------------------------------+---------------------------+--------------+ | Debian GNU/Linux 12 | PASS | SKIPPED | SKIPPED | SKIPPED | +------------------------------+----------------+------------------------------+---------------------------+--------------+ | Red Hat Enterprise Linux 9.5 | PASS | SKIPPED | SKIPPED | SKIPPED | +------------------------------+----------------+------------------------------+---------------------------+--------------+ | Fedora 41 (ARM) | PASS | SKIPPED | SKIPPED | SKIPPED | +------------------------------+----------------+------------------------------+---------------------------+--------------+ | Fedora 41 (ARM Clang) | PASS | SKIPPED | SKIPPED | SKIPPED | +------------------------------+----------------+------------------------------+---------------------------+--------------+ | Fedora 40 (ARM) | PASS | SKIPPED | SKIPPED | SKIPPED | +------------------------------+----------------+------------------------------+---------------------------+--------------+ | Ubuntu 24.04 | PASS | SKIPPED | SKIPPED | SKIPPED | +------------------------------+----------------+------------------------------+---------------------------+--------------+ | Ubuntu 20.04 | PASS | SKIPPED | SKIPPED | PASS | +------------------------------+----------------+------------------------------+---------------------------+--------------+ | Ubuntu 22.04 | PASS | SKIPPED | SKIPPED | SKIPPED | +------------------------------+----------------+------------------------------+---------------------------+--------------+ | Debian 12 (arm) | SKIPPED | PASS | PASS | SKIPPED | +------------------------------+----------------+------------------------------+---------------------------+--------------+ CentOS Stream 9 (ARM) Kernel: Depends on container host Compiler: gcc 11.5.0 20240719 (Red Hat 11.5.0-2) Fedora 40 (ARM Clang) Kernel: Depends on container host Compiler: clang 18.1.8 (Fedora 18.1.8-1.fc40) CentOS Stream 10 (ARM) Kernel: Depends on container host Compiler: gcc 14.2.1 20241104 (Red Hat 14.2.1-6) Debian GNU/Linux 12 Kernel: 5.4 Compiler: gcc gcc (Debian 12.2.0-14) 12.2.0 Red Hat Enterprise Linux 9.5 Kernel: 5.4 Compiler: gcc gcc (GCC) 11.5.0 20240719 (Red Hat 11.5.0-2) Fedora 41 (ARM) Kernel: Depends on container host Compiler: gcc 14.2.1 20240912 (Red Hat 14.2.1-3) Fedora 41 (ARM Clang) Kernel: Depends on container host Compiler: clang 19.1.5 (Fedora 19.1.5-1.fc41) Fedora 40 (ARM) Kernel: Depends on container host Compiler: gcc 14.2.1 20240912 (Red Hat 14.2.1-3) Ubuntu 24.04 Kernel: 5.4 Compiler: gcc gcc (Ubuntu 13.3.0-6ubuntu2~24.04) 13.3.0 Ubuntu 20.04 Kernel: 5.4 Compiler: gcc gcc (Ubuntu 9.4.0-1ubuntu1~20.04.2) 9.4.0 Ubuntu 22.04 Kernel: 5.4 Compiler: gcc gcc (Ubuntu 11.4.0-1ubuntu1~22.04) 11.4.0 Debian 12 (arm) Kernel: Depends on container host Compiler: gcc (Debian 12.2.0-14) 12.2.0 To view detailed results, visit: https://lab.dpdk.org/results/dashboard/patchsets/33299/ UNH-IOL DPDK Community Lab To manage your email subscriptions, visit: https://lab.dpdk.org/results/dashboard/preferences/subscriptions/