From mboxrd@z Thu Jan 1 00:00:00 1970 Return-Path: Received: from mails.dpdk.org (mails.dpdk.org [217.70.189.124]) by inbox.dpdk.org (Postfix) with ESMTP id 4FC644685E for ; Mon, 2 Jun 2025 19:49:10 +0200 (CEST) Received: from mails.dpdk.org (localhost [127.0.0.1]) by mails.dpdk.org (Postfix) with ESMTP id 2A37D4028E; Mon, 2 Jun 2025 19:49:10 +0200 (CEST) Received: from mail-oa1-f97.google.com (mail-oa1-f97.google.com [209.85.160.97]) by mails.dpdk.org (Postfix) with ESMTP id 892194028E for ; Mon, 2 Jun 2025 19:49:09 +0200 (CEST) Received: by mail-oa1-f97.google.com with SMTP id 586e51a60fabf-2da14a6f89aso2076127fac.2 for ; Mon, 02 Jun 2025 10:49:09 -0700 (PDT) DKIM-Signature: v=1; a=rsa-sha256; c=relaxed/relaxed; d=iol.unh.edu; s=unh-iol; t=1748886549; x=1749491349; darn=dpdk.org; h=references:in-reply-to:cc:to:from:subject:message-id:date:from:to :cc:subject:date:message-id:reply-to; bh=nswP6nq1Jwkat4VEj02UVZUmlWmWuUqmY/BkcHuHI9k=; b=HtOtAsf4wf7huPLbd9dkg0TJmGmtdi7TQWG02UklJmyMV3gWJgmmvekBtMcSMpgu6Z HjO9O0lQdd3sUFlV6Gf4Kxf3XnsELO6Tf6uZdNS8lccVRjD5j+YjLaccNleNZAOyB/jW tF0MXIuuiNEWoMFwjlkfJEct9LuKSb/fiQY/c= X-Google-DKIM-Signature: v=1; a=rsa-sha256; c=relaxed/relaxed; d=1e100.net; s=20230601; t=1748886549; x=1749491349; h=references:in-reply-to:cc:to:from:subject:message-id:date :x-gm-message-state:from:to:cc:subject:date:message-id:reply-to; bh=nswP6nq1Jwkat4VEj02UVZUmlWmWuUqmY/BkcHuHI9k=; b=dXarNai/H1ZEz7Df0hToWOB0i8QE9C3x6Rn/mbf4awpOy2iBZHeIRtWRqUOzYgWdrG 0ovfuzhBfH+yP45K7NVa3uvTAPPxQSukIW4e2aHAMBQWmDBh0y8RQFVqw9+ylsUGM15C TcseLeLw2ICvPhf4dIz/RUcHvHt7Gut98KzeNCFMzHBPQvCejEN5PYCj7NUYNQszAYte 92X0Up/7pWJJIuPKZlDHHHWBuxD6N8KfWU455cnHRelbniU8PVD2z/yAqlBhJFUcXPCY O/56H4QTMOAmGaUEuLPf2En5+86hlRo/GSQI8xWaVaf6H4tE+ib36M6uFXXhZF0sr+u5 LOOw== X-Gm-Message-State: AOJu0YyA1eED2qzuKl41gZzKntnucoucUY5tkyX3nt+L6/PO4S5EqtUO 75GSiYsfScf53g9J8xGyWcEiZpwccAohxut+hUXK9FIgFoguwS1q5YmOgsBZBJVKJUP9wVk1lJw SjLXmbOsnQBxiSEeGy3g2CLPhX9dh6bZbZyxnhR16OXFP X-Gm-Gg: ASbGncsRqpce/Twyd8aDWeUN+T1RJ5HRkbr917QhireNxx+f3FWd+7taMB8/etqjCXF 1haUPTNMsKl5m4zpVQ8tFZeiE5V2xCjx9I6vpd/GLFnlrUVAIjJgO8w2/O4I51TwVUIP4idpE+Q sMCBluCDCdVVMZ2mw2Gp9hqnwswmhlHH8Em9PcT9Fx9JhexLFSkd8VUHHTxnagSftAYDdW2o5kj dFHPqrpBbzLRFWMnFF27O1X2V3Lk7uzUzCngjKH7ptHh2/LLkpkJ1CEq8oGvvnaG+/D36CzXNLv HWdzyhJ1gdB2esxE3wHkdRhy75sYxXqmgiMYdR/P7jdt7hb0oGpg/tZwr9I= X-Google-Smtp-Source: AGHT+IHP/k1fqSFM9dl72qe0KGjRGzp9nSmiAfG6jCLhBHqLkc1aa0ZEHKGqAi43pBizIGaS1WtS5SJZQkEF X-Received: by 2002:a05:6870:e814:b0:2d5:a360:7df9 with SMTP id 586e51a60fabf-2e921167580mr8158827fac.5.1748886548719; Mon, 02 Jun 2025 10:49:08 -0700 (PDT) Received: from postal.iol.unh.edu (postal.iol.unh.edu. [132.177.123.84]) by smtp-relay.gmail.com with ESMTPS id 586e51a60fabf-2e906452032sm476662fac.1.2025.06.02.10.49.08 (version=TLS1_2 cipher=ECDHE-ECDSA-AES128-GCM-SHA256 bits=128/128); Mon, 02 Jun 2025 10:49:08 -0700 (PDT) X-Relaying-Domain: iol.unh.edu Date: Mon, 02 Jun 2025 10:49:08 -0700 (PDT) Message-ID: <683de414.050a0220.36c9f9.a348SMTPIN_ADDED_MISSING@mx.google.com> Received: from [172.21.0.5] (unknown [172.18.0.240]) by postal.iol.unh.edu (Postfix) with ESMTP id 2E2E56052471; Mon, 2 Jun 2025 13:49:08 -0400 (EDT) Subject: |SUCCESS| pw153938 [PATCH] [v4,1/1] vhost: handle virtqueue locking From: dpdklab@iol.unh.edu To: Test Report Cc: dpdk-test-reports@iol.unh.edu In-Reply-To: <20250602085005.1882499-2-dvo-plv@napatech.com> References: <20250602085005.1882499-2-dvo-plv@napatech.com> Content-Type: text/plain X-BeenThere: test-report@dpdk.org X-Mailman-Version: 2.1.29 Precedence: list List-Id: automatic DPDK test reports List-Unsubscribe: , List-Archive: List-Post: List-Help: List-Subscribe: , Errors-To: test-report-bounces@dpdk.org Test-Label: iol-unit-amd64-testing Test-Status: SUCCESS http://dpdk.org/patch/153938 _Testing PASS_ Submitter: Danylo Vodopianov Date: Monday, June 02 2025 08:50:05 DPDK git baseline: Repo:dpdk Branch: master CommitID:3223019e73391066cbb0d248051b163e5373034c 153938 --> testing pass Upstream job id: Generic-Unit-Test-DPDK#342711 Test environment and result as below: +-------------------------------+----------------+ | Environment | dpdk_unit_test | +===============================+================+ | CentOS Stream 9 | PASS | +-------------------------------+----------------+ | Fedora 40 | PASS | +-------------------------------+----------------+ | CentOS Stream 10 | PASS | +-------------------------------+----------------+ | Red Hat Enterprise Linux 8.10 | PASS | +-------------------------------+----------------+ | Debian GNU/Linux 12 | PASS | +-------------------------------+----------------+ | Fedora 41 | PASS | +-------------------------------+----------------+ | Fedora 40 (Clang) | PASS | +-------------------------------+----------------+ | Fedora 41 (Clang) | PASS | +-------------------------------+----------------+ | Red Hat Enterprise Linux 9.5 | PASS | +-------------------------------+----------------+ | Ubuntu 22.04 | PASS | +-------------------------------+----------------+ | Ubuntu 20.04 | PASS | +-------------------------------+----------------+ | Ubuntu 24.04 | PASS | +-------------------------------+----------------+ CentOS Stream 9 Kernel: Depends on container host Compiler: gcc 11.5.0 20240719 (Red Hat 11.5.0-2) Fedora 40 Kernel: Depends on container host Compiler: gcc 14.2.1 20240912 (Red Hat 14.2.1-3) CentOS Stream 10 Kernel: Depends on container host Compiler: gcc 14.2.1 20241104 (Red Hat 14.2.1-6) Red Hat Enterprise Linux 8.10 Kernel: 5.15 Compiler: gcc gcc (GCC) 8.5.0 20210514 (Red Hat 8.5.0-22) Debian GNU/Linux 12 Kernel: 5.15 Compiler: gcc gcc (Debian 12.2.0-14) 12.2.0 Fedora 41 Kernel: Depends on container host Compiler: gcc 14.2.1 20240912 (Red Hat 14.2.1-3) Fedora 40 (Clang) Kernel: Depends on container host Compiler: clang 18.1.8 (Fedora 18.1.8-1.fc40) Fedora 41 (Clang) Kernel: Depends on container host Compiler: clang 19.1.5 (Fedora 19.1.5-1.fc41) Red Hat Enterprise Linux 9.5 Kernel: 5.15 Compiler: gcc gcc (GCC) 11.5.0 20240719 (Red Hat 11.5.0-2) Ubuntu 22.04 Kernel: 5.15 Compiler: gcc gcc (Ubuntu 11.4.0-1ubuntu1~22.04) 11.4.0 Ubuntu 20.04 Kernel: 5.15 Compiler: gcc gcc (Ubuntu 9.4.0-1ubuntu1~20.04.2) 9.4.0 Ubuntu 24.04 Kernel: 5.15 Compiler: gcc gcc (Ubuntu 13.3.0-6ubuntu2~24.04) 13.3.0 To view detailed results, visit: https://lab.dpdk.org/results/dashboard/patchsets/33299/ UNH-IOL DPDK Community Lab To manage your email subscriptions, visit: https://lab.dpdk.org/results/dashboard/preferences/subscriptions/