From mboxrd@z Thu Jan  1 00:00:00 1970
Return-Path: <test-report-bounces@dpdk.org>
Received: from mails.dpdk.org (mails.dpdk.org [217.70.189.124])
	by inbox.dpdk.org (Postfix) with ESMTP id 180F74686D
	for <public@inbox.dpdk.org>; Tue,  3 Jun 2025 20:53:36 +0200 (CEST)
Received: from mails.dpdk.org (localhost [127.0.0.1])
	by mails.dpdk.org (Postfix) with ESMTP id 11A9B41132;
	Tue,  3 Jun 2025 20:53:36 +0200 (CEST)
Received: from mail-yw1-f227.google.com (mail-yw1-f227.google.com
 [209.85.128.227])
 by mails.dpdk.org (Postfix) with ESMTP id 55D4641132
 for <test-report@dpdk.org>; Tue,  3 Jun 2025 20:53:35 +0200 (CEST)
Received: by mail-yw1-f227.google.com with SMTP id
 00721157ae682-70e5d953c0bso67093577b3.1
 for <test-report@dpdk.org>; Tue, 03 Jun 2025 11:53:35 -0700 (PDT)
DKIM-Signature: v=1; a=rsa-sha256; c=relaxed/relaxed;
 d=iol.unh.edu; s=unh-iol; t=1748976814; x=1749581614; darn=dpdk.org;
 h=references:in-reply-to:cc:to:from:subject:message-id:date:from:to
 :cc:subject:date:message-id:reply-to;
 bh=ihYDBR2X5IzpTF1GH1ydVAt7y3eVlif3ZG8qIGEjVfw=;
 b=gHAfFtt6jck47DO1+R5bDI033aMqqbKRKjBn5nBho0+6vvg7oKxk86Vz60tuVvF0Cb
 X501GzCPi8duY7Ku1rDl/NwQcs5jF5EHaFzpNDONPytKdBfgH644cB3emxmtlwkUH/Dw
 b/fMbpXLhDKvpFAh9tpfxTSbxxziciShU7IXY=
X-Google-DKIM-Signature: v=1; a=rsa-sha256; c=relaxed/relaxed;
 d=1e100.net; s=20230601; t=1748976814; x=1749581614;
 h=references:in-reply-to:cc:to:from:subject:message-id:date
 :x-gm-message-state:from:to:cc:subject:date:message-id:reply-to;
 bh=ihYDBR2X5IzpTF1GH1ydVAt7y3eVlif3ZG8qIGEjVfw=;
 b=qVMASowCowNeRh5G1/ObQUFrPezr38OG/bkwX06S+ER+NjJUZRAAQnpNAzEB0E1mxk
 3Z53lqyYE4X498fy6aBEKmU8id1wJmxl8WavslotZ5elQz8X018cQg9ekYy3qgMxR5K6
 qElGcw3v3oeVs4GUzL7+WT5PmHNWgb1vNSyjaTVbiCwhOUq8z3/9rHZDXQGLHhYS7XMZ
 5peWbCZCTlv6IbtrZKuNQoDDaBoToRymD0expmmd9ckYYgvbyRI3ICRDXAtaN3zgGZ5K
 dQB9N2Mhi1mFwhGMdiWNEDTgWF900LhJNA6kkK9sC3dSPFigMRBq3jarA/OaTTIkNQsu
 CimA==
X-Gm-Message-State: AOJu0Yy9CVrRDw9a/Mi4U8i4Iwo6SC19fakBLCa0pgIr7ylMDrp5d1Ib
 7b37zA3xwJSoKaEGJ/kAFsyvHa9J8n+69vXSsLYrVwKpkxkOOio6r9xgRUGXozrFW9E89/zLOWm
 Z/1Nm4qxIIG73OyLaLFlQVIzUkg/m/hCA5y8AF5EIIMq7
X-Gm-Gg: ASbGncvAGvhZ/DiI4Ew88/UQNZOEz2Eoar2NKqY1rYH41IrJG2Ieq5CRnfDt5bvWwQg
 DVQPkZmBdkRlVwFr60hRcOyQd+gA7RJt2R1mwPtdn1eoGYvhCmeuE2HgEGlncHmRRwaM57Gpn8Q
 VXmL++gz3daGlHbVQOFcdp7rI3lIsiDzqiFL0Httgd/J+K8RufmroHEtjHiRJD2/CX+sSV/Unqv
 K/ZbYJNXODSLmH4H0iOof+x/i7PsQK4r8j8GlT8vm9UGp8cmR1rlYLwlOkt//Hg5rFFpIzEcDHt
 zR4s21pkMFZgCrKCV5EZXc6AjVd8TqfdRce6JwxsvW6qhhODorTINYFEi7w=
X-Google-Smtp-Source: AGHT+IHXJFuJ8pAnItDqwLbmp5hkMyPufVf7LTsSYSgr3CKYpM+g3uLL4nSMwHeZnvrs4EP7hEalcFIJvlli
X-Received: by 2002:a05:690c:3687:b0:70c:8f0c:f923 with SMTP id
 00721157ae682-71057cf3cf2mr249130667b3.18.1748976814703; 
 Tue, 03 Jun 2025 11:53:34 -0700 (PDT)
Received: from postal.iol.unh.edu (postal.iol.unh.edu. [132.177.123.84])
 by smtp-relay.gmail.com with ESMTPS id
 00721157ae682-70f8abcf70csm5981897b3.13.2025.06.03.11.53.34
 (version=TLS1_2 cipher=ECDHE-ECDSA-AES128-GCM-SHA256 bits=128/128);
 Tue, 03 Jun 2025 11:53:34 -0700 (PDT)
X-Relaying-Domain: iol.unh.edu
Date: Tue, 03 Jun 2025 11:53:34 -0700 (PDT)
Message-ID: <683f44ae.050a0220.319c2.f282SMTPIN_ADDED_MISSING@mx.google.com>
Received: from [172.21.0.18] (unknown [172.18.0.240])
 by postal.iol.unh.edu (Postfix) with ESMTP id 4E26F6052471;
 Tue,  3 Jun 2025 14:53:34 -0400 (EDT)
Subject: |SUCCESS| pw153993-153995 [PATCH] [v2,3/3] argparse: use enums to re
From: dpdklab@iol.unh.edu
To: Test Report <test-report@dpdk.org>
Cc: dpdk-test-reports@iol.unh.edu
In-Reply-To: <20250603153233.2427833-4-bruce.richardson@intel.com>
References: <20250603153233.2427833-4-bruce.richardson@intel.com>
Content-Type: text/plain
X-BeenThere: test-report@dpdk.org
X-Mailman-Version: 2.1.29
Precedence: list
List-Id: automatic DPDK test reports <test-report.dpdk.org>
List-Unsubscribe: <https://mails.dpdk.org/options/test-report>,
 <mailto:test-report-request@dpdk.org?subject=unsubscribe>
List-Archive: <http://mails.dpdk.org/archives/test-report/>
List-Post: <mailto:test-report@dpdk.org>
List-Help: <mailto:test-report-request@dpdk.org?subject=help>
List-Subscribe: <https://mails.dpdk.org/listinfo/test-report>,
 <mailto:test-report-request@dpdk.org?subject=subscribe>
Errors-To: test-report-bounces@dpdk.org

Test-Label: iol-abi-testing
Test-Status: SUCCESS
http://dpdk.org/patch/153995

_Testing PASS_

Submitter: Bruce Richardson <bruce.richardson@intel.com>
Date: Tuesday, June 03 2025 15:32:33 
DPDK git baseline: Repo:dpdk
  Branch: master
  CommitID:0ecbf93f50018e552ea3aa401129ef6075c1b36b

153993-153995 --> testing pass

Upstream job id: Generic-DPDK-Compile-ABI#128719

Test environment and result as below:

+-------------------------------+----------+
|          Environment          | abi_test |
+===============================+==========+
| Fedora 40                     | PASS     |
+-------------------------------+----------+
| CentOS Stream 9               | PASS     |
+-------------------------------+----------+
| CentOS Stream 10              | PASS     |
+-------------------------------+----------+
| Debian GNU/Linux 12           | PASS     |
+-------------------------------+----------+
| Fedora 40 (Clang)             | PASS     |
+-------------------------------+----------+
| openSUSE Leap 15.6            | PASS     |
+-------------------------------+----------+
| Fedora 41 (Clang)             | PASS     |
+-------------------------------+----------+
| Fedora 41                     | PASS     |
+-------------------------------+----------+
| Red Hat Enterprise Linux 9.5  | PASS     |
+-------------------------------+----------+
| Ubuntu 24.04                  | PASS     |
+-------------------------------+----------+
| Red Hat Enterprise Linux 8.10 | PASS     |
+-------------------------------+----------+
| Ubuntu 22.04                  | PASS     |
+-------------------------------+----------+


Fedora 40
	Kernel: Depends on container host
	Compiler: gcc 14.2.1 20240912 (Red Hat 14.2.1-3)

CentOS Stream 9
	Kernel: Depends on container host
	Compiler: gcc 11.5.0 20240719 (Red Hat 11.5.0-2)

CentOS Stream 10
	Kernel: Depends on container host
	Compiler: gcc 14.2.1 20241104 (Red Hat 14.2.1-6)

Debian GNU/Linux 12
	Kernel: 5.15
	Compiler: gcc gcc (Debian 12.2.0-14) 12.2.0

Fedora 40 (Clang)
	Kernel: Depends on container host
	Compiler: clang 18.1.8 (Fedora 18.1.8-1.fc40)

openSUSE Leap 15.6
	Kernel: 5.15
	Compiler: gcc gcc (SUSE Linux) 7.5.0

Fedora 41 (Clang)
	Kernel: Depends on container host
	Compiler: clang 19.1.5 (Fedora 19.1.5-1.fc41)

Fedora 41
	Kernel: Depends on container host
	Compiler: gcc 14.2.1 20240912 (Red Hat 14.2.1-3)

Red Hat Enterprise Linux 9.5
	Kernel: 5.15
	Compiler: gcc gcc (GCC) 11.5.0 20240719 (Red Hat 11.5.0-2)

Ubuntu 24.04
	Kernel: 5.15
	Compiler: gcc gcc (Ubuntu 13.3.0-6ubuntu2~24.04) 13.3.0

Red Hat Enterprise Linux 8.10
	Kernel: 5.15
	Compiler: gcc gcc (GCC) 8.5.0 20210514 (Red Hat 8.5.0-22)

Ubuntu 22.04
	Kernel: 5.15
	Compiler: gcc gcc (Ubuntu 11.4.0-1ubuntu1~22.04) 11.4.0

To view detailed results, visit:
https://lab.dpdk.org/results/dashboard/patchsets/33308/

UNH-IOL DPDK Community Lab

To manage your email subscriptions, visit: 
https://lab.dpdk.org/results/dashboard/preferences/subscriptions/