From mboxrd@z Thu Jan 1 00:00:00 1970 Return-Path: Received: from mails.dpdk.org (mails.dpdk.org [217.70.189.124]) by inbox.dpdk.org (Postfix) with ESMTP id 059BD4686D for ; Tue, 3 Jun 2025 21:04:21 +0200 (CEST) Received: from mails.dpdk.org (localhost [127.0.0.1]) by mails.dpdk.org (Postfix) with ESMTP id F0C7B410EA; Tue, 3 Jun 2025 21:04:20 +0200 (CEST) Received: from mail-yw1-f225.google.com (mail-yw1-f225.google.com [209.85.128.225]) by mails.dpdk.org (Postfix) with ESMTP id ECFE941132 for ; Tue, 3 Jun 2025 21:04:18 +0200 (CEST) Received: by mail-yw1-f225.google.com with SMTP id 00721157ae682-70e102eada9so54500197b3.2 for ; Tue, 03 Jun 2025 12:04:18 -0700 (PDT) DKIM-Signature: v=1; a=rsa-sha256; c=relaxed/relaxed; d=iol.unh.edu; s=unh-iol; t=1748977458; x=1749582258; darn=dpdk.org; h=references:in-reply-to:cc:to:from:subject:message-id:date:from:to :cc:subject:date:message-id:reply-to; bh=LqG+prcLb+cg0bv1+RJ2HDNpmgUaoJCKbHblapOCKh4=; b=flFoKqlhrnjrRNBeGNyRclXa5PAuj4kOks8D2ATOLxzmMDouWswGXzYQY7hwZ2VVVV 1Fjy1vA6FrGgB+cyDvMWp+9kTlnADHaJg52+ViRAjYKQEa1Gop+ZYO6JYxCN+A+yXg3k xz2f1OnTdqRGAZDGvc+gI41+dyPcMimLargmU= X-Google-DKIM-Signature: v=1; a=rsa-sha256; c=relaxed/relaxed; d=1e100.net; s=20230601; t=1748977458; x=1749582258; h=references:in-reply-to:cc:to:from:subject:message-id:date :x-gm-message-state:from:to:cc:subject:date:message-id:reply-to; bh=LqG+prcLb+cg0bv1+RJ2HDNpmgUaoJCKbHblapOCKh4=; b=hWkXPafpQKU2KHZWZRW0YojYDRbjfEF8SPY6Z5wtY1iMLFLURhi7FOgV+6iQ7a7q4w 8Q+BrCTijevl5AEYNLMNs18RzSAfFtEjdqKTkF1ase7QELsn9rISm/noaGX17MoTZJup nRoWon6kx09i0qzosmPBk8PgDWmTzzEYRLrEK57zKNqMI1IO1/x2E4NT5jY/N6Y4B3Ld s8jXnd4FSEJvNDymTC32AQVhxgm823e8MfiORTufu0w3nb/fkc6ewZzoMcZubUADDPzJ W8v0A0tvFfbX4DePTmuhVMHE12Pp5Ak4y5lIawmFGwogVydslPy3JbkrAgy8jqIiF04l XPJg== X-Gm-Message-State: AOJu0YzadQxHncWtAiFDd8PL40VAqo5H6UzQiaeshKHQ0Okl4FmaKl2r s/E7UOl/m/EarHk9KR+alYeQ+fOtolW5dpKW+VTi1mavUn0bKeWW2fAxWPfmn6A3+6pEao0ViQq +2bhlDKqt66SjLzT5iiwgvgCi7hP7A29daR9OtZgAUMGLTV1btR+4bGlO9EsY X-Gm-Gg: ASbGncuIC2wQk/ZxHBxletP/DVBO/S9Y5JUQDpOK4dOUDL0+3pABiYeZ9mgd52Hm7EI L8hLZjeP8zWy7SqpXIhPnp6hj9Io0nE+fUYfBpUiaDugu8u2V7KfWuGM4zs8K5OOovYEmMjN9m8 M33QzZrSgSfD/sN7nA7ivOKKhbckCbpB6l62E4UcWqC8rEnUWfYF+1D1hU6zQCl6X1MT2bZo8ZR +DXqGhVRnGfTkXV+6b+6YSESqyqH2NH76/hlx1uBTZNvWXuApb9ny0caEjYo3xd7RM44GfQ8otZ xoolO777CUEX3WGfBqBYsL49jWDLgWgRbGFe X-Google-Smtp-Source: AGHT+IH1QASOdTEZ37hb5D0GA9Pt+ziUVDeUnfTs7e3e7bMBEuy6JAj0TbjdtFL5jQ44kph0ny8xLS1FVTgR X-Received: by 2002:a05:690c:4d42:b0:70e:185b:356d with SMTP id 00721157ae682-70f97e7c491mr266116477b3.14.1748977457968; Tue, 03 Jun 2025 12:04:17 -0700 (PDT) Received: from postal.iol.unh.edu (postal.iol.unh.edu. [2606:4100:3880:1234::84]) by smtp-relay.gmail.com with ESMTPS id 00721157ae682-70f8abcfc66sm10009377b3.6.2025.06.03.12.04.17 (version=TLS1_2 cipher=ECDHE-ECDSA-AES128-GCM-SHA256 bits=128/128); Tue, 03 Jun 2025 12:04:17 -0700 (PDT) X-Relaying-Domain: iol.unh.edu Date: Tue, 03 Jun 2025 12:04:17 -0700 (PDT) Message-ID: <683f4731.810a0220.e559b.8ba6SMTPIN_ADDED_MISSING@mx.google.com> Received: from [172.21.0.6] (unknown [172.18.0.240]) by postal.iol.unh.edu (Postfix) with ESMTP id 9C6D46052471; Tue, 3 Jun 2025 15:04:17 -0400 (EDT) Subject: |SUCCESS| pw153993-153995 [PATCH] [v2,3/3] argparse: use enums to re From: dpdklab@iol.unh.edu To: Test Report Cc: dpdk-test-reports@iol.unh.edu In-Reply-To: <20250603153233.2427833-4-bruce.richardson@intel.com> References: <20250603153233.2427833-4-bruce.richardson@intel.com> Content-Type: text/plain X-BeenThere: test-report@dpdk.org X-Mailman-Version: 2.1.29 Precedence: list List-Id: automatic DPDK test reports List-Unsubscribe: , List-Archive: List-Post: List-Help: List-Subscribe: , Errors-To: test-report-bounces@dpdk.org Test-Label: iol-unit-arm64-testing Test-Status: SUCCESS http://dpdk.org/patch/153995 _Testing PASS_ Submitter: Bruce Richardson Date: Tuesday, June 03 2025 15:32:33 DPDK git baseline: Repo:dpdk Branch: master CommitID:0ecbf93f50018e552ea3aa401129ef6075c1b36b 153993-153995 --> testing pass Upstream job id: Generic-Unit-Test-DPDK#342932 Test environment and result as below: +------------------------------+---------------------------+------------------------------+--------------+----------------+ | Environment | cryptodev_sw_zuc_autotest | cryptodev_sw_snow3g_autotest | lpm_autotest | dpdk_unit_test | +==============================+===========================+==============================+==============+================+ | Debian 12 (arm) | PASS | PASS | SKIPPED | SKIPPED | +------------------------------+---------------------------+------------------------------+--------------+----------------+ | Ubuntu 20.04 | SKIPPED | SKIPPED | PASS | PASS | +------------------------------+---------------------------+------------------------------+--------------+----------------+ | Fedora 40 (ARM Clang) | SKIPPED | SKIPPED | SKIPPED | PASS | +------------------------------+---------------------------+------------------------------+--------------+----------------+ | CentOS Stream 9 (ARM) | SKIPPED | SKIPPED | SKIPPED | PASS | +------------------------------+---------------------------+------------------------------+--------------+----------------+ | Fedora 41 (ARM) | SKIPPED | SKIPPED | SKIPPED | PASS | +------------------------------+---------------------------+------------------------------+--------------+----------------+ | Fedora 40 (ARM) | SKIPPED | SKIPPED | SKIPPED | PASS | +------------------------------+---------------------------+------------------------------+--------------+----------------+ | Debian GNU/Linux 12 | SKIPPED | SKIPPED | SKIPPED | PASS | +------------------------------+---------------------------+------------------------------+--------------+----------------+ | Ubuntu 22.04 | SKIPPED | SKIPPED | SKIPPED | PASS | +------------------------------+---------------------------+------------------------------+--------------+----------------+ | CentOS Stream 10 (ARM) | SKIPPED | SKIPPED | SKIPPED | PASS | +------------------------------+---------------------------+------------------------------+--------------+----------------+ | Ubuntu 24.04 | SKIPPED | SKIPPED | SKIPPED | PASS | +------------------------------+---------------------------+------------------------------+--------------+----------------+ | Fedora 41 (ARM Clang) | SKIPPED | SKIPPED | SKIPPED | PASS | +------------------------------+---------------------------+------------------------------+--------------+----------------+ | Red Hat Enterprise Linux 9.5 | SKIPPED | SKIPPED | SKIPPED | PASS | +------------------------------+---------------------------+------------------------------+--------------+----------------+ Debian 12 (arm) Kernel: Depends on container host Compiler: gcc (Debian 12.2.0-14) 12.2.0 Ubuntu 20.04 Kernel: 5.4 Compiler: gcc gcc (Ubuntu 9.4.0-1ubuntu1~20.04.2) 9.4.0 Fedora 40 (ARM Clang) Kernel: Depends on container host Compiler: clang 18.1.8 (Fedora 18.1.8-1.fc40) CentOS Stream 9 (ARM) Kernel: Depends on container host Compiler: gcc 11.5.0 20240719 (Red Hat 11.5.0-2) Fedora 41 (ARM) Kernel: Depends on container host Compiler: gcc 14.2.1 20240912 (Red Hat 14.2.1-3) Fedora 40 (ARM) Kernel: Depends on container host Compiler: gcc 14.2.1 20240912 (Red Hat 14.2.1-3) Debian GNU/Linux 12 Kernel: 5.4 Compiler: gcc gcc (Debian 12.2.0-14) 12.2.0 Ubuntu 22.04 Kernel: 5.4 Compiler: gcc gcc (Ubuntu 11.4.0-1ubuntu1~22.04) 11.4.0 CentOS Stream 10 (ARM) Kernel: Depends on container host Compiler: gcc 14.2.1 20241104 (Red Hat 14.2.1-6) Ubuntu 24.04 Kernel: 5.4 Compiler: gcc gcc (Ubuntu 13.3.0-6ubuntu2~24.04) 13.3.0 Fedora 41 (ARM Clang) Kernel: Depends on container host Compiler: clang 19.1.5 (Fedora 19.1.5-1.fc41) Red Hat Enterprise Linux 9.5 Kernel: 5.4 Compiler: gcc gcc (GCC) 11.5.0 20240719 (Red Hat 11.5.0-2) To view detailed results, visit: https://lab.dpdk.org/results/dashboard/patchsets/33308/ UNH-IOL DPDK Community Lab To manage your email subscriptions, visit: https://lab.dpdk.org/results/dashboard/preferences/subscriptions/