From mboxrd@z Thu Jan 1 00:00:00 1970 Return-Path: Received: from mails.dpdk.org (mails.dpdk.org [217.70.189.124]) by inbox.dpdk.org (Postfix) with ESMTP id E5F964686D for ; Tue, 3 Jun 2025 21:11:19 +0200 (CEST) Received: from mails.dpdk.org (localhost [127.0.0.1]) by mails.dpdk.org (Postfix) with ESMTP id BE86C410EA; Tue, 3 Jun 2025 21:11:19 +0200 (CEST) Received: from mail-pf1-f228.google.com (mail-pf1-f228.google.com [209.85.210.228]) by mails.dpdk.org (Postfix) with ESMTP id 22C8F410F2 for ; Tue, 3 Jun 2025 21:11:18 +0200 (CEST) Received: by mail-pf1-f228.google.com with SMTP id d2e1a72fcca58-7425bd5a83aso4652207b3a.0 for ; Tue, 03 Jun 2025 12:11:18 -0700 (PDT) DKIM-Signature: v=1; a=rsa-sha256; c=relaxed/relaxed; d=iol.unh.edu; s=unh-iol; t=1748977877; x=1749582677; darn=dpdk.org; h=references:in-reply-to:cc:to:from:subject:message-id:date:from:to :cc:subject:date:message-id:reply-to; bh=oN2kl9kHgV9jkak01Kqp9Of3WdbCL9P4N11sbvKu5tc=; b=KLyg5F3NTRsCQCTwoWd5WHB8Exi71rvBYJoiGAKpuT1BH+6ovge2mNO6SQ2k09BnpE iaqXPsu0vrFCE2e7XwqkvhI32tJ1b/q+8uy2Lt298fqa0O1/aJl6t/VsGNwhtdEup4WS swf+s6Cs9wXHSQeTgptnkHZ9ljE+1HBCQf+wA= X-Google-DKIM-Signature: v=1; a=rsa-sha256; c=relaxed/relaxed; d=1e100.net; s=20230601; t=1748977877; x=1749582677; h=references:in-reply-to:cc:to:from:subject:message-id:date :x-gm-message-state:from:to:cc:subject:date:message-id:reply-to; bh=oN2kl9kHgV9jkak01Kqp9Of3WdbCL9P4N11sbvKu5tc=; b=JRbvjRwjgFPUO5lVaGUy/ZAvZ0ImOMkJ2CZgt7Hw/jKYTOscg1lDvkTg8savWM+RZa V5l17zN5b0nKlguLtAKa3NGoaPNOTeIqL6yzvwNf+NeQB3nmcO3JYaEoaej7aDAN7vlb XYC9YOE472wQJUlW99TIZfgqrqC1xNJK8pE7mX6En7Y7IBeHXUtkIjM/VZhtuOjI1gOt PSbHE0Mxj0Cctg59fen4YYwqYg9w23Vobm+9hNaVOOj/g9L+Tz7pHkyRCZ6LJbJZOVXZ UQYxH4Vi1brjwfaXf93wNGNXToiMZZ2sunfrNghBN2gxvr5X1W7JRQ+FX7xHty8l8IWN DiOA== X-Gm-Message-State: AOJu0YwNrbVBju/JG8c24Zgti7By+GaJ+zprX4OUaGIrzSwj66EP8Sq0 NMQx9yhgwI/csz1/qdolEhQrpsndGsk0xGwSHov/09KyCdjHmvMVegHCrEdMO/8QBzErqswe9Lg zi/zTzb+u0UupARYARxWCBGoergbzXwvWmIkdvyoyQ2X1 X-Gm-Gg: ASbGncsx8vkNnUYEGfPeqCPdjTNQp1Av6FmeC5pwgxJJYchVKddZct7UNDYHF94Vl08 8r+YFfGBVaN7YDqE7YHNrFpV42ZAB5IyCZ2waITqT5TuvulTCM37o1cLOSRj03QUZqVcDeodGSI EG780ol9Vs+LukUwh7DeuC7ArUgMsbHKrzLvx3cLRIm8n/u1xpEOhhs+U8EWtVMjRqzqs3BDRQ5 zwEoarekErQfcIhT1uelb9kiN9d/EBpbdlzT2q8B1hnKSA24QpQityOETukNxXSLTK3jtGM/2OK JcKdGYcTQ4D94T/nN2A4HQspaMV6uCNLL60SUfa+4hTaVQY6nW+cUFw7pOc= X-Google-Smtp-Source: AGHT+IFaN+Sql3OClbZpwDKSKlVMytIDyryLJ9urJtxZSqcurhAtU7sgO30qHGML/pjlIASalnVZRaHuCvQa X-Received: by 2002:a05:6a00:8d1:b0:747:bd3b:eae4 with SMTP id d2e1a72fcca58-7480b489665mr320222b3a.24.1748977877142; Tue, 03 Jun 2025 12:11:17 -0700 (PDT) Received: from postal.iol.unh.edu (postal.iol.unh.edu. [132.177.123.84]) by smtp-relay.gmail.com with ESMTPS id d2e1a72fcca58-747afeadc07sm775151b3a.7.2025.06.03.12.11.17 (version=TLS1_2 cipher=ECDHE-ECDSA-AES128-GCM-SHA256 bits=128/128); Tue, 03 Jun 2025 12:11:17 -0700 (PDT) X-Relaying-Domain: iol.unh.edu Date: Tue, 03 Jun 2025 12:11:17 -0700 (PDT) Message-ID: <683f48d5.050a0220.2b03bd.874dSMTPIN_ADDED_MISSING@mx.google.com> Received: from [172.21.0.8] (unknown [172.18.0.240]) by postal.iol.unh.edu (Postfix) with ESMTP id 5311C6052471; Tue, 3 Jun 2025 15:11:16 -0400 (EDT) Subject: |SUCCESS| pw153992 [PATCH] [v5] net: fix GTP packet parsing From: dpdklab@iol.unh.edu To: Test Report Cc: dpdk-test-reports@iol.unh.edu In-Reply-To: <20250603120622.82092-1-huangdengdui@huawei.com> References: <20250603120622.82092-1-huangdengdui@huawei.com> Content-Type: text/plain X-BeenThere: test-report@dpdk.org X-Mailman-Version: 2.1.29 Precedence: list List-Id: automatic DPDK test reports List-Unsubscribe: , List-Archive: List-Post: List-Help: List-Subscribe: , Errors-To: test-report-bounces@dpdk.org Test-Label: iol-abi-testing Test-Status: SUCCESS http://dpdk.org/patch/153992 _Testing PASS_ Submitter: Dengdui Huang Date: Tuesday, June 03 2025 12:06:22 DPDK git baseline: Repo:dpdk Branch: master CommitID:0ecbf93f50018e552ea3aa401129ef6075c1b36b 153992 --> testing pass Upstream job id: Generic-DPDK-Compile-ABI#128735 Test environment and result as below: +-------------------------------+----------+ | Environment | abi_test | +===============================+==========+ | Fedora 40 | PASS | +-------------------------------+----------+ | CentOS Stream 9 | PASS | +-------------------------------+----------+ | CentOS Stream 10 | PASS | +-------------------------------+----------+ | Fedora 40 (Clang) | PASS | +-------------------------------+----------+ | Debian GNU/Linux 12 | PASS | +-------------------------------+----------+ | Fedora 41 (Clang) | PASS | +-------------------------------+----------+ | Fedora 41 | PASS | +-------------------------------+----------+ | openSUSE Leap 15.6 | PASS | +-------------------------------+----------+ | Red Hat Enterprise Linux 8.10 | PASS | +-------------------------------+----------+ | Red Hat Enterprise Linux 9.5 | PASS | +-------------------------------+----------+ | Ubuntu 22.04 | PASS | +-------------------------------+----------+ | Ubuntu 24.04 | PASS | +-------------------------------+----------+ Fedora 40 Kernel: Depends on container host Compiler: gcc 14.2.1 20240912 (Red Hat 14.2.1-3) CentOS Stream 9 Kernel: Depends on container host Compiler: gcc 11.5.0 20240719 (Red Hat 11.5.0-2) CentOS Stream 10 Kernel: Depends on container host Compiler: gcc 14.2.1 20241104 (Red Hat 14.2.1-6) Fedora 40 (Clang) Kernel: Depends on container host Compiler: clang 18.1.8 (Fedora 18.1.8-1.fc40) Debian GNU/Linux 12 Kernel: 5.15 Compiler: gcc gcc (Debian 12.2.0-14) 12.2.0 Fedora 41 (Clang) Kernel: Depends on container host Compiler: clang 19.1.5 (Fedora 19.1.5-1.fc41) Fedora 41 Kernel: Depends on container host Compiler: gcc 14.2.1 20240912 (Red Hat 14.2.1-3) openSUSE Leap 15.6 Kernel: 5.15 Compiler: gcc gcc (SUSE Linux) 7.5.0 Red Hat Enterprise Linux 8.10 Kernel: 5.15 Compiler: gcc gcc (GCC) 8.5.0 20210514 (Red Hat 8.5.0-22) Red Hat Enterprise Linux 9.5 Kernel: 5.15 Compiler: gcc gcc (GCC) 11.5.0 20240719 (Red Hat 11.5.0-2) Ubuntu 22.04 Kernel: 5.15 Compiler: gcc gcc (Ubuntu 11.4.0-1ubuntu1~22.04) 11.4.0 Ubuntu 24.04 Kernel: 5.15 Compiler: gcc gcc (Ubuntu 13.3.0-6ubuntu2~24.04) 13.3.0 To view detailed results, visit: https://lab.dpdk.org/results/dashboard/patchsets/33307/ UNH-IOL DPDK Community Lab To manage your email subscriptions, visit: https://lab.dpdk.org/results/dashboard/preferences/subscriptions/