From mboxrd@z Thu Jan 1 00:00:00 1970 Return-Path: Received: from mails.dpdk.org (mails.dpdk.org [217.70.189.124]) by inbox.dpdk.org (Postfix) with ESMTP id 637694686D for ; Tue, 3 Jun 2025 21:26:55 +0200 (CEST) Received: from mails.dpdk.org (localhost [127.0.0.1]) by mails.dpdk.org (Postfix) with ESMTP id 5E6C0410EA; Tue, 3 Jun 2025 21:26:55 +0200 (CEST) Received: from mail-ua1-f100.google.com (mail-ua1-f100.google.com [209.85.222.100]) by mails.dpdk.org (Postfix) with ESMTP id F3CD9410EA for ; Tue, 3 Jun 2025 21:26:53 +0200 (CEST) Received: by mail-ua1-f100.google.com with SMTP id a1e0cc1a2514c-87df943b6dcso1312013241.1 for ; Tue, 03 Jun 2025 12:26:53 -0700 (PDT) DKIM-Signature: v=1; a=rsa-sha256; c=relaxed/relaxed; d=iol.unh.edu; s=unh-iol; t=1748978813; x=1749583613; darn=dpdk.org; h=references:in-reply-to:cc:to:from:subject:message-id:date:from:to :cc:subject:date:message-id:reply-to; bh=02QyP2AwtyjPdzbER97cCgsRdhMLBNc/1W/ZIrWYUbc=; b=HtsD0HIVYhpZbLn9qofNdvOk2PBtykqJ6nVexXChcxrn2NjX071uEObxIDCj9oEIJ0 d1q55QL7hjmgGrtQ8dBIDFXn8n5vshHjurjQmT8sivaBEKZffKyF2YUG4X+V8UyLuPHV Aja8CQiXfLaX2zgz9eMUpz10lo3mOfghRc6gc= X-Google-DKIM-Signature: v=1; a=rsa-sha256; c=relaxed/relaxed; d=1e100.net; s=20230601; t=1748978813; x=1749583613; h=references:in-reply-to:cc:to:from:subject:message-id:date :x-gm-message-state:from:to:cc:subject:date:message-id:reply-to; bh=02QyP2AwtyjPdzbER97cCgsRdhMLBNc/1W/ZIrWYUbc=; b=Iv2JJ9Z1+W2gyijqbjaFlOewA2BtG79SFcx3IeDJ8UBpfr6UJnAWEIICwgvAZxo/Eb elnyxEgTAxudgoA4pN5Cut/yqBo3+mPk+zmYmmG6xp8BqiDD0NwG40UPy4NGlaqfrHTd 4PrN2ol6LK2En69RfNHFKzatp5RKPvAEoI/A6CJS0kdJnI7YEvThz94cGW415EfxTckQ /WEbo0oY4vSj4yNMrNOvF2Z9oTCGcqRFyF6eJ4NvTk4vLosF0++diXCWKxZO9Vxq163f 4An7ckqfNJT/x7eqHq/ek7PwYCqVl1hAdJupgIgmVCOZMbEscQDtmsTpsAEJcddM85m8 Xn8g== X-Gm-Message-State: AOJu0Yw3linSA6XKT67uhXe9clUbmAcFB9NPWVdG1wqmQs0zVaL0wBIs EH/HmAtjW/AJmJtJp2jE9JI5OnH8UicB3EA9rlmd1eajka5Ujhg43lh0tMdP2/hrxwoVxrnywan 3ia4vZjlsKSPZ4w9U1SiwwUj1AlTOoiTgGsi9qI6L0NtH X-Gm-Gg: ASbGncuqUccVGevu154Gc9p0Ro/CvMjaNn1c6i/sxwvhNhLLjgpaqvbTJVtxos4y2wZ ud8MUd8Euxg96FqHRO/cKhqAHiXj0EW8Xp35XhNxIRZhIU1+gyCfiFlX+UcaYFVDgr1+rakmXF/ f4quexxuYBHTK708EEhOe2SoNtRDDUN9IZdOeiehOMLxCynjLUt8ip+69Gg7FtfUF1JG5rIlYTi VJwIhRJuicy7aGP/+4mlwHS14hIva41dGwo8P5/YvFLLLe2OV8ChnUeUp3aapsfTAaTmxfxt31A 8V/jznyU0wwjCe6p89kO3cq7var/EhPTHIxsC202ufex1VBZCr4cxYGq5w15X2d/tf0Kdw== X-Google-Smtp-Source: AGHT+IHDWf5OzgUayzpWg4wXHR615YZu0CG6eZj3Y9Kb9SpWoEJckGcRHWe78kefqCe5azZbk6HlvBxwKags X-Received: by 2002:a05:6102:835a:b0:4e7:3efd:ac76 with SMTP id ada2fe7eead31-4e73efdaff1mr1620161137.8.1748978813341; Tue, 03 Jun 2025 12:26:53 -0700 (PDT) Received: from postal.iol.unh.edu (postal.iol.unh.edu. [132.177.123.84]) by smtp-relay.gmail.com with ESMTPS id a1e0cc1a2514c-87e2a275aedsm157724241.1.2025.06.03.12.26.53 (version=TLS1_2 cipher=ECDHE-ECDSA-AES128-GCM-SHA256 bits=128/128); Tue, 03 Jun 2025 12:26:53 -0700 (PDT) X-Relaying-Domain: iol.unh.edu Date: Tue, 03 Jun 2025 12:26:53 -0700 (PDT) Message-ID: <683f4c7d.b00a0220.30380f.7c4eSMTPIN_ADDED_MISSING@mx.google.com> Received: from [172.21.0.5] (unknown [172.18.0.240]) by postal.iol.unh.edu (Postfix) with ESMTP id 0960B6052471; Tue, 3 Jun 2025 15:26:53 -0400 (EDT) Subject: |SUCCESS| pw153967-153991 [PATCH] [v2,25/25] doc: update cn20k CPT d From: dpdklab@iol.unh.edu To: Test Report Cc: dpdk-test-reports@iol.unh.edu In-Reply-To: <20250603115026.2664706-26-ktejasree@marvell.com> References: <20250603115026.2664706-26-ktejasree@marvell.com> Content-Type: text/plain X-BeenThere: test-report@dpdk.org X-Mailman-Version: 2.1.29 Precedence: list List-Id: automatic DPDK test reports List-Unsubscribe: , List-Archive: List-Post: List-Help: List-Subscribe: , Errors-To: test-report-bounces@dpdk.org Test-Label: iol-compile-arm64-testing Test-Status: SUCCESS http://dpdk.org/patch/153991 _Testing PASS_ Submitter: Tejasree Kondoj Date: Tuesday, June 03 2025 11:50:26 DPDK git baseline: Repo:dpdk Branch: master CommitID:32c04e00fb8e5c519bf62c0b13c3a3590fbf69fb 153967-153991 --> testing pass Upstream job id: Generic-DPDK-Compile-Meson#393890 Test environment and result as below: +------------------------------+--------------------+ | Environment | dpdk_meson_compile | +==============================+====================+ | Red Hat Enterprise Linux 9.5 | PASS | +------------------------------+--------------------+ | Ubuntu 20.04 | PASS | +------------------------------+--------------------+ | Fedora 40 (ARM Clang) | PASS | +------------------------------+--------------------+ | Debian GNU/Linux 12 | PASS | +------------------------------+--------------------+ | Fedora 40 (ARM) | PASS | +------------------------------+--------------------+ | Fedora 41 (ARM) | PASS | +------------------------------+--------------------+ | Fedora 41 (ARM Clang) | PASS | +------------------------------+--------------------+ | Ubuntu 22.04 | PASS | +------------------------------+--------------------+ | CentOS Stream 9 (ARM) | PASS | +------------------------------+--------------------+ | Ubuntu 24.04 | PASS | +------------------------------+--------------------+ | CentOS Stream 10 (ARM) | PASS | +------------------------------+--------------------+ Red Hat Enterprise Linux 9.5 Kernel: 5.4 Compiler: gcc gcc (GCC) 11.5.0 20240719 (Red Hat 11.5.0-2) Ubuntu 20.04 Kernel: 5.15 Compiler: aarch64-linux-gnu-gcc gcc (Ubuntu 9.4.0-1ubuntu1~20.04.2) 9.4.0 Fedora 40 (ARM Clang) Kernel: Depends on container host Compiler: clang 18.1.8 (Fedora 18.1.8-1.fc40) Debian GNU/Linux 12 Kernel: 5.4 Compiler: gcc gcc (Debian 12.2.0-14) 12.2.0 Fedora 40 (ARM) Kernel: Depends on container host Compiler: gcc 14.2.1 20240912 (Red Hat 14.2.1-3) Fedora 41 (ARM) Kernel: Depends on container host Compiler: gcc 14.2.1 20240912 (Red Hat 14.2.1-3) Fedora 41 (ARM Clang) Kernel: Depends on container host Compiler: clang 19.1.5 (Fedora 19.1.5-1.fc41) Ubuntu 22.04 Kernel: 5.4 Compiler: gcc gcc (Ubuntu 11.4.0-1ubuntu1~22.04) 11.4.0 CentOS Stream 9 (ARM) Kernel: Depends on container host Compiler: gcc 11.5.0 20240719 (Red Hat 11.5.0-2) Ubuntu 24.04 Kernel: 5.4 Compiler: gcc gcc (Ubuntu 13.3.0-6ubuntu2~24.04) 13.3.0 CentOS Stream 10 (ARM) Kernel: Depends on container host Compiler: gcc 14.2.1 20241104 (Red Hat 14.2.1-6) To view detailed results, visit: https://lab.dpdk.org/results/dashboard/patchsets/33306/ UNH-IOL DPDK Community Lab To manage your email subscriptions, visit: https://lab.dpdk.org/results/dashboard/preferences/subscriptions/