From mboxrd@z Thu Jan 1 00:00:00 1970 Return-Path: Received: from mails.dpdk.org (mails.dpdk.org [217.70.189.124]) by inbox.dpdk.org (Postfix) with ESMTP id F212C4686E for ; Wed, 4 Jun 2025 00:12:48 +0200 (CEST) Received: from mails.dpdk.org (localhost [127.0.0.1]) by mails.dpdk.org (Postfix) with ESMTP id EDC4A40277; Wed, 4 Jun 2025 00:12:48 +0200 (CEST) Received: from mail-yw1-f226.google.com (mail-yw1-f226.google.com [209.85.128.226]) by mails.dpdk.org (Postfix) with ESMTP id 84C2740277 for ; Wed, 4 Jun 2025 00:12:47 +0200 (CEST) Received: by mail-yw1-f226.google.com with SMTP id 00721157ae682-70dd2d35449so48946727b3.3 for ; Tue, 03 Jun 2025 15:12:47 -0700 (PDT) DKIM-Signature: v=1; a=rsa-sha256; c=relaxed/relaxed; d=iol.unh.edu; s=unh-iol; t=1748988767; x=1749593567; darn=dpdk.org; h=references:in-reply-to:cc:to:from:subject:message-id:date:from:to :cc:subject:date:message-id:reply-to; bh=enIsgdXufPGB/NGqctLDKeuSxJz4u+qYuQ2DWLX2zsw=; b=NaSPo+BDwNhgts7zXnBAzseUNd+KROonRl70dAXo5+ZYdYjBfiyD0ldFApgN9yZZ5c vOHIHfLzP6zmpgkEDXZ0OY8fuZVAj938mu/MwCdcpiD2KFK4pzxasiLO4NrFznVcNIDH FJmhbM6atjqy9rD2EabXGN7zbDJcE0XlKkmgk= X-Google-DKIM-Signature: v=1; a=rsa-sha256; c=relaxed/relaxed; d=1e100.net; s=20230601; t=1748988767; x=1749593567; h=references:in-reply-to:cc:to:from:subject:message-id:date :x-gm-message-state:from:to:cc:subject:date:message-id:reply-to; bh=enIsgdXufPGB/NGqctLDKeuSxJz4u+qYuQ2DWLX2zsw=; b=Tk+HR61BCWOfSoYzCK2UjdsYQrnFD4dkGUQ6FIhw7Kq7xsOTXKRKkvKM5Nnpj5inQn 3ONK8IfJlg7N/wE5jewckmJujTNH1FPN0XaJOS2E1k8paK2tt5uvhIMZTrL2tEMrqiKM mJCw4y20uhio2iIT92m+/NPi1teqfNUOBbF9G+vIZ8i09HsMPS/KEBNKIv+e1KyvliMr H/WDmxEfFv8WUs+b6QkcnX8ClRfJ4nJj2O5G5GipAKGvGTK4YOV6zJ/Bo2WK5dZ6xwW/ AFtLRPdzPY+SZeccjvPabv8sQJgrg2/gdKydyZNZ4IZobMnaxfSoWUrjcbxHzR4yMOsl H3Yg== X-Gm-Message-State: AOJu0YyIoNhHeAAS0cU1H0YjmDBIOF5Fss0q4JClZ0eDC+aS7SL17MNe 2Nl2Gu1YbSpg7VK0CfQoCHgSFjU0BTyTkoVNy7og5rXqwMzilbJbG7c/58+khhvSeRS8WOPxIjX t2mys5S7IAo/z8cvq4lDiSXLNFZCFdF6z/Rdp3CqPxFsz1vQaJBt7gB6VxayL X-Gm-Gg: ASbGnctYg1zfPgvqaFbUkkdmytkDZKOix1byF8akKrx7hoytjt882ZNboQ14aHd2lqR M4YAeXNqxjVuYzt8hizzaKoX8LECzeyAJIUkQvKIYPVgeK/DT3rR01YP4mjbd+XGFLEb8/lPpoa J1PSj97qK2nUjkrfuJRiowUQaLupvxIEkqCNCLR4xxs/Pf9N95vDAgtfIEixBQuHCcKhDKHeGfz jBP5oaqHlcoOvVOyOVCltmnXm/XfCCmKAbBcfHOBuj9c2XtVnzFHuBOgVMAArXXC0PSgR7i0PLm zA7WCReL8zEQTtl+QrYcxvGE2fNlN10qd1C3 X-Google-Smtp-Source: AGHT+IFw5lhu9QszE4ydF+3AhlU1yZ+DbI0xAn3dOius4CcmLmuD43grrRmtWfeeKA4mLapAiNqa7enyBDmM X-Received: by 2002:a05:690c:74c4:b0:70a:192d:122 with SMTP id 00721157ae682-710d9fb2d59mr6004187b3.30.1748988766866; Tue, 03 Jun 2025 15:12:46 -0700 (PDT) Received: from postal.iol.unh.edu (postal.iol.unh.edu. [2606:4100:3880:1234::84]) by smtp-relay.gmail.com with ESMTPS id 00721157ae682-70f8abf843csm6320507b3.28.2025.06.03.15.12.46 (version=TLS1_2 cipher=ECDHE-ECDSA-AES128-GCM-SHA256 bits=128/128); Tue, 03 Jun 2025 15:12:46 -0700 (PDT) X-Relaying-Domain: iol.unh.edu Date: Tue, 03 Jun 2025 15:12:46 -0700 (PDT) Message-ID: <683f735e.050a0220.2b0243.147fSMTPIN_ADDED_MISSING@mx.google.com> Received: from [172.17.0.5] (unknown [172.18.0.77]) by postal.iol.unh.edu (Postfix) with ESMTP id 83D8C6052471; Tue, 3 Jun 2025 18:12:46 -0400 (EDT) Subject: |WARNING| pw153998-154004 [PATCH] [v2,7/7] event/dlb2: return defaul From: dpdklab@iol.unh.edu To: Test Report Cc: dpdk-test-reports@iol.unh.edu In-Reply-To: <20250603180514.3826917-8-pravin.pathak@intel.com> References: <20250603180514.3826917-8-pravin.pathak@intel.com> Content-Type: text/plain X-BeenThere: test-report@dpdk.org X-Mailman-Version: 2.1.29 Precedence: list List-Id: automatic DPDK test reports List-Unsubscribe: , List-Archive: List-Post: List-Help: List-Subscribe: , Errors-To: test-report-bounces@dpdk.org Test-Label: iol-compile-amd64-testing Test-Status: WARNING http://dpdk.org/patch/154004 _Testing issues_ Submitter: Pravin Pathak Date: Tuesday, June 03 2025 18:05:14 DPDK git baseline: Repo:dpdk Branch: master CommitID:51d6054789b6d8cbd99fe82407941bc71d90b514 153998-154004 --> testing issues Upstream job id: Generic-DPDK-Compile-Meson#393998 Test environment and result as below: +-------------------------------+--------------------+-------------------+------------------+-------------------+-------------------------+----------------------+ | Environment | dpdk_meson_compile | dpdk_compile_spdk | dpdk_compile_ovs | dpdk_msvc_compile | dpdk_llvm_clang_compile | dpdk_mingw64_compile | +===============================+====================+===================+==================+===================+=========================+======================+ | CentOS Stream 10 | PASS | SKIPPED | SKIPPED | SKIPPED | SKIPPED | SKIPPED | +-------------------------------+--------------------+-------------------+------------------+-------------------+-------------------------+----------------------+ | Debian GNU/Linux 12 | PASS | PASS | SKIPPED | SKIPPED | SKIPPED | SKIPPED | +-------------------------------+--------------------+-------------------+------------------+-------------------+-------------------------+----------------------+ | Fedora 40 | PASS | PASS | SKIPPED | SKIPPED | SKIPPED | SKIPPED | +-------------------------------+--------------------+-------------------+------------------+-------------------+-------------------------+----------------------+ | Fedora 40 (Clang) | PASS | WARN | SKIPPED | SKIPPED | SKIPPED | SKIPPED | +-------------------------------+--------------------+-------------------+------------------+-------------------+-------------------------+----------------------+ | Fedora 41 (Clang) | PASS | WARN | PASS | SKIPPED | SKIPPED | SKIPPED | +-------------------------------+--------------------+-------------------+------------------+-------------------+-------------------------+----------------------+ | Fedora 41 | PASS | PASS | PASS | SKIPPED | SKIPPED | SKIPPED | +-------------------------------+--------------------+-------------------+------------------+-------------------+-------------------------+----------------------+ | openSUSE Leap 15.6 | PASS | SKIPPED | SKIPPED | SKIPPED | SKIPPED | SKIPPED | +-------------------------------+--------------------+-------------------+------------------+-------------------+-------------------------+----------------------+ | Red Hat Enterprise Linux 8.10 | PASS | SKIPPED | SKIPPED | SKIPPED | SKIPPED | SKIPPED | +-------------------------------+--------------------+-------------------+------------------+-------------------+-------------------------+----------------------+ | Red Hat Enterprise Linux 9.5 | PASS | SKIPPED | SKIPPED | SKIPPED | SKIPPED | SKIPPED | +-------------------------------+--------------------+-------------------+------------------+-------------------+-------------------------+----------------------+ | Ubuntu 20.04 | PASS | SKIPPED | SKIPPED | SKIPPED | SKIPPED | SKIPPED | +-------------------------------+--------------------+-------------------+------------------+-------------------+-------------------------+----------------------+ | Ubuntu 22.04 | PASS | PASS | SKIPPED | SKIPPED | SKIPPED | SKIPPED | +-------------------------------+--------------------+-------------------+------------------+-------------------+-------------------------+----------------------+ | Ubuntu 24.04 | PASS | PASS | PASS | SKIPPED | SKIPPED | SKIPPED | +-------------------------------+--------------------+-------------------+------------------+-------------------+-------------------------+----------------------+ | Alpine | PASS | SKIPPED | SKIPPED | SKIPPED | SKIPPED | SKIPPED | +-------------------------------+--------------------+-------------------+------------------+-------------------+-------------------------+----------------------+ | CentOS Stream 9 | PASS | PASS | SKIPPED | SKIPPED | SKIPPED | SKIPPED | +-------------------------------+--------------------+-------------------+------------------+-------------------+-------------------------+----------------------+ | FreeBSD 14.2 | PASS | SKIPPED | SKIPPED | SKIPPED | SKIPPED | SKIPPED | +-------------------------------+--------------------+-------------------+------------------+-------------------+-------------------------+----------------------+ | Windows Server 2022 | SKIPPED | SKIPPED | SKIPPED | PASS | PASS | PASS | +-------------------------------+--------------------+-------------------+------------------+-------------------+-------------------------+----------------------+ ==== 20 line log output for Fedora 41 (Clang) (dpdk_compile_spdk): ==== --- Failed to get log output --- ==== End log output ==== CentOS Stream 10 Kernel: Depends on container host Compiler: gcc 14.2.1 20241104 (Red Hat 14.2.1-6) Debian GNU/Linux 12 Kernel: 5.15 Compiler: gcc gcc (Debian 12.2.0-14) 12.2.0 Fedora 40 Kernel: Depends on container host Compiler: gcc 14.2.1 20240912 (Red Hat 14.2.1-3) Fedora 40 (Clang) Kernel: Depends on container host Compiler: clang 18.1.8 (Fedora 18.1.8-1.fc40) Fedora 41 (Clang) Kernel: Depends on container host Compiler: clang 19.1.5 (Fedora 19.1.5-1.fc41) Fedora 41 Kernel: Depends on container host Compiler: gcc 14.2.1 20240912 (Red Hat 14.2.1-3) openSUSE Leap 15.6 Kernel: 5.15 Compiler: gcc gcc (SUSE Linux) 7.5.0 Red Hat Enterprise Linux 8.10 Kernel: 5.15 Compiler: gcc gcc (GCC) 8.5.0 20210514 (Red Hat 8.5.0-22) Red Hat Enterprise Linux 9.5 Kernel: 5.15 Compiler: gcc gcc (GCC) 11.5.0 20240719 (Red Hat 11.5.0-2) Ubuntu 20.04 Kernel: 5.15 Compiler: gcc gcc (Ubuntu 9.4.0-1ubuntu1~20.04.2) 9.4.0 Ubuntu 22.04 Kernel: 5.15 Compiler: gcc gcc (Ubuntu 11.4.0-1ubuntu1~22.04) 11.4.0 Ubuntu 24.04 Kernel: 5.15 Compiler: gcc gcc (Ubuntu 13.3.0-6ubuntu2~24.04) 13.3.0 Alpine Kernel: Depends on container host Compiler: gcc (Alpine 14.2.0) 14.2.0 CentOS Stream 9 Kernel: Depends on container host Compiler: gcc 11.5.0 20240719 (Red Hat 11.5.0-2) FreeBSD 14.2 Kernel: 14.2-RELEASE Compiler: clang 18.1.6 Windows Server 2022 Kernel: 10.0.20348.2031 Compiler: clang 15.0.7, gcc 14.1.0 (MinGW), and MSVC VS 19.39.33521 To view detailed results, visit: https://lab.dpdk.org/results/dashboard/patchsets/33310/ UNH-IOL DPDK Community Lab To manage your email subscriptions, visit: https://lab.dpdk.org/results/dashboard/preferences/subscriptions/