From mboxrd@z Thu Jan 1 00:00:00 1970 Return-Path: Received: from mails.dpdk.org (mails.dpdk.org [217.70.189.124]) by inbox.dpdk.org (Postfix) with ESMTP id 09BA44686E for ; Wed, 4 Jun 2025 00:12:49 +0200 (CEST) Received: from mails.dpdk.org (localhost [127.0.0.1]) by mails.dpdk.org (Postfix) with ESMTP id 064CD4065A; Wed, 4 Jun 2025 00:12:49 +0200 (CEST) Received: from mail-qv1-f98.google.com (mail-qv1-f98.google.com [209.85.219.98]) by mails.dpdk.org (Postfix) with ESMTP id BA8FD4029D for ; Wed, 4 Jun 2025 00:12:47 +0200 (CEST) Received: by mail-qv1-f98.google.com with SMTP id 6a1803df08f44-6face43dfbfso63303816d6.1 for ; Tue, 03 Jun 2025 15:12:47 -0700 (PDT) DKIM-Signature: v=1; a=rsa-sha256; c=relaxed/relaxed; d=iol.unh.edu; s=unh-iol; t=1748988767; x=1749593567; darn=dpdk.org; h=references:in-reply-to:cc:to:from:subject:message-id:date:from:to :cc:subject:date:message-id:reply-to; bh=XNHmK1quOGafB7le0LEOK7ALR2AUnel7712nk/iH9Fg=; b=D91SbK/mPIyzNeNdZRL1MNlptVjVN+a5FZ5tE0D0sL2iqUQ8xcrKlbrUAbg7c4g0iP vbexZOJJM67+hhTkN1XsCZZxvFtIEHhdtZ7oegkiSZwm+/JtPvGL6TEP4XnC13i7t+MW gxnWTpxGkf7LvGMAH3yRvzD5sYEHAY8O0bMIk= X-Google-DKIM-Signature: v=1; a=rsa-sha256; c=relaxed/relaxed; d=1e100.net; s=20230601; t=1748988767; x=1749593567; h=references:in-reply-to:cc:to:from:subject:message-id:date :x-gm-message-state:from:to:cc:subject:date:message-id:reply-to; bh=XNHmK1quOGafB7le0LEOK7ALR2AUnel7712nk/iH9Fg=; b=kiYRHzrcHwTloNGSu4US28r/5hY/HC0otmIiBvBM5hliZeoUhTAwkLsC8zszPUQp6C zQ243KQcYL4Hf2FOa3enpEmNKrI5SuDI22A3eYvN6vm56NtLcv9cE5WTxZ9wvM2xLOEf pHxCzQtj4IfnTmI/Bi2152Sieozg0mjPw6HZW1LaJLOw3kov5kXq4ShQmsfdyaoB0bME UAtfPpI05GLdUtE0N2UoBSbaIcr29/q3eWJQk0MxmtcL27HuCcEc1qF6juCurrTHZ6ts hWoSrs7u3oJnfIEGnjJOtRfGVp0k9JN+mPf/25jI7OqouSJGJZSx2yK0dQS4/w34cno3 AYXA== X-Gm-Message-State: AOJu0Ywgj0GbSEyfSYjiBVALOInG7tGpLWjYSdbh1VQLymmN/+QeeH5u PQpjMG+O7XRQEDVAS1CYCkN00U6meWaAKWVFxDYQ4XYObnYC7oOtoARtYS6cRvwVvb1W9y4kOsS m47CXxMVpeY97ZsllGEcxz+sLjrJhdHrHloZciXt4s9b7QXPuoceR3afzNRy6 X-Gm-Gg: ASbGncuF3W86bXbkSCMNtf4usAu8G3GdSj9ITorB+EegrWpFVVFZNgjaTo7LeysEdkp gV34dOhuSCwgEJcOYtKUwbvqSDWEGzOieKk1Cm5RZA6H9to4Q4Jqggwk6Dg4q4+uCjoIDq0QDEl Y01RC2q2/2uelrcyPwo1KUluk3ZNesdJ4txo2MXZChAnHTC/iOZBtRJmSWjFqM02B1aRBwHb5b3 Nqfkzjm7tWLI4g6NsZF+ZF4yfXYCABYnABWZWhr6dTnAKR5c4mDCijSGCa6fFL8dbnWOR/c4EoN PeT2NY57NZrgXYP5c8tz+tMAF6LbS2SZpAZ8 X-Google-Smtp-Source: AGHT+IF1VZGvDEkirSoWMajQNZWfTlSJSjmcapNIdxIFkwvCuQDiOnVUZeVRmCzYPapnK31m3IX+CP1pfZT+ X-Received: by 2002:ad4:5aa1:0:b0:6fa:c67f:5e66 with SMTP id 6a1803df08f44-6faf704a70bmr6710926d6.39.1748988767114; Tue, 03 Jun 2025 15:12:47 -0700 (PDT) Received: from postal.iol.unh.edu (postal.iol.unh.edu. [2606:4100:3880:1234::84]) by smtp-relay.gmail.com with ESMTPS id 6a1803df08f44-6fac6f458d8sm5582496d6.57.2025.06.03.15.12.47 (version=TLS1_2 cipher=ECDHE-ECDSA-AES128-GCM-SHA256 bits=128/128); Tue, 03 Jun 2025 15:12:47 -0700 (PDT) X-Relaying-Domain: iol.unh.edu Date: Tue, 03 Jun 2025 15:12:47 -0700 (PDT) Message-ID: <683f735f.d40a0220.4712b.c9b9SMTPIN_ADDED_MISSING@mx.google.com> Received: from [172.21.0.8] (unknown [172.18.0.240]) by postal.iol.unh.edu (Postfix) with ESMTP id D44896052472; Tue, 3 Jun 2025 18:12:46 -0400 (EDT) Subject: |SUCCESS| pw153996-153997 [PATCH] [v2,2/2] dts: rewrite dts rst From: dpdklab@iol.unh.edu To: Test Report Cc: dpdk-test-reports@iol.unh.edu In-Reply-To: <20250603172827.458725-2-dmarx@iol.unh.edu> References: <20250603172827.458725-2-dmarx@iol.unh.edu> Content-Type: text/plain X-BeenThere: test-report@dpdk.org X-Mailman-Version: 2.1.29 Precedence: list List-Id: automatic DPDK test reports List-Unsubscribe: , List-Archive: List-Post: List-Help: List-Subscribe: , Errors-To: test-report-bounces@dpdk.org Test-Label: iol-abi-testing Test-Status: SUCCESS http://dpdk.org/patch/153997 _Testing PASS_ Submitter: Dean Marx Date: Tuesday, June 03 2025 17:28:27 DPDK git baseline: Repo:dpdk Branch: master CommitID:dd5979ceb777801288fb3ca4caa565bc34a370d8 153996-153997 --> testing pass Upstream job id: Generic-DPDK-Compile-ABI#128752 Test environment and result as below: +-------------------------------+----------+ | Environment | abi_test | +===============================+==========+ | CentOS Stream 9 | PASS | +-------------------------------+----------+ | Debian GNU/Linux 12 | PASS | +-------------------------------+----------+ | CentOS Stream 10 | PASS | +-------------------------------+----------+ | Fedora 40 (Clang) | PASS | +-------------------------------+----------+ | Fedora 40 | PASS | +-------------------------------+----------+ | Fedora 41 (Clang) | PASS | +-------------------------------+----------+ | openSUSE Leap 15.6 | PASS | +-------------------------------+----------+ | Ubuntu 22.04 | PASS | +-------------------------------+----------+ | Fedora 41 | PASS | +-------------------------------+----------+ | Red Hat Enterprise Linux 8.10 | PASS | +-------------------------------+----------+ | Ubuntu 24.04 | PASS | +-------------------------------+----------+ | Red Hat Enterprise Linux 9.5 | PASS | +-------------------------------+----------+ CentOS Stream 9 Kernel: Depends on container host Compiler: gcc 11.5.0 20240719 (Red Hat 11.5.0-2) Debian GNU/Linux 12 Kernel: 5.15 Compiler: gcc gcc (Debian 12.2.0-14) 12.2.0 CentOS Stream 10 Kernel: Depends on container host Compiler: gcc 14.2.1 20241104 (Red Hat 14.2.1-6) Fedora 40 (Clang) Kernel: Depends on container host Compiler: clang 18.1.8 (Fedora 18.1.8-1.fc40) Fedora 40 Kernel: Depends on container host Compiler: gcc 14.2.1 20240912 (Red Hat 14.2.1-3) Fedora 41 (Clang) Kernel: Depends on container host Compiler: clang 19.1.5 (Fedora 19.1.5-1.fc41) openSUSE Leap 15.6 Kernel: 5.15 Compiler: gcc gcc (SUSE Linux) 7.5.0 Ubuntu 22.04 Kernel: 5.15 Compiler: gcc gcc (Ubuntu 11.4.0-1ubuntu1~22.04) 11.4.0 Fedora 41 Kernel: Depends on container host Compiler: gcc 14.2.1 20240912 (Red Hat 14.2.1-3) Red Hat Enterprise Linux 8.10 Kernel: 5.15 Compiler: gcc gcc (GCC) 8.5.0 20210514 (Red Hat 8.5.0-22) Ubuntu 24.04 Kernel: 5.15 Compiler: gcc gcc (Ubuntu 13.3.0-6ubuntu2~24.04) 13.3.0 Red Hat Enterprise Linux 9.5 Kernel: 5.15 Compiler: gcc gcc (GCC) 11.5.0 20240719 (Red Hat 11.5.0-2) To view detailed results, visit: https://lab.dpdk.org/results/dashboard/patchsets/33309/ UNH-IOL DPDK Community Lab To manage your email subscriptions, visit: https://lab.dpdk.org/results/dashboard/preferences/subscriptions/