From mboxrd@z Thu Jan 1 00:00:00 1970 Return-Path: Received: from mails.dpdk.org (mails.dpdk.org [217.70.189.124]) by inbox.dpdk.org (Postfix) with ESMTP id 2F9A74686E for ; Wed, 4 Jun 2025 00:13:17 +0200 (CEST) Received: from mails.dpdk.org (localhost [127.0.0.1]) by mails.dpdk.org (Postfix) with ESMTP id 2C05D40277; Wed, 4 Jun 2025 00:13:17 +0200 (CEST) Received: from mail-pf1-f228.google.com (mail-pf1-f228.google.com [209.85.210.228]) by mails.dpdk.org (Postfix) with ESMTP id 05AB540277 for ; Wed, 4 Jun 2025 00:13:16 +0200 (CEST) Received: by mail-pf1-f228.google.com with SMTP id d2e1a72fcca58-747fc77ba9eso1189531b3a.0 for ; Tue, 03 Jun 2025 15:13:15 -0700 (PDT) DKIM-Signature: v=1; a=rsa-sha256; c=relaxed/relaxed; d=iol.unh.edu; s=unh-iol; t=1748988795; x=1749593595; darn=dpdk.org; h=references:in-reply-to:cc:to:from:subject:message-id:date:from:to :cc:subject:date:message-id:reply-to; bh=R6/G/QzuEpksNB/NuY7pJBgBzANgzPZSmPx3JGrPcSo=; b=PhgM4AA2I2WII5m3epl0aV717xPUsHHJD/YzQ7l6RFMnP55hxgyBXDVogcbw0Mhh53 88tH3tet6NxpqFuVI4urXNFVlNQPSVLl5toU+XapuEZKnfRHBxInEcsE3/MXSWBPOuYM /N3xWAjv9fgJ5s99OvL00PzhGqqthyNmAn5xs= X-Google-DKIM-Signature: v=1; a=rsa-sha256; c=relaxed/relaxed; d=1e100.net; s=20230601; t=1748988795; x=1749593595; h=references:in-reply-to:cc:to:from:subject:message-id:date :x-gm-message-state:from:to:cc:subject:date:message-id:reply-to; bh=R6/G/QzuEpksNB/NuY7pJBgBzANgzPZSmPx3JGrPcSo=; b=q29EOMjTps3BR76vSNJilWaI3xlAiGYNG1nZRrUAd/vBn3jXn7gKU4fuFTvRHamBAq bOjUEvXL1KM4MZmfZ1urdG/9GkyHlPh+pVBUvQCtjrOeHBDdpB57XtFmEP/Nr8PwHWQo txFvvGa41hUcTf6cmgfkG182djXo7rr47uQU6jR26sYF6/nhZi+450gKhhb3rtuNlIqw 1wfeF+3WUwl5zPRjj9Flt0z7cIuQpinOMHxNYP5IQWvOP5VUikZRz3h76ML2OXfN2QuQ osfQ4LoNmbp2XRhm6aAklU+lpXJd9UaU0bHwnUniM6X1nofE9UGwbGasOg74cjuGtNzS ktqg== X-Gm-Message-State: AOJu0Yy0scrCm1Pruok/oNuRoZf9YofL5yLS2YL0yMIDWvrMOK9/IKMA yzxS3Su5GHm6vO6jtPHVcF2wKVY9JDAml3d6O8vC0e5+cOxhvheffXiV/FYbtnt6H0L0wf2Bfze L1L4j4X1cSXEN2SxKJLbC4Mu5DTyrARndsExlPNardK4uJu8HhHm+dEosNaiZ X-Gm-Gg: ASbGncuG6IzXDkbI69f/0etUG+huEfeiFDtPQDxjE+TfPxFY3ajFWHCCjV8zNG2x23r t6m+TLeeJp5bUvGtCo7zR2QrRE8Xi5D8FMyvCHPEzkMPk3fQ0R+8zu2kgl8Z0CJMKFYbFFBB4iX LHDNaMZzpafc+s36YwsEp1Gf4FuUYyVGynwITrnhWxEyinnKiSUcqP9VXAByXtJgAYk1HYzuQpp Lz2TXGm4RxwL+vuWxL5Jjallmw9I4fjoHOel5WJqADAbiz7cUyxrCUKhOn71QDhKyG37LXRbT00 yKrR6lIgzZkl1UH1Gt6qS2aVFsaiHwpNq/ZS X-Google-Smtp-Source: AGHT+IGeW/ranNKfnr2IjrTSN7XzeyiwwiciNn3Z0e7O2LBC5iS7SJY4STtSDHfzLKs/cjpI5Y67t36iqmyn X-Received: by 2002:a05:6a00:18a9:b0:742:a23e:2a67 with SMTP id d2e1a72fcca58-7480d024966mr327098b3a.16.1748988795168; Tue, 03 Jun 2025 15:13:15 -0700 (PDT) Received: from postal.iol.unh.edu (postal.iol.unh.edu. [2606:4100:3880:1234::84]) by smtp-relay.gmail.com with ESMTPS id 41be03b00d2f7-b2ecebe0d77sm325012a12.31.2025.06.03.15.13.15 (version=TLS1_2 cipher=ECDHE-ECDSA-AES128-GCM-SHA256 bits=128/128); Tue, 03 Jun 2025 15:13:15 -0700 (PDT) X-Relaying-Domain: iol.unh.edu Date: Tue, 03 Jun 2025 15:13:15 -0700 (PDT) Message-ID: <683f737b.050a0220.38100.0247SMTPIN_ADDED_MISSING@mx.google.com> Received: from [172.21.0.8] (unknown [172.18.0.240]) by postal.iol.unh.edu (Postfix) with ESMTP id 5E3776052471; Tue, 3 Jun 2025 18:13:14 -0400 (EDT) Subject: |SUCCESS| pw153998-154004 [PATCH] [v2,7/7] event/dlb2: return defaul From: dpdklab@iol.unh.edu To: Test Report Cc: dpdk-test-reports@iol.unh.edu In-Reply-To: <20250603180514.3826917-8-pravin.pathak@intel.com> References: <20250603180514.3826917-8-pravin.pathak@intel.com> Content-Type: text/plain X-BeenThere: test-report@dpdk.org X-Mailman-Version: 2.1.29 Precedence: list List-Id: automatic DPDK test reports List-Unsubscribe: , List-Archive: List-Post: List-Help: List-Subscribe: , Errors-To: test-report-bounces@dpdk.org Test-Label: iol-abi-testing Test-Status: SUCCESS http://dpdk.org/patch/154004 _Testing PASS_ Submitter: Pravin Pathak Date: Tuesday, June 03 2025 18:05:14 DPDK git baseline: Repo:dpdk Branch: master CommitID:51d6054789b6d8cbd99fe82407941bc71d90b514 153998-154004 --> testing pass Upstream job id: Generic-DPDK-Compile-ABI#128742 Test environment and result as below: +-------------------------------+----------+ | Environment | abi_test | +===============================+==========+ | CentOS Stream 9 | PASS | +-------------------------------+----------+ | CentOS Stream 10 | PASS | +-------------------------------+----------+ | Debian GNU/Linux 12 | PASS | +-------------------------------+----------+ | Fedora 40 (Clang) | PASS | +-------------------------------+----------+ | Fedora 41 | PASS | +-------------------------------+----------+ | Fedora 40 | PASS | +-------------------------------+----------+ | openSUSE Leap 15.6 | PASS | +-------------------------------+----------+ | Fedora 41 (Clang) | PASS | +-------------------------------+----------+ | Red Hat Enterprise Linux 8.10 | PASS | +-------------------------------+----------+ | Ubuntu 22.04 | PASS | +-------------------------------+----------+ | Ubuntu 24.04 | PASS | +-------------------------------+----------+ | Red Hat Enterprise Linux 9.5 | PASS | +-------------------------------+----------+ CentOS Stream 9 Kernel: Depends on container host Compiler: gcc 11.5.0 20240719 (Red Hat 11.5.0-2) CentOS Stream 10 Kernel: Depends on container host Compiler: gcc 14.2.1 20241104 (Red Hat 14.2.1-6) Debian GNU/Linux 12 Kernel: 5.15 Compiler: gcc gcc (Debian 12.2.0-14) 12.2.0 Fedora 40 (Clang) Kernel: Depends on container host Compiler: clang 18.1.8 (Fedora 18.1.8-1.fc40) Fedora 41 Kernel: Depends on container host Compiler: gcc 14.2.1 20240912 (Red Hat 14.2.1-3) Fedora 40 Kernel: Depends on container host Compiler: gcc 14.2.1 20240912 (Red Hat 14.2.1-3) openSUSE Leap 15.6 Kernel: 5.15 Compiler: gcc gcc (SUSE Linux) 7.5.0 Fedora 41 (Clang) Kernel: Depends on container host Compiler: clang 19.1.5 (Fedora 19.1.5-1.fc41) Red Hat Enterprise Linux 8.10 Kernel: 5.15 Compiler: gcc gcc (GCC) 8.5.0 20210514 (Red Hat 8.5.0-22) Ubuntu 22.04 Kernel: 5.15 Compiler: gcc gcc (Ubuntu 11.4.0-1ubuntu1~22.04) 11.4.0 Ubuntu 24.04 Kernel: 5.15 Compiler: gcc gcc (Ubuntu 13.3.0-6ubuntu2~24.04) 13.3.0 Red Hat Enterprise Linux 9.5 Kernel: 5.15 Compiler: gcc gcc (GCC) 11.5.0 20240719 (Red Hat 11.5.0-2) To view detailed results, visit: https://lab.dpdk.org/results/dashboard/patchsets/33310/ UNH-IOL DPDK Community Lab To manage your email subscriptions, visit: https://lab.dpdk.org/results/dashboard/preferences/subscriptions/