From mboxrd@z Thu Jan 1 00:00:00 1970 Return-Path: Received: from mails.dpdk.org (mails.dpdk.org [217.70.189.124]) by inbox.dpdk.org (Postfix) with ESMTP id BAD954686E for ; Wed, 4 Jun 2025 00:15:02 +0200 (CEST) Received: from mails.dpdk.org (localhost [127.0.0.1]) by mails.dpdk.org (Postfix) with ESMTP id B798340277; Wed, 4 Jun 2025 00:15:02 +0200 (CEST) Received: from mail-qv1-f99.google.com (mail-qv1-f99.google.com [209.85.219.99]) by mails.dpdk.org (Postfix) with ESMTP id 6416540277 for ; Wed, 4 Jun 2025 00:15:01 +0200 (CEST) Received: by mail-qv1-f99.google.com with SMTP id 6a1803df08f44-6facba680a1so65934376d6.3 for ; Tue, 03 Jun 2025 15:15:01 -0700 (PDT) DKIM-Signature: v=1; a=rsa-sha256; c=relaxed/relaxed; d=iol.unh.edu; s=unh-iol; t=1748988901; x=1749593701; darn=dpdk.org; h=references:in-reply-to:cc:to:from:subject:message-id:date:from:to :cc:subject:date:message-id:reply-to; bh=bGzhqIjtXbTdc9Om6RDZZOZ24NoqRWjULYp2k1Yx7vc=; b=bXPNVgtzeMNis8sYgXOHWfJh9CE/MVGguCW1CGkRZ3gvWnt/hTIzmSjImdiFI4oqF5 9uiqYDnaw9dy/iJ6BAHCwqTJTuckuU5yEdMWsBkpL7W9EZUdD8zr02olxqlEeK0y87IS 76gMehK4zovIEVzCtJjqkCzfALQDCbTLgbdGQ= X-Google-DKIM-Signature: v=1; a=rsa-sha256; c=relaxed/relaxed; d=1e100.net; s=20230601; t=1748988901; x=1749593701; h=references:in-reply-to:cc:to:from:subject:message-id:date :x-gm-message-state:from:to:cc:subject:date:message-id:reply-to; bh=bGzhqIjtXbTdc9Om6RDZZOZ24NoqRWjULYp2k1Yx7vc=; b=hUdRF2jgbW4eyAcIL72isHYG1MeoirWMlF/MULEUbg9ndOHM7gfgcP+fxPRB2CIUpl pFuTeXXyqZ7Qa38h5R7x6Mgk3P+V27Z8gTQt7/TUc9A/842of01iXBK8BqtxU4DtBon6 FOePc+axuaVBpBTqNe/kWRtgdaHWYLJST5bvBY/z87df/mn+zQ4F2gsAtFvpVHw8y7gP 3q5kwsXL4vhYQJ62RDKjxPwUxOTHkxQUEolG4oanXb3g86SrQrBWejtlf7kTJirFY29E VOyTrNE159ngDpiYtC1a5KxwSwCFP5gEa1I4651nm3FXocpPaBgao+TYn4wkS6hm1au6 6w8A== X-Gm-Message-State: AOJu0Yyl+28B75BI7fW65VOnqmHONjyTpRJPfPk1UzNIy8qOtCBevM15 +FF0RoXfKPQZq/38Ybqopxhx/n9+/Y8XXCVyEIw9Eb4skXjFCJSCMAwHYO5GZuCVZMFseAMNjvr m1o0tl5nvICH89nYe8S1Yk/WNQIWCMOQOt+JcBYV8HD7p6QvxzmMQWEsVX/cG X-Gm-Gg: ASbGncuXp4Qqu9vydKk2Eq7zJfBSHnHdonGtnQx39IAsKtqF+tQFbaNzln9s/wOgXZ6 5DyjvGJ1N0Tu3z8QbSC9OJjx+u1LfwAdAjIz2+14e7NzhJbxMf7WStKKk8sEnTMnmt2e6biYskB I3odZYxJf2ZXPToVvaE5Ii/JRdkPAUGpsg6foSzXNJQT9t1R9wM2LDt+/J3HO3hzjgW/g6wegsm qRP+p/OIUob8tXYRmPGJlT0EmUyNmiTURsi1HcCcJ/TWIiK6hQeJ5x3RF6g85a8UVtfDNmkg+H5 7WR8+3H5lCmjHKD21ZQAd2KX22mZlixWaEvbstqCVqEZOH0= X-Google-Smtp-Source: AGHT+IHsgaulsc/ZQ1CzHh1hkoG8Aqz55wUVd5F0UMApBH/+Owa90bTD8OlGSPC6Bxn9CBOwKfMg5wg5Hk7i X-Received: by 2002:a05:6214:f0a:b0:6fa:eeb6:a163 with SMTP id 6a1803df08f44-6faf7023ca0mr6630366d6.33.1748988900726; Tue, 03 Jun 2025 15:15:00 -0700 (PDT) Received: from postal.iol.unh.edu (postal.iol.unh.edu. [2606:4100:3880:1234::84]) by smtp-relay.gmail.com with ESMTPS id 6a1803df08f44-6fac6e361e7sm5565396d6.38.2025.06.03.15.15.00 (version=TLS1_2 cipher=ECDHE-ECDSA-AES128-GCM-SHA256 bits=128/128); Tue, 03 Jun 2025 15:15:00 -0700 (PDT) X-Relaying-Domain: iol.unh.edu Date: Tue, 03 Jun 2025 15:15:00 -0700 (PDT) Message-ID: <683f73e4.050a0220.2035f0.e6f0SMTPIN_ADDED_MISSING@mx.google.com> Received: from [172.21.0.6] (unknown [172.18.0.240]) by postal.iol.unh.edu (Postfix) with ESMTP id 70A806052471; Tue, 3 Jun 2025 18:15:00 -0400 (EDT) Subject: |WARNING| pw153996-153997 [PATCH] [v2,2/2] dts: rewrite dts rst From: dpdklab@iol.unh.edu To: Test Report Cc: dpdk-test-reports@iol.unh.edu In-Reply-To: <20250603172827.458725-2-dmarx@iol.unh.edu> References: <20250603172827.458725-2-dmarx@iol.unh.edu> Content-Type: text/plain X-BeenThere: test-report@dpdk.org X-Mailman-Version: 2.1.29 Precedence: list List-Id: automatic DPDK test reports List-Unsubscribe: , List-Archive: List-Post: List-Help: List-Subscribe: , Errors-To: test-report-bounces@dpdk.org Test-Label: iol-compile-amd64-testing Test-Status: WARNING http://dpdk.org/patch/153997 _Testing issues_ Submitter: Dean Marx Date: Tuesday, June 03 2025 17:28:27 DPDK git baseline: Repo:dpdk Branch: master CommitID:dd5979ceb777801288fb3ca4caa565bc34a370d8 153996-153997 --> testing issues Upstream job id: Generic-DPDK-Compile-Meson#394031 Test environment and result as below: +-------------------------------+--------------------+-------------------+------------------+-------------------+-------------------------+----------------------+ | Environment | dpdk_meson_compile | dpdk_compile_spdk | dpdk_compile_ovs | dpdk_msvc_compile | dpdk_llvm_clang_compile | dpdk_mingw64_compile | +===============================+====================+===================+==================+===================+=========================+======================+ | CentOS Stream 9 | PASS | PASS | SKIPPED | SKIPPED | SKIPPED | SKIPPED | +-------------------------------+--------------------+-------------------+------------------+-------------------+-------------------------+----------------------+ | CentOS Stream 10 | PEND | SKIPPED | SKIPPED | SKIPPED | SKIPPED | SKIPPED | +-------------------------------+--------------------+-------------------+------------------+-------------------+-------------------------+----------------------+ | Debian GNU/Linux 12 | PEND | PEND | SKIPPED | SKIPPED | SKIPPED | SKIPPED | +-------------------------------+--------------------+-------------------+------------------+-------------------+-------------------------+----------------------+ | Fedora 40 (Clang) | PASS | WARN | SKIPPED | SKIPPED | SKIPPED | SKIPPED | +-------------------------------+--------------------+-------------------+------------------+-------------------+-------------------------+----------------------+ | Fedora 40 | PASS | PASS | SKIPPED | SKIPPED | SKIPPED | SKIPPED | +-------------------------------+--------------------+-------------------+------------------+-------------------+-------------------------+----------------------+ | Fedora 41 (Clang) | PEND | PEND | PEND | SKIPPED | SKIPPED | SKIPPED | +-------------------------------+--------------------+-------------------+------------------+-------------------+-------------------------+----------------------+ | openSUSE Leap 15.6 | PASS | SKIPPED | SKIPPED | SKIPPED | SKIPPED | SKIPPED | +-------------------------------+--------------------+-------------------+------------------+-------------------+-------------------------+----------------------+ | Red Hat Enterprise Linux 8.10 | PASS | SKIPPED | SKIPPED | SKIPPED | SKIPPED | SKIPPED | +-------------------------------+--------------------+-------------------+------------------+-------------------+-------------------------+----------------------+ | Fedora 41 | PEND | PEND | PEND | SKIPPED | SKIPPED | SKIPPED | +-------------------------------+--------------------+-------------------+------------------+-------------------+-------------------------+----------------------+ | Red Hat Enterprise Linux 9.5 | PASS | SKIPPED | SKIPPED | SKIPPED | SKIPPED | SKIPPED | +-------------------------------+--------------------+-------------------+------------------+-------------------+-------------------------+----------------------+ | Ubuntu 20.04 | PASS | SKIPPED | SKIPPED | SKIPPED | SKIPPED | SKIPPED | +-------------------------------+--------------------+-------------------+------------------+-------------------+-------------------------+----------------------+ | Ubuntu 24.04 | PASS | PEND | PEND | SKIPPED | SKIPPED | SKIPPED | +-------------------------------+--------------------+-------------------+------------------+-------------------+-------------------------+----------------------+ | Alpine | PEND | SKIPPED | SKIPPED | SKIPPED | SKIPPED | SKIPPED | +-------------------------------+--------------------+-------------------+------------------+-------------------+-------------------------+----------------------+ | Ubuntu 22.04 | PEND | PEND | SKIPPED | SKIPPED | SKIPPED | SKIPPED | +-------------------------------+--------------------+-------------------+------------------+-------------------+-------------------------+----------------------+ | FreeBSD 14.2 | PASS | SKIPPED | SKIPPED | SKIPPED | SKIPPED | SKIPPED | +-------------------------------+--------------------+-------------------+------------------+-------------------+-------------------------+----------------------+ | Windows Server 2022 | SKIPPED | SKIPPED | SKIPPED | PASS | PASS | PASS | +-------------------------------+--------------------+-------------------+------------------+-------------------+-------------------------+----------------------+ ==== 20 line log output for Fedora 40 (Clang) (dpdk_compile_spdk): ==== --- Failed to get log output --- ==== End log output ==== CentOS Stream 9 Kernel: Depends on container host Compiler: gcc 11.5.0 20240719 (Red Hat 11.5.0-2) CentOS Stream 10 Kernel: Depends on container host Compiler: gcc 14.2.1 20241104 (Red Hat 14.2.1-6) Debian GNU/Linux 12 Kernel: 5.15 Compiler: gcc gcc (Debian 12.2.0-14) 12.2.0 Fedora 40 (Clang) Kernel: Depends on container host Compiler: clang 18.1.8 (Fedora 18.1.8-1.fc40) Fedora 40 Kernel: Depends on container host Compiler: gcc 14.2.1 20240912 (Red Hat 14.2.1-3) Fedora 41 (Clang) Kernel: Depends on container host Compiler: clang 19.1.5 (Fedora 19.1.5-1.fc41) openSUSE Leap 15.6 Kernel: 5.15 Compiler: gcc gcc (SUSE Linux) 7.5.0 Red Hat Enterprise Linux 8.10 Kernel: 5.15 Compiler: gcc gcc (GCC) 8.5.0 20210514 (Red Hat 8.5.0-22) Fedora 41 Kernel: Depends on container host Compiler: gcc 14.2.1 20240912 (Red Hat 14.2.1-3) Red Hat Enterprise Linux 9.5 Kernel: 5.15 Compiler: gcc gcc (GCC) 11.5.0 20240719 (Red Hat 11.5.0-2) Ubuntu 20.04 Kernel: 5.15 Compiler: gcc gcc (Ubuntu 9.4.0-1ubuntu1~20.04.2) 9.4.0 Ubuntu 24.04 Kernel: 5.15 Compiler: gcc gcc (Ubuntu 13.3.0-6ubuntu2~24.04) 13.3.0 Alpine Kernel: Depends on container host Compiler: gcc (Alpine 14.2.0) 14.2.0 Ubuntu 22.04 Kernel: 5.15 Compiler: gcc gcc (Ubuntu 11.4.0-1ubuntu1~22.04) 11.4.0 FreeBSD 14.2 Kernel: 14.2-RELEASE Compiler: clang 18.1.6 Windows Server 2022 Kernel: 10.0.20348.2031 Compiler: clang 15.0.7, gcc 14.1.0 (MinGW), and MSVC VS 19.39.33521 To view detailed results, visit: https://lab.dpdk.org/results/dashboard/patchsets/33309/ UNH-IOL DPDK Community Lab To manage your email subscriptions, visit: https://lab.dpdk.org/results/dashboard/preferences/subscriptions/