From mboxrd@z Thu Jan 1 00:00:00 1970 Return-Path: Received: from mails.dpdk.org (mails.dpdk.org [217.70.189.124]) by inbox.dpdk.org (Postfix) with ESMTP id 4C9364686E for ; Wed, 4 Jun 2025 00:29:08 +0200 (CEST) Received: from mails.dpdk.org (localhost [127.0.0.1]) by mails.dpdk.org (Postfix) with ESMTP id 2B1BC40277; Wed, 4 Jun 2025 00:29:08 +0200 (CEST) Received: from mail-yb1-f225.google.com (mail-yb1-f225.google.com [209.85.219.225]) by mails.dpdk.org (Postfix) with ESMTP id EB09C40277 for ; Wed, 4 Jun 2025 00:29:06 +0200 (CEST) Received: by mail-yb1-f225.google.com with SMTP id 3f1490d57ef6-e7d9d480e6cso4592484276.2 for ; Tue, 03 Jun 2025 15:29:06 -0700 (PDT) DKIM-Signature: v=1; a=rsa-sha256; c=relaxed/relaxed; d=iol.unh.edu; s=unh-iol; t=1748989746; x=1749594546; darn=dpdk.org; h=references:in-reply-to:cc:to:from:subject:message-id:date:from:to :cc:subject:date:message-id:reply-to; bh=+8AWs0K8qLfor++dO4SPfo5S1jh3qsaSQxTuWSFC9Ws=; b=LuqaX0vSeD1fkfMVLsUpvVFbjvleG7V32YUP89A31F5lZLTYmEaFNiRrw4UanYhYN6 r4nuSa34Ditua9ZoTb2yTi0DNzQ/LkL4qjrp68frai089viwME7rvy1e0yNwwBeykqfV NS51xTRuQ3wbJ7q8iifZ+v1m8nlFVeMV9rvdM= X-Google-DKIM-Signature: v=1; a=rsa-sha256; c=relaxed/relaxed; d=1e100.net; s=20230601; t=1748989746; x=1749594546; h=references:in-reply-to:cc:to:from:subject:message-id:date :x-gm-message-state:from:to:cc:subject:date:message-id:reply-to; bh=+8AWs0K8qLfor++dO4SPfo5S1jh3qsaSQxTuWSFC9Ws=; b=JcgiIe+oMwZ1cMc4gW5NqMFh5er2acw7XDhf8SY4Q90g84fXx9ujA1rBF3Kq2ch1kX CCupwyxqwWQW+lv6iDf/E893f9BVTl8wfbOdueEn4eAnnMWMlPI8RCYtrolEHnash8Wl bZ7zMhITT46iOzGUrIKkXnJBVMk1bb8xELfWPW0r0kSPNQ+2bxvOwleZv5EwywWOa+fF WuLLBaqAd/6DTwSrNLaOiTsaJSNHi/40IiU1Ko7QFGyFHsyPHnCowHLOj48nmstjhtgL 5TUewt1RV8j+A/JN+tRVZKirpCHbiDkPUeb2mj2nu5AYNfpT/VD7O7+4J+07/dkERJBl 4NaQ== X-Gm-Message-State: AOJu0Yy/+ji9JoBoA17E2dqH+CAU5G9XgxeP+b/T6Zw6jp0QAmm5+F05 px9t3rjRtETBRJEaSbnsayYP7dE9LdE4oMakD7gzNQFtd8osrusop4WKt79UoljGhlLK24WIb9T yoDjXPo6ZbyiyR1DMMGJQqFRMc0FRm8vR8+XpFXjCmg3s X-Gm-Gg: ASbGncs5Tb5lNJWXzSYDTyo5A4uF5HPSTM4+nrFWg8GMWvrFnRdVBT/L1KCMCg4W1UZ 6syjT2VvnZ5B0YlwEnhq5HnGO6tegAhbFse2gbrDZ1FvpfsPSobqkOOqXtWr8JDaYDWfRFnQADd pLigo/i+p+JAhc/zFuBYzRY0rR654kbd0CHeV8LppzlKc/7dNYXBpvACY55NrBIYVE3T30xgECn +n0nKu+lNvp2bgLx0UgMxM5m0aS4ontBQY9T49CBtZvUTp0z9EEdojMLmZTVWSlGoZMiw+W3bUH rSNm8n1ne25LBqy5buAqAu6k7ombyedI8kGodv8aCs7rnhAL/VKmIHK/5gI= X-Google-Smtp-Source: AGHT+IE9hIEvQtJcGTszsulm6HohePRGb6BjbFwCseCoXUJMLsCUZxpxnvFaweNWIGFiRlcG8TgY5nF9awjy X-Received: by 2002:a05:6902:c0a:b0:e7d:59e0:f65e with SMTP id 3f1490d57ef6-e8179c1d540mr905434276.1.1748989746061; Tue, 03 Jun 2025 15:29:06 -0700 (PDT) Received: from postal.iol.unh.edu (postal.iol.unh.edu. [132.177.123.84]) by smtp-relay.gmail.com with ESMTPS id 3f1490d57ef6-e7f733f2999sm702328276.17.2025.06.03.15.29.05 (version=TLS1_2 cipher=ECDHE-ECDSA-AES128-GCM-SHA256 bits=128/128); Tue, 03 Jun 2025 15:29:06 -0700 (PDT) X-Relaying-Domain: iol.unh.edu Date: Tue, 03 Jun 2025 15:29:06 -0700 (PDT) Message-ID: <683f7732.250a0220.2cdecf.4caaSMTPIN_ADDED_MISSING@mx.google.com> Received: from [172.17.0.2] (unknown [172.18.0.76]) by postal.iol.unh.edu (Postfix) with ESMTP id B86D96052471; Tue, 3 Jun 2025 18:29:05 -0400 (EDT) Subject: |SUCCESS| pw153996-153997 [PATCH] [v2,2/2] dts: rewrite dts rst From: dpdklab@iol.unh.edu To: Test Report Cc: dpdk-test-reports@iol.unh.edu In-Reply-To: <20250603172827.458725-2-dmarx@iol.unh.edu> References: <20250603172827.458725-2-dmarx@iol.unh.edu> Content-Type: text/plain X-BeenThere: test-report@dpdk.org X-Mailman-Version: 2.1.29 Precedence: list List-Id: automatic DPDK test reports List-Unsubscribe: , List-Archive: List-Post: List-Help: List-Subscribe: , Errors-To: test-report-bounces@dpdk.org Test-Label: iol-unit-amd64-testing Test-Status: SUCCESS http://dpdk.org/patch/153997 _Testing PASS_ Submitter: Dean Marx Date: Tuesday, June 03 2025 17:28:27 DPDK git baseline: Repo:dpdk Branch: master CommitID:dd5979ceb777801288fb3ca4caa565bc34a370d8 153996-153997 --> testing pass Upstream job id: Generic-Unit-Test-DPDK#343007 Test environment and result as below: +-------------------------------+----------------+ | Environment | dpdk_unit_test | +===============================+================+ | CentOS Stream 10 | PASS | +-------------------------------+----------------+ | CentOS Stream 9 | PASS | +-------------------------------+----------------+ | Fedora 40 | PASS | +-------------------------------+----------------+ | Debian GNU/Linux 12 | PASS | +-------------------------------+----------------+ | Fedora 41 (Clang) | PASS | +-------------------------------+----------------+ | Ubuntu 24.04 | PASS | +-------------------------------+----------------+ | Ubuntu 20.04 | PASS | +-------------------------------+----------------+ | Red Hat Enterprise Linux 9.5 | PASS | +-------------------------------+----------------+ | Fedora 40 (Clang) | PASS | +-------------------------------+----------------+ | Fedora 41 | PASS | +-------------------------------+----------------+ | Ubuntu 22.04 | PASS | +-------------------------------+----------------+ | Red Hat Enterprise Linux 8.10 | PASS | +-------------------------------+----------------+ | Windows Server 2022 | PASS | +-------------------------------+----------------+ CentOS Stream 10 Kernel: Depends on container host Compiler: gcc 14.2.1 20241104 (Red Hat 14.2.1-6) CentOS Stream 9 Kernel: Depends on container host Compiler: gcc 11.5.0 20240719 (Red Hat 11.5.0-2) Fedora 40 Kernel: Depends on container host Compiler: gcc 14.2.1 20240912 (Red Hat 14.2.1-3) Debian GNU/Linux 12 Kernel: 5.15 Compiler: gcc gcc (Debian 12.2.0-14) 12.2.0 Fedora 41 (Clang) Kernel: Depends on container host Compiler: clang 19.1.5 (Fedora 19.1.5-1.fc41) Ubuntu 24.04 Kernel: 5.15 Compiler: gcc gcc (Ubuntu 13.3.0-6ubuntu2~24.04) 13.3.0 Ubuntu 20.04 Kernel: 5.15 Compiler: gcc gcc (Ubuntu 9.4.0-1ubuntu1~20.04.2) 9.4.0 Red Hat Enterprise Linux 9.5 Kernel: 5.15 Compiler: gcc gcc (GCC) 11.5.0 20240719 (Red Hat 11.5.0-2) Fedora 40 (Clang) Kernel: Depends on container host Compiler: clang 18.1.8 (Fedora 18.1.8-1.fc40) Fedora 41 Kernel: Depends on container host Compiler: gcc 14.2.1 20240912 (Red Hat 14.2.1-3) Ubuntu 22.04 Kernel: 5.15 Compiler: gcc gcc (Ubuntu 11.4.0-1ubuntu1~22.04) 11.4.0 Red Hat Enterprise Linux 8.10 Kernel: 5.15 Compiler: gcc gcc (GCC) 8.5.0 20210514 (Red Hat 8.5.0-22) Windows Server 2022 Kernel: 10.0.20348.2031 Compiler: clang 15.0.7, gcc 14.1.0 (MinGW), and MSVC VS 19.39.33521 To view detailed results, visit: https://lab.dpdk.org/results/dashboard/patchsets/33309/ UNH-IOL DPDK Community Lab To manage your email subscriptions, visit: https://lab.dpdk.org/results/dashboard/preferences/subscriptions/