From mboxrd@z Thu Jan 1 00:00:00 1970 Return-Path: Received: from mails.dpdk.org (mails.dpdk.org [217.70.189.124]) by inbox.dpdk.org (Postfix) with ESMTP id 0751A4686E for ; Wed, 4 Jun 2025 00:47:23 +0200 (CEST) Received: from mails.dpdk.org (localhost [127.0.0.1]) by mails.dpdk.org (Postfix) with ESMTP id E4E8840277; Wed, 4 Jun 2025 00:47:22 +0200 (CEST) Received: from mail-yb1-f228.google.com (mail-yb1-f228.google.com [209.85.219.228]) by mails.dpdk.org (Postfix) with ESMTP id 561E440277 for ; Wed, 4 Jun 2025 00:47:22 +0200 (CEST) Received: by mail-yb1-f228.google.com with SMTP id 3f1490d57ef6-e7f6c5978d2so4565430276.0 for ; Tue, 03 Jun 2025 15:47:22 -0700 (PDT) DKIM-Signature: v=1; a=rsa-sha256; c=relaxed/relaxed; d=iol.unh.edu; s=unh-iol; t=1748990841; x=1749595641; darn=dpdk.org; h=references:in-reply-to:cc:to:from:subject:message-id:date:from:to :cc:subject:date:message-id:reply-to; bh=nGzCTallQaGUfiwHIQvZVUJO6uTCWC4Nr8Tm+IkxMgk=; b=PvolMoMKcARnsjsJXk24O9dwRsx1tMC9QiQsa7j4LX/7UzT0i3Dooq9rjb7OUgPcmT mdnG9oYYSfB4YE8mPr9wFg7WKx+UJklYO8ke7pd+SZMiD6qU2xPUucsEt2Luw3rHMP28 nRgMwEytKoGvGKyi+obGzLLvJY0IYAdmWRbO8= X-Google-DKIM-Signature: v=1; a=rsa-sha256; c=relaxed/relaxed; d=1e100.net; s=20230601; t=1748990841; x=1749595641; h=references:in-reply-to:cc:to:from:subject:message-id:date :x-gm-message-state:from:to:cc:subject:date:message-id:reply-to; bh=nGzCTallQaGUfiwHIQvZVUJO6uTCWC4Nr8Tm+IkxMgk=; b=mNTEfjWzuRJwgWxXtT8VU62FbKYWGdI9ZMSyN7AVsA75TYUuSbOG+S9FNwh87rC9dk O+s+BiESiPQ7wCQakC+c6Jv4Zxx/wCpaJeCl/+40HM5EdCPp528DMStrhpq9qsNa2DnM l8/ewQFZACWKbPWu+0ZhqFUzwSdAMxaBzUzgNk3eIJjwEHHocvYJ6MKlgF278KbKozER PcdHkLnotbxcQHhDdmZ8wyTbOMtKanGixB6vjdAnMrnWLKbQZFXAkER+47PCmzu8eHBP 8hsWIJXJlnfM2YhOKE4IDVbK+ElU3lWn9iC2i/s0mFUekpAE9AjhSSQ0/G2pNXT1gIuz EAsg== X-Gm-Message-State: AOJu0YxiXKwDk3bWfDKul9AnGrBj8GHw7H+AGFy17wzES16F5IWnbA3t 34PMbyKMaWGOti4OGHBr4F6COEERX1ON6V3JSdAWsWFq9cV3RLCBvshxmbIwkEyJ0rxnqqXKqrG Q3SZZX2LHvXsObcqq4Cf4uV/Yu4gnyDufmKxv7kxPZabN1pGCYUwzbtbHkM33 X-Gm-Gg: ASbGncuRlnJ6S5zBpbIdJKHzRn2PeuHlwtOqRatk3a88XKh+juEvM7m57dVIFZibD4N TGbviKSkAZfi3d0tUPCsYeIoTg+p+fag4yKQSa6k04DET/rjiGq4pplE0e8c8sxy4dHIoNOU/7W NjxF5ko3790LoBTnlfOQx9zDo/VfI9M40QnzW+phFXzO0+Of5Rue2w57Nto0HkCyrBbKFSTH6CT 34auty3j4mwIP74EGnK3WzIzD4zuXax2Bnqhf9ruz5McKdc6lIOc/iC3WVhas9GwqW75I8XcQ3b bPZAX3BQgKiOK20hXm1faFUWPmkcC/uhSjLLN1cygTg68YA= X-Google-Smtp-Source: AGHT+IFBRZlmM40mGEc48SqnyB6w3hRx/douNM/98MjOHd/yQtthiGov0SwfuOAcxpultwXC89k9EXmB2Sus X-Received: by 2002:a05:6902:2503:b0:e7d:6b87:7bfa with SMTP id 3f1490d57ef6-e817b3dddfemr394202276.13.1748990841552; Tue, 03 Jun 2025 15:47:21 -0700 (PDT) Received: from postal.iol.unh.edu (postal.iol.unh.edu. [2606:4100:3880:1234::84]) by smtp-relay.gmail.com with ESMTPS id 3f1490d57ef6-e8156de76a7sm106266276.4.2025.06.03.15.47.21 (version=TLS1_2 cipher=ECDHE-ECDSA-AES128-GCM-SHA256 bits=128/128); Tue, 03 Jun 2025 15:47:21 -0700 (PDT) X-Relaying-Domain: iol.unh.edu Date: Tue, 03 Jun 2025 15:47:21 -0700 (PDT) Message-ID: <683f7b79.050a0220.1eb196.5177SMTPIN_ADDED_MISSING@mx.google.com> Received: from [172.17.0.2] (unknown [172.18.0.76]) by postal.iol.unh.edu (Postfix) with ESMTP id 486B46052471; Tue, 3 Jun 2025 18:47:21 -0400 (EDT) Subject: |WARNING| pw153996-153997 [PATCH] [v2,2/2] dts: rewrite dts rst From: dpdklab@iol.unh.edu To: Test Report Cc: dpdk-test-reports@iol.unh.edu In-Reply-To: <20250603172827.458725-2-dmarx@iol.unh.edu> References: <20250603172827.458725-2-dmarx@iol.unh.edu> Content-Type: text/plain X-BeenThere: test-report@dpdk.org X-Mailman-Version: 2.1.29 Precedence: list List-Id: automatic DPDK test reports List-Unsubscribe: , List-Archive: List-Post: List-Help: List-Subscribe: , Errors-To: test-report-bounces@dpdk.org Test-Label: iol-compile-amd64-testing Test-Status: WARNING http://dpdk.org/patch/153997 _Testing issues_ Submitter: Dean Marx Date: Tuesday, June 03 2025 17:28:27 DPDK git baseline: Repo:dpdk Branch: master CommitID:dd5979ceb777801288fb3ca4caa565bc34a370d8 153996-153997 --> testing issues Upstream job id: Generic-DPDK-Compile-Meson#394029 Test environment and result as below: +-------------------------------+--------------------+-------------------+------------------+-------------------+-------------------------+----------------------+ | Environment | dpdk_meson_compile | dpdk_compile_spdk | dpdk_compile_ovs | dpdk_msvc_compile | dpdk_llvm_clang_compile | dpdk_mingw64_compile | +===============================+====================+===================+==================+===================+=========================+======================+ | CentOS Stream 9 | PASS | PASS | SKIPPED | SKIPPED | SKIPPED | SKIPPED | +-------------------------------+--------------------+-------------------+------------------+-------------------+-------------------------+----------------------+ | CentOS Stream 10 | PASS | SKIPPED | SKIPPED | SKIPPED | SKIPPED | SKIPPED | +-------------------------------+--------------------+-------------------+------------------+-------------------+-------------------------+----------------------+ | Debian GNU/Linux 12 | PASS | PASS | SKIPPED | SKIPPED | SKIPPED | SKIPPED | +-------------------------------+--------------------+-------------------+------------------+-------------------+-------------------------+----------------------+ | Fedora 40 (Clang) | PASS | WARN | SKIPPED | SKIPPED | SKIPPED | SKIPPED | +-------------------------------+--------------------+-------------------+------------------+-------------------+-------------------------+----------------------+ | Fedora 40 | PASS | PASS | SKIPPED | SKIPPED | SKIPPED | SKIPPED | +-------------------------------+--------------------+-------------------+------------------+-------------------+-------------------------+----------------------+ | Fedora 41 (Clang) | PASS | WARN | PASS | SKIPPED | SKIPPED | SKIPPED | +-------------------------------+--------------------+-------------------+------------------+-------------------+-------------------------+----------------------+ | openSUSE Leap 15.6 | PASS | SKIPPED | SKIPPED | SKIPPED | SKIPPED | SKIPPED | +-------------------------------+--------------------+-------------------+------------------+-------------------+-------------------------+----------------------+ | Red Hat Enterprise Linux 8.10 | PASS | SKIPPED | SKIPPED | SKIPPED | SKIPPED | SKIPPED | +-------------------------------+--------------------+-------------------+------------------+-------------------+-------------------------+----------------------+ | Fedora 41 | PASS | PASS | PASS | SKIPPED | SKIPPED | SKIPPED | +-------------------------------+--------------------+-------------------+------------------+-------------------+-------------------------+----------------------+ | Red Hat Enterprise Linux 9.5 | PASS | SKIPPED | SKIPPED | SKIPPED | SKIPPED | SKIPPED | +-------------------------------+--------------------+-------------------+------------------+-------------------+-------------------------+----------------------+ | Ubuntu 20.04 | PASS | SKIPPED | SKIPPED | SKIPPED | SKIPPED | SKIPPED | +-------------------------------+--------------------+-------------------+------------------+-------------------+-------------------------+----------------------+ | Ubuntu 24.04 | PASS | PASS | PASS | SKIPPED | SKIPPED | SKIPPED | +-------------------------------+--------------------+-------------------+------------------+-------------------+-------------------------+----------------------+ | Alpine | PASS | SKIPPED | SKIPPED | SKIPPED | SKIPPED | SKIPPED | +-------------------------------+--------------------+-------------------+------------------+-------------------+-------------------------+----------------------+ | Ubuntu 22.04 | PASS | PASS | SKIPPED | SKIPPED | SKIPPED | SKIPPED | +-------------------------------+--------------------+-------------------+------------------+-------------------+-------------------------+----------------------+ | FreeBSD 14.2 | PASS | SKIPPED | SKIPPED | SKIPPED | SKIPPED | SKIPPED | +-------------------------------+--------------------+-------------------+------------------+-------------------+-------------------------+----------------------+ | Windows Server 2022 | SKIPPED | SKIPPED | SKIPPED | PASS | PASS | PASS | +-------------------------------+--------------------+-------------------+------------------+-------------------+-------------------------+----------------------+ ==== 20 line log output for Fedora 41 (Clang) (dpdk_compile_spdk): ==== --- Failed to get log output --- ==== End log output ==== CentOS Stream 9 Kernel: Depends on container host Compiler: gcc 11.5.0 20240719 (Red Hat 11.5.0-2) CentOS Stream 10 Kernel: Depends on container host Compiler: gcc 14.2.1 20241104 (Red Hat 14.2.1-6) Debian GNU/Linux 12 Kernel: 5.15 Compiler: gcc gcc (Debian 12.2.0-14) 12.2.0 Fedora 40 (Clang) Kernel: Depends on container host Compiler: clang 18.1.8 (Fedora 18.1.8-1.fc40) Fedora 40 Kernel: Depends on container host Compiler: gcc 14.2.1 20240912 (Red Hat 14.2.1-3) Fedora 41 (Clang) Kernel: Depends on container host Compiler: clang 19.1.5 (Fedora 19.1.5-1.fc41) openSUSE Leap 15.6 Kernel: 5.15 Compiler: gcc gcc (SUSE Linux) 7.5.0 Red Hat Enterprise Linux 8.10 Kernel: 5.15 Compiler: gcc gcc (GCC) 8.5.0 20210514 (Red Hat 8.5.0-22) Fedora 41 Kernel: Depends on container host Compiler: gcc 14.2.1 20240912 (Red Hat 14.2.1-3) Red Hat Enterprise Linux 9.5 Kernel: 5.15 Compiler: gcc gcc (GCC) 11.5.0 20240719 (Red Hat 11.5.0-2) Ubuntu 20.04 Kernel: 5.15 Compiler: gcc gcc (Ubuntu 9.4.0-1ubuntu1~20.04.2) 9.4.0 Ubuntu 24.04 Kernel: 5.15 Compiler: gcc gcc (Ubuntu 13.3.0-6ubuntu2~24.04) 13.3.0 Alpine Kernel: Depends on container host Compiler: gcc (Alpine 14.2.0) 14.2.0 Ubuntu 22.04 Kernel: 5.15 Compiler: gcc gcc (Ubuntu 11.4.0-1ubuntu1~22.04) 11.4.0 FreeBSD 14.2 Kernel: 14.2-RELEASE Compiler: clang 18.1.6 Windows Server 2022 Kernel: 10.0.20348.2031 Compiler: clang 15.0.7, gcc 14.1.0 (MinGW), and MSVC VS 19.39.33521 To view detailed results, visit: https://lab.dpdk.org/results/dashboard/patchsets/33309/ UNH-IOL DPDK Community Lab To manage your email subscriptions, visit: https://lab.dpdk.org/results/dashboard/preferences/subscriptions/