From mboxrd@z Thu Jan 1 00:00:00 1970 Return-Path: Received: from mails.dpdk.org (mails.dpdk.org [217.70.189.124]) by inbox.dpdk.org (Postfix) with ESMTP id 23CF646871 for ; Wed, 4 Jun 2025 02:59:54 +0200 (CEST) Received: from mails.dpdk.org (localhost [127.0.0.1]) by mails.dpdk.org (Postfix) with ESMTP id 1B20A402DC; Wed, 4 Jun 2025 02:59:54 +0200 (CEST) Received: from mail-pf1-f227.google.com (mail-pf1-f227.google.com [209.85.210.227]) by mails.dpdk.org (Postfix) with ESMTP id 3B601402DC for ; Wed, 4 Jun 2025 02:59:52 +0200 (CEST) Received: by mail-pf1-f227.google.com with SMTP id d2e1a72fcca58-74264d1832eso6947251b3a.0 for ; Tue, 03 Jun 2025 17:59:52 -0700 (PDT) DKIM-Signature: v=1; a=rsa-sha256; c=relaxed/relaxed; d=iol.unh.edu; s=unh-iol; t=1748998791; x=1749603591; darn=dpdk.org; h=references:in-reply-to:cc:to:from:subject:message-id:date:from:to :cc:subject:date:message-id:reply-to; bh=+VoLJ0ywegd/JWw2omV0sjormsFCVREohLvaMp1d4PY=; b=jXoUTbpiTh24IhjdlEzWe9D1GI4MQ6/b5JfUxn2UWVqueEIZSfKhL8FCkrjb2GTu38 8ztGlxThRy8ILSjueiV17IA5FACixsNy6L6QkfaH1VnjBAin+NldIcJPdK/epRUXb2i+ CHV+UrURoOUVhDjs8qhypL+tBf0wcMFdE0LWY= X-Google-DKIM-Signature: v=1; a=rsa-sha256; c=relaxed/relaxed; d=1e100.net; s=20230601; t=1748998791; x=1749603591; h=references:in-reply-to:cc:to:from:subject:message-id:date :x-gm-message-state:from:to:cc:subject:date:message-id:reply-to; bh=+VoLJ0ywegd/JWw2omV0sjormsFCVREohLvaMp1d4PY=; b=D4RHg6o1oJYnIlwv9vdP9Y4ONNFUw3z9Q8xg4FscrtUZE5dtfkj0O6Oqj9gcfPmNJi 9eRQvDkkgRwD87DkWYKOWPz8SbCReJRDX7LP4EjkJASNGVb1Pv5M/PH8IFze0EJY6SiY 9LQRV3G1/k0i+C3ZvOgQuVkk0INpCfuYp75FQ+jwF3K17gbV3VtoURHQIGxqIswoqu9u 3LMEKmSRfz9/GNFOWuWJqgxbMD7V4JTFX82H3sLONIc3H93yivYWdKqOxVbnr7Ja6YmU oGnzp/x2FLiknGQB2fBpD0DCHP0E80nE0IHHYBT+JZPp3Z2yyvVCm3qTs2fdVLBuWU8p wOaA== X-Gm-Message-State: AOJu0YzNFDK9xZRv2sWWQMnp2ufzdo5xqGys5DgeKHokzcuvZRaThS5J T366ijDl6ZeHqU8b7dWqzWarwW/FXKWQqZ0Lri+EOqWjRVw+TZaSO8zWMueFEdmdMvtgRQFT0Xi I3Fuok1RD9nXL34WAUMhxPPPH1W1O/1SN4RvtF25QfhZ8oZxJ0UmYr1vgY8Ra X-Gm-Gg: ASbGncvh13EpdTBAq6IrdVK3Dj2WD0s5VgddBvylD6KJ1peRBLh+TEkuYVZ6gej0ul0 iVIvA56Y1hG82LxMOSZdqrr9cZdJdTcucILpfAKb6/3AVli2qGWfZZCuVd7aQnBXhIFb11RCEHA bWtdKRJDfl2riy6Ayad2zD+MU2yaJtSyT7wHhvXq6IlWcUKJGsZbCSTgHNGuIhUtSw0cudPL03V fuB+yZ8DasHp/X4HXFawcxWTlJ2kIliWZnwcbfZ9aFamw7BEKN1v+WaaDMRs/WT2RPtMJBJP7JG 8zMWWR01yIWNUsnm7bIVQ1HDMhrZ3aEPl9ODvRU9NBYUjJw= X-Google-Smtp-Source: AGHT+IF8VJL1eSNfkbk4Xa2KWGlznOyLQ1Ambz7E73gI9JnNZp+soqIHCImyuM5ToR5qKScSGVqpGwDm79Tp X-Received: by 2002:a05:6a21:390:b0:1f5:8f7f:8f19 with SMTP id adf61e73a8af0-21d22aff05bmr1213046637.10.1748998791379; Tue, 03 Jun 2025 17:59:51 -0700 (PDT) Received: from postal.iol.unh.edu (postal.iol.unh.edu. [2606:4100:3880:1234::84]) by smtp-relay.gmail.com with ESMTPS id 41be03b00d2f7-b2eceb9d6f2sm350566a12.22.2025.06.03.17.59.51 (version=TLS1_2 cipher=ECDHE-ECDSA-AES128-GCM-SHA256 bits=128/128); Tue, 03 Jun 2025 17:59:51 -0700 (PDT) X-Relaying-Domain: iol.unh.edu Date: Tue, 03 Jun 2025 17:59:51 -0700 (PDT) Message-ID: <683f9a87.050a0220.3d6407.1abfSMTPIN_ADDED_MISSING@mx.google.com> Received: from [172.17.0.3] (unknown [172.18.0.76]) by postal.iol.unh.edu (Postfix) with ESMTP id 954D36052471; Tue, 3 Jun 2025 20:59:50 -0400 (EDT) Subject: |SUCCESS| pw153993-153995 [PATCH] [v2,3/3] argparse: use enums to re From: dpdklab@iol.unh.edu To: Test Report Cc: dpdk-test-reports@iol.unh.edu In-Reply-To: <20250603153233.2427833-4-bruce.richardson@intel.com> References: <20250603153233.2427833-4-bruce.richardson@intel.com> Content-Type: text/plain X-BeenThere: test-report@dpdk.org X-Mailman-Version: 2.1.29 Precedence: list List-Id: automatic DPDK test reports List-Unsubscribe: , List-Archive: List-Post: List-Help: List-Subscribe: , Errors-To: test-report-bounces@dpdk.org Test-Label: iol-compile-arm64-testing Test-Status: SUCCESS http://dpdk.org/patch/153995 _Testing PASS_ Submitter: Bruce Richardson Date: Tuesday, June 03 2025 15:32:33 DPDK git baseline: Repo:dpdk Branch: master CommitID:0ecbf93f50018e552ea3aa401129ef6075c1b36b 153993-153995 --> testing pass Upstream job id: Generic-DPDK-Compile-Meson#393946 Test environment and result as below: +------------------------------+--------------------+ | Environment | dpdk_meson_compile | +==============================+====================+ | Ubuntu 20.04 | PASS | +------------------------------+--------------------+ | Red Hat Enterprise Linux 9.5 | PASS | +------------------------------+--------------------+ | Fedora 40 (ARM) | PASS | +------------------------------+--------------------+ | Fedora 40 (ARM Clang) | PASS | +------------------------------+--------------------+ | Debian GNU/Linux 12 | PASS | +------------------------------+--------------------+ | Fedora 41 (ARM) | PASS | +------------------------------+--------------------+ | Fedora 41 (ARM Clang) | PASS | +------------------------------+--------------------+ | Ubuntu 22.04 | PASS | +------------------------------+--------------------+ | Ubuntu 24.04 | PASS | +------------------------------+--------------------+ | CentOS Stream 9 (ARM) | PASS | +------------------------------+--------------------+ | CentOS Stream 10 (ARM) | PASS | +------------------------------+--------------------+ Ubuntu 20.04 Kernel: 5.15 Compiler: aarch64-linux-gnu-gcc gcc (Ubuntu 9.4.0-1ubuntu1~20.04.2) 9.4.0 Red Hat Enterprise Linux 9.5 Kernel: 5.4 Compiler: gcc gcc (GCC) 11.5.0 20240719 (Red Hat 11.5.0-2) Fedora 40 (ARM) Kernel: Depends on container host Compiler: gcc 14.2.1 20240912 (Red Hat 14.2.1-3) Fedora 40 (ARM Clang) Kernel: Depends on container host Compiler: clang 18.1.8 (Fedora 18.1.8-1.fc40) Debian GNU/Linux 12 Kernel: 5.4 Compiler: gcc gcc (Debian 12.2.0-14) 12.2.0 Fedora 41 (ARM) Kernel: Depends on container host Compiler: gcc 14.2.1 20240912 (Red Hat 14.2.1-3) Fedora 41 (ARM Clang) Kernel: Depends on container host Compiler: clang 19.1.5 (Fedora 19.1.5-1.fc41) Ubuntu 22.04 Kernel: 5.4 Compiler: gcc gcc (Ubuntu 11.4.0-1ubuntu1~22.04) 11.4.0 Ubuntu 24.04 Kernel: 5.4 Compiler: gcc gcc (Ubuntu 13.3.0-6ubuntu2~24.04) 13.3.0 CentOS Stream 9 (ARM) Kernel: Depends on container host Compiler: gcc 11.5.0 20240719 (Red Hat 11.5.0-2) CentOS Stream 10 (ARM) Kernel: Depends on container host Compiler: gcc 14.2.1 20241104 (Red Hat 14.2.1-6) To view detailed results, visit: https://lab.dpdk.org/results/dashboard/patchsets/33308/ UNH-IOL DPDK Community Lab To manage your email subscriptions, visit: https://lab.dpdk.org/results/dashboard/preferences/subscriptions/