From mboxrd@z Thu Jan 1 00:00:00 1970 Return-Path: Received: from mails.dpdk.org (mails.dpdk.org [217.70.189.124]) by inbox.dpdk.org (Postfix) with ESMTP id 53A6646871 for ; Wed, 4 Jun 2025 08:59:07 +0200 (CEST) Received: from mails.dpdk.org (localhost [127.0.0.1]) by mails.dpdk.org (Postfix) with ESMTP id 4DC244065A; Wed, 4 Jun 2025 08:59:07 +0200 (CEST) Received: from mail-io1-f100.google.com (mail-io1-f100.google.com [209.85.166.100]) by mails.dpdk.org (Postfix) with ESMTP id 2EFF0402DC for ; Wed, 4 Jun 2025 08:59:06 +0200 (CEST) Received: by mail-io1-f100.google.com with SMTP id ca18e2360f4ac-86d0bd7ebb5so83546139f.0 for ; Tue, 03 Jun 2025 23:59:06 -0700 (PDT) DKIM-Signature: v=1; a=rsa-sha256; c=relaxed/relaxed; d=iol.unh.edu; s=unh-iol; t=1749020345; x=1749625145; darn=dpdk.org; h=references:in-reply-to:cc:to:from:subject:message-id:date:from:to :cc:subject:date:message-id:reply-to; bh=huVj0Qz+ia8JnegHG5WGPZJpS7vBDV0Pf6MNurC1EvA=; b=ZEWRMWE3EPOIOYNqaIGFiFV8SpKUQseIy9hv/IwbUu9U499JZHAbRKxUrWCTfxwULf sYwgiRLbrL7H9q+Zac178qxZEitIJ0wNiBhsDR8JqP01lHVB46G5CKlnyxQTh1D+DxiU uiirpDrgBZDPfHS2Y/FQXuqBqV4oegQCUgy1M= X-Google-DKIM-Signature: v=1; a=rsa-sha256; c=relaxed/relaxed; d=1e100.net; s=20230601; t=1749020345; x=1749625145; h=references:in-reply-to:cc:to:from:subject:message-id:date :x-gm-message-state:from:to:cc:subject:date:message-id:reply-to; bh=huVj0Qz+ia8JnegHG5WGPZJpS7vBDV0Pf6MNurC1EvA=; b=CDTDO7EQtkXwyFLa0mDHh3VPov57Op4RjhM5Ii+PCNjuqLARqca3elXTjku7HkhQK/ 0G1IYdojRX16jHw2nqRuOU2zrgQsJ1nv69L/4tmEvs7/POPaLQwvOK/1Fbv3cLLTpHsS PLkVpSizK4Y6x5F/mvbDc8fqIlSsmjpZ9Bs/VkBcas/Ckr2EjYLwHN6C6/4/cZd2FXte wIXz9CqN+tfA+3zawvAObamK9y6H96frsM6FyBLV0lMyHDAM6yhLfIZChsz5HNASGAkE voXaQ1jMC37MAfiaXrjBTAQ+CdigrJ3u3XF7oKBdpNLJ+KtUwcIbH4R8rlvq7SwFeU3W NQqQ== X-Gm-Message-State: AOJu0YwhkTfyHMgbOnMeN8ivmYWCdT//xYTxY2/cZzcl8yI1Cp2/2qlq w78SotLL/4hrUDCbDqInF4Zk/AOlWzeZ/fB7LYelonnWpFBZddkVDE7Oap+YxRD+2MnwhjUs4mX 4gEn635n73MvQTTQP0tTwMdC3uowulXdst6iTFhV4pWgh X-Gm-Gg: ASbGnctHUzkEiT77rdADSrWOA1CgQGlrfPpcybhlkFOAru+Z8YTFvvcp/DIr64TM6JF SjuGUxwuxQbR87TQmq1EMpw1I2iwd1Ogbqfe7qzydvIcXP8Qo8ZLH0VPMbvy8IFY7KhFlPy1kLF /KE/KWFgATPQ1MZIfTCed64l+T7yy/S+/+R1KcHD/8wC2dNEIxSIakFUTFYidVd5QD44GbA/ieL zCvG6q3k+Mo/USBdIXD1isFKbYDi5w+ZBJAc8fh9bZc4UdcZJ2e/nFUIf7n00STepW9svhx1svS BYmG2RCsD+Vi4R+ZH/QRcX+rev9k8/NVi803P/3H4+/XEEB0brOobGDyy08= X-Google-Smtp-Source: AGHT+IENRWTAcSsfIDGX6KbGk+ts5ABebY2MO32+GEK3/LLJ1TeQ2vElX1o909QrFuFFPNEljrF7bsPoL2ve X-Received: by 2002:a05:6602:3946:b0:869:d7bf:6f31 with SMTP id ca18e2360f4ac-8731c52da11mr219308339f.6.1749020345474; Tue, 03 Jun 2025 23:59:05 -0700 (PDT) Received: from postal.iol.unh.edu (postal.iol.unh.edu. [132.177.123.84]) by smtp-relay.gmail.com with ESMTPS id 8926c6da1cb9f-4fdd7e29aafsm311629173.19.2025.06.03.23.59.05 (version=TLS1_2 cipher=ECDHE-ECDSA-AES128-GCM-SHA256 bits=128/128); Tue, 03 Jun 2025 23:59:05 -0700 (PDT) X-Relaying-Domain: iol.unh.edu Date: Tue, 03 Jun 2025 23:59:05 -0700 (PDT) Message-ID: <683feeb9.050a0220.209682.0e08SMTPIN_ADDED_MISSING@mx.google.com> Received: from [172.21.0.6] (unknown [172.18.0.240]) by postal.iol.unh.edu (Postfix) with ESMTP id F33956052471; Wed, 4 Jun 2025 02:59:04 -0400 (EDT) Subject: |SUCCESS| pw153996-153997 [PATCH] [v2,2/2] dts: rewrite dts rst From: dpdklab@iol.unh.edu To: Test Report Cc: dpdk-test-reports@iol.unh.edu In-Reply-To: <20250603172827.458725-2-dmarx@iol.unh.edu> References: <20250603172827.458725-2-dmarx@iol.unh.edu> Content-Type: text/plain X-BeenThere: test-report@dpdk.org X-Mailman-Version: 2.1.29 Precedence: list List-Id: automatic DPDK test reports List-Unsubscribe: , List-Archive: List-Post: List-Help: List-Subscribe: , Errors-To: test-report-bounces@dpdk.org Test-Label: iol-compile-arm64-testing Test-Status: SUCCESS http://dpdk.org/patch/153997 _Testing PASS_ Submitter: Dean Marx Date: Tuesday, June 03 2025 17:28:27 DPDK git baseline: Repo:dpdk Branch: master CommitID:dd5979ceb777801288fb3ca4caa565bc34a370d8 153996-153997 --> testing pass Upstream job id: Generic-DPDK-Compile-Meson#394044 Test environment and result as below: +------------------------------+--------------------+ | Environment | dpdk_meson_compile | +==============================+====================+ | Ubuntu 20.04 | PASS | +------------------------------+--------------------+ | Debian GNU/Linux 12 | PASS | +------------------------------+--------------------+ | Ubuntu 22.04 | PASS | +------------------------------+--------------------+ | Red Hat Enterprise Linux 9.5 | PASS | +------------------------------+--------------------+ | Fedora 40 (ARM Clang) | PASS | +------------------------------+--------------------+ | Fedora 41 (ARM) | PASS | +------------------------------+--------------------+ | Fedora 40 (ARM) | PASS | +------------------------------+--------------------+ | Fedora 41 (ARM Clang) | PASS | +------------------------------+--------------------+ | Ubuntu 24.04 | PASS | +------------------------------+--------------------+ | CentOS Stream 9 (ARM) | PASS | +------------------------------+--------------------+ | CentOS Stream 10 (ARM) | PASS | +------------------------------+--------------------+ Ubuntu 20.04 Kernel: 5.15 Compiler: aarch64-linux-gnu-gcc gcc (Ubuntu 9.4.0-1ubuntu1~20.04.2) 9.4.0 Debian GNU/Linux 12 Kernel: 5.4 Compiler: gcc gcc (Debian 12.2.0-14) 12.2.0 Ubuntu 22.04 Kernel: 5.4 Compiler: gcc gcc (Ubuntu 11.4.0-1ubuntu1~22.04) 11.4.0 Red Hat Enterprise Linux 9.5 Kernel: 5.4 Compiler: gcc gcc (GCC) 11.5.0 20240719 (Red Hat 11.5.0-2) Fedora 40 (ARM Clang) Kernel: Depends on container host Compiler: clang 18.1.8 (Fedora 18.1.8-1.fc40) Fedora 41 (ARM) Kernel: Depends on container host Compiler: gcc 14.2.1 20240912 (Red Hat 14.2.1-3) Fedora 40 (ARM) Kernel: Depends on container host Compiler: gcc 14.2.1 20240912 (Red Hat 14.2.1-3) Fedora 41 (ARM Clang) Kernel: Depends on container host Compiler: clang 19.1.5 (Fedora 19.1.5-1.fc41) Ubuntu 24.04 Kernel: 5.4 Compiler: gcc gcc (Ubuntu 13.3.0-6ubuntu2~24.04) 13.3.0 CentOS Stream 9 (ARM) Kernel: Depends on container host Compiler: gcc 11.5.0 20240719 (Red Hat 11.5.0-2) CentOS Stream 10 (ARM) Kernel: Depends on container host Compiler: gcc 14.2.1 20241104 (Red Hat 14.2.1-6) To view detailed results, visit: https://lab.dpdk.org/results/dashboard/patchsets/33309/ UNH-IOL DPDK Community Lab To manage your email subscriptions, visit: https://lab.dpdk.org/results/dashboard/preferences/subscriptions/