From mboxrd@z Thu Jan  1 00:00:00 1970
Return-Path: <test-report-bounces@dpdk.org>
Received: from mails.dpdk.org (mails.dpdk.org [217.70.189.124])
	by inbox.dpdk.org (Postfix) with ESMTP id 2496146873
	for <public@inbox.dpdk.org>; Wed,  4 Jun 2025 11:16:12 +0200 (CEST)
Received: from mails.dpdk.org (localhost [127.0.0.1])
	by mails.dpdk.org (Postfix) with ESMTP id 1688A4029D;
	Wed,  4 Jun 2025 11:16:12 +0200 (CEST)
Received: from mail-pl1-f228.google.com (mail-pl1-f228.google.com
 [209.85.214.228])
 by mails.dpdk.org (Postfix) with ESMTP id 80F204029D
 for <test-report@dpdk.org>; Wed,  4 Jun 2025 11:16:11 +0200 (CEST)
Received: by mail-pl1-f228.google.com with SMTP id
 d9443c01a7336-235ea292956so826655ad.1
 for <test-report@dpdk.org>; Wed, 04 Jun 2025 02:16:11 -0700 (PDT)
DKIM-Signature: v=1; a=rsa-sha256; c=relaxed/relaxed;
 d=iol.unh.edu; s=unh-iol; t=1749028570; x=1749633370; darn=dpdk.org;
 h=references:in-reply-to:cc:to:from:subject:message-id:date:from:to
 :cc:subject:date:message-id:reply-to;
 bh=Z7y4IxfhsY/j0FJDw73T+bCfJSDNbH64QjztbSiXIZU=;
 b=BJlQ+1T5PeaHY2NxF4gkeU+k4m2klaB3jUxu2EP+qzY0+hngiwxxD9f7JTFGfEEj9z
 y8YraGqnBYlTLjckXgEEccW4otRztHI3P1HdKc+BOmvCsKwO86YhgJyNgg+FJ8bT0Qy9
 pByB3MUsxk4bYyKh2ULOzzmdGTa+e+K6AGYWE=
X-Google-DKIM-Signature: v=1; a=rsa-sha256; c=relaxed/relaxed;
 d=1e100.net; s=20230601; t=1749028570; x=1749633370;
 h=references:in-reply-to:cc:to:from:subject:message-id:date
 :x-gm-message-state:from:to:cc:subject:date:message-id:reply-to;
 bh=Z7y4IxfhsY/j0FJDw73T+bCfJSDNbH64QjztbSiXIZU=;
 b=kqEuUG9i19IUsQvEXIA6jJQfnsTEHB2BTWkqwWok6XwubG6+p6RkXAASB74FZzrIPp
 IhLZcRP8D9bOn9Xa9IkPNU9Grwr4Sv73UuEZr91wNnWJ6WCI9PmKZIXM/wpowGCorIk4
 oYqqQ3uuNdQvkLeb1bqUsAyVZwS3ZQ3Q3QDE6RMVDhb1C1g6nEatBqoi8AbrEplZRlIv
 DGQIGJ6rFc7xyff6wkgmQWytNbvormLqwn2FIS4laD0STC4+gA3wLtnVtdv0vLNW5ewz
 0DMhbFV0iDiGfQgJA74d6eGCMQ932r6FnCoVxkwJqIhc1ShHwnwihTjKE1fxymnuL34Z
 ECIg==
X-Gm-Message-State: AOJu0YxqK0l66jMkJjJ+mDpC4vPpXs0Ox+j4ryfboudOCjpv1In+emqy
 CAYkoRhGc9Rsl02LJhXANK50iOZAMBtg+spzBDdzfyMjALR7+Y4EuwS5OwRARCH0KNDWPHCMWkW
 dfWx86p8XfM1GsKJQ9oXrIO8GSSo97MelG7pid/PLnB/qNlV7Yr5RaugWjrfA
X-Gm-Gg: ASbGncswxzDBPG7sIchV6AwbeuPORRzZw91I0OQUjzZXA4SGu0KGeKAN2IYr75ouxUv
 GnkjQr1J3nUoFY/K/8Wh+SM50mQC6slysZBKxbdJIQY7rrx6kxr1zVqgXD3BAZg/pt7o4s1kf+6
 2IYB/1ZEdvi7xtJJKJCaJ1bDUKnR62LEmvjcsIsNbapr1Q9pSTVLdKmjXaeVTv20DqUPWdDK1B9
 IKFi7ZuIIHgeGvg7zXxZFjPSnrnauGIQNqQWGPZBczh8eGWAz4SNcZQiqjg8JwbXTnSmRidu+AM
 Z4zsHvU9WsA2Fyu1ozi9l3WzptNrb8CrpPcG
X-Google-Smtp-Source: AGHT+IH2+83kCX5kResMvWEBDHwJqFVcXb/OF8tlrF/5Vw3l7Q5TbDdLjZYh1IWocVG2PiNL8L8owS3hbVZ3
X-Received: by 2002:a17:902:ceca:b0:235:f70:fd37 with SMTP id
 d9443c01a7336-235e113f82bmr31582355ad.19.1749028570537; 
 Wed, 04 Jun 2025 02:16:10 -0700 (PDT)
Received: from postal.iol.unh.edu (postal.iol.unh.edu.
 [2606:4100:3880:1234::84]) by smtp-relay.gmail.com with ESMTPS id
 d9443c01a7336-23506c35165sm7863175ad.59.2025.06.04.02.16.10
 (version=TLS1_2 cipher=ECDHE-ECDSA-AES128-GCM-SHA256 bits=128/128);
 Wed, 04 Jun 2025 02:16:10 -0700 (PDT)
X-Relaying-Domain: iol.unh.edu
Date: Wed, 04 Jun 2025 02:16:10 -0700 (PDT)
Message-ID: <68400eda.170a0220.3a0e2f.8f5aSMTPIN_ADDED_MISSING@mx.google.com>
Received: from [172.21.0.5] (unknown [172.18.0.240])
 by postal.iol.unh.edu (Postfix) with ESMTP id AD75C6052471;
 Wed,  4 Jun 2025 05:16:09 -0400 (EDT)
Subject: |SUCCESS| pw154005 [PATCH] app/crypto-perf: add support for RSA decr
From: dpdklab@iol.unh.edu
To: Test Report <test-report@dpdk.org>
Cc: dpdk-test-reports@iol.unh.edu
In-Reply-To: <20250604062753.3672139-1-ssarananaga@marvell.com>
References: <20250604062753.3672139-1-ssarananaga@marvell.com>
Content-Type: text/plain
X-BeenThere: test-report@dpdk.org
X-Mailman-Version: 2.1.29
Precedence: list
List-Id: automatic DPDK test reports <test-report.dpdk.org>
List-Unsubscribe: <https://mails.dpdk.org/options/test-report>,
 <mailto:test-report-request@dpdk.org?subject=unsubscribe>
List-Archive: <http://mails.dpdk.org/archives/test-report/>
List-Post: <mailto:test-report@dpdk.org>
List-Help: <mailto:test-report-request@dpdk.org?subject=help>
List-Subscribe: <https://mails.dpdk.org/listinfo/test-report>,
 <mailto:test-report-request@dpdk.org?subject=subscribe>
Errors-To: test-report-bounces@dpdk.org

Test-Label: iol-abi-testing
Test-Status: SUCCESS
http://dpdk.org/patch/154005

_Testing PASS_

Submitter: Sucharitha Sarananaga <ssarananaga@marvell.com>
Date: Wednesday, June 04 2025 06:27:53 
DPDK git baseline: Repo:dpdk
  Branch: master
  CommitID:d46cea98b08f1c418faaa7b5fcd24901fe055873

154005 --> testing pass

Upstream job id: Generic-DPDK-Compile-ABI#128804

Test environment and result as below:

+-------------------------------+----------+
|          Environment          | abi_test |
+===============================+==========+
| CentOS Stream 9               | PASS     |
+-------------------------------+----------+
| Fedora 40 (Clang)             | PASS     |
+-------------------------------+----------+
| Debian GNU/Linux 12           | PASS     |
+-------------------------------+----------+
| CentOS Stream 10              | PASS     |
+-------------------------------+----------+
| Fedora 40                     | PASS     |
+-------------------------------+----------+
| Fedora 41 (Clang)             | PASS     |
+-------------------------------+----------+
| Fedora 41                     | PASS     |
+-------------------------------+----------+
| openSUSE Leap 15.6            | PASS     |
+-------------------------------+----------+
| Red Hat Enterprise Linux 8.10 | PASS     |
+-------------------------------+----------+
| Red Hat Enterprise Linux 9.5  | PASS     |
+-------------------------------+----------+
| Ubuntu 22.04                  | PASS     |
+-------------------------------+----------+
| Ubuntu 24.04                  | PASS     |
+-------------------------------+----------+


CentOS Stream 9
	Kernel: Depends on container host
	Compiler: gcc 11.5.0 20240719 (Red Hat 11.5.0-2)

Fedora 40 (Clang)
	Kernel: Depends on container host
	Compiler: clang 18.1.8 (Fedora 18.1.8-1.fc40)

Debian GNU/Linux 12
	Kernel: 5.15
	Compiler: gcc gcc (Debian 12.2.0-14) 12.2.0

CentOS Stream 10
	Kernel: Depends on container host
	Compiler: gcc 14.2.1 20241104 (Red Hat 14.2.1-6)

Fedora 40
	Kernel: Depends on container host
	Compiler: gcc 14.2.1 20240912 (Red Hat 14.2.1-3)

Fedora 41 (Clang)
	Kernel: Depends on container host
	Compiler: clang 19.1.5 (Fedora 19.1.5-1.fc41)

Fedora 41
	Kernel: Depends on container host
	Compiler: gcc 14.2.1 20240912 (Red Hat 14.2.1-3)

openSUSE Leap 15.6
	Kernel: 5.15
	Compiler: gcc gcc (SUSE Linux) 7.5.0

Red Hat Enterprise Linux 8.10
	Kernel: 5.15
	Compiler: gcc gcc (GCC) 8.5.0 20210514 (Red Hat 8.5.0-22)

Red Hat Enterprise Linux 9.5
	Kernel: 5.15
	Compiler: gcc gcc (GCC) 11.5.0 20240719 (Red Hat 11.5.0-2)

Ubuntu 22.04
	Kernel: 5.15
	Compiler: gcc gcc (Ubuntu 11.4.0-1ubuntu1~22.04) 11.4.0

Ubuntu 24.04
	Kernel: 5.15
	Compiler: gcc gcc (Ubuntu 13.3.0-6ubuntu2~24.04) 13.3.0

To view detailed results, visit:
https://lab.dpdk.org/results/dashboard/patchsets/33311/

UNH-IOL DPDK Community Lab

To manage your email subscriptions, visit: 
https://lab.dpdk.org/results/dashboard/preferences/subscriptions/