From mboxrd@z Thu Jan 1 00:00:00 1970 Return-Path: Received: from mails.dpdk.org (mails.dpdk.org [217.70.189.124]) by inbox.dpdk.org (Postfix) with ESMTP id CDED446879 for ; Wed, 4 Jun 2025 13:05:44 +0200 (CEST) Received: from mails.dpdk.org (localhost [127.0.0.1]) by mails.dpdk.org (Postfix) with ESMTP id C91524029D; Wed, 4 Jun 2025 13:05:44 +0200 (CEST) Received: from mail-oo1-f98.google.com (mail-oo1-f98.google.com [209.85.161.98]) by mails.dpdk.org (Postfix) with ESMTP id 624E94029D for ; Wed, 4 Jun 2025 13:05:43 +0200 (CEST) Received: by mail-oo1-f98.google.com with SMTP id 006d021491bc7-604ad0347f5so1812694eaf.2 for ; Wed, 04 Jun 2025 04:05:43 -0700 (PDT) DKIM-Signature: v=1; a=rsa-sha256; c=relaxed/relaxed; d=iol.unh.edu; s=unh-iol; t=1749035142; x=1749639942; darn=dpdk.org; h=references:in-reply-to:cc:to:from:subject:message-id:date:from:to :cc:subject:date:message-id:reply-to; bh=3pJ+BVXo/61rnOmGoyEbP0HwvA3vI6jFsuSq4YUKLl0=; b=iMPZ0qs12SfmDPpfHcmyNq69j3QR9wx7yOo+nju1KYcsYrkFssrL7/qIfyph9qpAyF f14scx69Gow53begIhOUWVjABfnfKJtwU8MpRXFqCCRHepu8wn4oLMIVnSPEY1xPPc1g XcAmvUAVIkRxyHMXEX1xzAlyTnvWQ02WaN8Z4= X-Google-DKIM-Signature: v=1; a=rsa-sha256; c=relaxed/relaxed; d=1e100.net; s=20230601; t=1749035142; x=1749639942; h=references:in-reply-to:cc:to:from:subject:message-id:date :x-gm-message-state:from:to:cc:subject:date:message-id:reply-to; bh=3pJ+BVXo/61rnOmGoyEbP0HwvA3vI6jFsuSq4YUKLl0=; b=SMYhLdEQUcxNAkkCgFs7RgbPzyGhDnRwEw7aQjvsabGHpkKAB+hURJ8ppsqcMUfm3O Hm6GxOZ9aPsmdS3Ye2CkrFvQnOqjX+4pCGETsBT0ts3ZbyRoPsCqh5SL5PJswjVAlnjf W23Rf/TDLupjGbN1i7ZfxJmgk9+WsNnsAvSPZs8IMUgoipeuSJXerHsNH1rlGzErwOV9 eG//oBMqVr6/OAt7k9X381XX2x997rpLSa6N2wNbHflqy+GwDtZXGc1A/we5gK3Wpv4w aGLjj/zU6Gy9dVb0AjxaSfsGsxdbQD8ziwwPTON36XtU/KBWPM7x6HMa749J3YtKvEBi 2lVw== X-Gm-Message-State: AOJu0YypT0rndVanCp0nW++cKwv9E0jEU1I1zNj+ImBZbGqcyCIks/te ydGwTurwsbytHOHFr2cXbA3DATDpS06gQ5a+Tg1tgfbqMdyTDhwYd3BeVkUnKcZMe3NrK7dAZom b5DLvAexlxINfa9ObJzbw/9YU7/Xqg7FJ0kskGG+Znw7S/4090A015hsTLzVR X-Gm-Gg: ASbGncvHaCMphtSPnZQaHQE8H5FMeOvuucsV/ToGfz3UCsIAhawhn/W1TPb/b3bpaKL nn9ix/p96PbHtzF1E4xaZm5FxQVRG/pUfH/3i2UErJxgI/zqr9GRawCCFvIc07j3bkZcUxBnGLX 02O/SKpS1NqzeMt+gzokomqU4I4L6xMxISH0c60cnI3fZOXB6brqko2v/IkgpzCr0D5dFIibnxD NQbTu72QkTbWt1Bf3AHctKQBpwf5kfyz/j0rdwPC51zii2i1olKy6MYTXS44Xc3EwNFD1btUCYi Sq0R8ZRvvgcuoAmWmkTJu5IgEIfEyjxzcq6v X-Google-Smtp-Source: AGHT+IHhQ+UU+Zq34oZZvOGmXMx2WnFE0LP9mZ4ssXjefCsXbXJrAE5Wg/4QPdzLGB95mlDr3xxevwhwfAH/ X-Received: by 2002:a05:6870:8188:b0:2e8:fc80:1e57 with SMTP id 586e51a60fabf-2e9bf151a31mr1531106fac.4.1749035142259; Wed, 04 Jun 2025 04:05:42 -0700 (PDT) Received: from postal.iol.unh.edu (postal.iol.unh.edu. [2606:4100:3880:1234::84]) by smtp-relay.gmail.com with ESMTPS id 586e51a60fabf-2e906c9dfc9sm664942fac.38.2025.06.04.04.05.42 (version=TLS1_2 cipher=ECDHE-ECDSA-AES128-GCM-SHA256 bits=128/128); Wed, 04 Jun 2025 04:05:42 -0700 (PDT) X-Relaying-Domain: iol.unh.edu Date: Wed, 04 Jun 2025 04:05:42 -0700 (PDT) Message-ID: <68402886.050a0220.57f9a.35f2SMTPIN_ADDED_MISSING@mx.google.com> Received: from [172.21.0.5] (unknown [172.18.0.240]) by postal.iol.unh.edu (Postfix) with ESMTP id B80B96052471; Wed, 4 Jun 2025 07:05:41 -0400 (EDT) Subject: |SUCCESS| pw154005 [PATCH] app/crypto-perf: add support for RSA decr From: dpdklab@iol.unh.edu To: Test Report Cc: dpdk-test-reports@iol.unh.edu In-Reply-To: <20250604062753.3672139-1-ssarananaga@marvell.com> References: <20250604062753.3672139-1-ssarananaga@marvell.com> Content-Type: text/plain X-BeenThere: test-report@dpdk.org X-Mailman-Version: 2.1.29 Precedence: list List-Id: automatic DPDK test reports List-Unsubscribe: , List-Archive: List-Post: List-Help: List-Subscribe: , Errors-To: test-report-bounces@dpdk.org Test-Label: iol-unit-arm64-testing Test-Status: SUCCESS http://dpdk.org/patch/154005 _Testing PASS_ Submitter: Sucharitha Sarananaga Date: Wednesday, June 04 2025 06:27:53 DPDK git baseline: Repo:dpdk Branch: master CommitID:d46cea98b08f1c418faaa7b5fcd24901fe055873 154005 --> testing pass Upstream job id: Generic-Unit-Test-DPDK#343110 Test environment and result as below: +------------------------------+---------------------------+------------------------------+--------------+----------------+ | Environment | cryptodev_sw_zuc_autotest | cryptodev_sw_snow3g_autotest | lpm_autotest | dpdk_unit_test | +==============================+===========================+==============================+==============+================+ | Debian 12 (arm) | PASS | PASS | SKIPPED | SKIPPED | +------------------------------+---------------------------+------------------------------+--------------+----------------+ | Ubuntu 20.04 | SKIPPED | SKIPPED | PASS | PASS | +------------------------------+---------------------------+------------------------------+--------------+----------------+ | Debian GNU/Linux 12 | SKIPPED | SKIPPED | SKIPPED | PASS | +------------------------------+---------------------------+------------------------------+--------------+----------------+ | CentOS Stream 9 (ARM) | SKIPPED | SKIPPED | SKIPPED | PASS | +------------------------------+---------------------------+------------------------------+--------------+----------------+ | CentOS Stream 10 (ARM) | SKIPPED | SKIPPED | SKIPPED | PASS | +------------------------------+---------------------------+------------------------------+--------------+----------------+ | Fedora 40 (ARM) | SKIPPED | SKIPPED | SKIPPED | PASS | +------------------------------+---------------------------+------------------------------+--------------+----------------+ | Fedora 41 (ARM Clang) | SKIPPED | SKIPPED | SKIPPED | PASS | +------------------------------+---------------------------+------------------------------+--------------+----------------+ | Red Hat Enterprise Linux 9.5 | SKIPPED | SKIPPED | SKIPPED | PASS | +------------------------------+---------------------------+------------------------------+--------------+----------------+ | Fedora 41 (ARM) | SKIPPED | SKIPPED | SKIPPED | PASS | +------------------------------+---------------------------+------------------------------+--------------+----------------+ | Fedora 40 (ARM Clang) | SKIPPED | SKIPPED | SKIPPED | PASS | +------------------------------+---------------------------+------------------------------+--------------+----------------+ | Ubuntu 24.04 | SKIPPED | SKIPPED | SKIPPED | PASS | +------------------------------+---------------------------+------------------------------+--------------+----------------+ | Ubuntu 22.04 | SKIPPED | SKIPPED | SKIPPED | PASS | +------------------------------+---------------------------+------------------------------+--------------+----------------+ Debian 12 (arm) Kernel: Depends on container host Compiler: gcc (Debian 12.2.0-14) 12.2.0 Ubuntu 20.04 Kernel: 5.4 Compiler: gcc gcc (Ubuntu 9.4.0-1ubuntu1~20.04.2) 9.4.0 Debian GNU/Linux 12 Kernel: 5.4 Compiler: gcc gcc (Debian 12.2.0-14) 12.2.0 CentOS Stream 9 (ARM) Kernel: Depends on container host Compiler: gcc 11.5.0 20240719 (Red Hat 11.5.0-2) CentOS Stream 10 (ARM) Kernel: Depends on container host Compiler: gcc 14.2.1 20241104 (Red Hat 14.2.1-6) Fedora 40 (ARM) Kernel: Depends on container host Compiler: gcc 14.2.1 20240912 (Red Hat 14.2.1-3) Fedora 41 (ARM Clang) Kernel: Depends on container host Compiler: clang 19.1.5 (Fedora 19.1.5-1.fc41) Red Hat Enterprise Linux 9.5 Kernel: 5.4 Compiler: gcc gcc (GCC) 11.5.0 20240719 (Red Hat 11.5.0-2) Fedora 41 (ARM) Kernel: Depends on container host Compiler: gcc 14.2.1 20240912 (Red Hat 14.2.1-3) Fedora 40 (ARM Clang) Kernel: Depends on container host Compiler: clang 18.1.8 (Fedora 18.1.8-1.fc40) Ubuntu 24.04 Kernel: 5.4 Compiler: gcc gcc (Ubuntu 13.3.0-6ubuntu2~24.04) 13.3.0 Ubuntu 22.04 Kernel: 5.4 Compiler: gcc gcc (Ubuntu 11.4.0-1ubuntu1~22.04) 11.4.0 To view detailed results, visit: https://lab.dpdk.org/results/dashboard/patchsets/33311/ UNH-IOL DPDK Community Lab To manage your email subscriptions, visit: https://lab.dpdk.org/results/dashboard/preferences/subscriptions/