From mboxrd@z Thu Jan  1 00:00:00 1970
Return-Path: <test-report-bounces@dpdk.org>
Received: from mails.dpdk.org (mails.dpdk.org [217.70.189.124])
	by inbox.dpdk.org (Postfix) with ESMTP id 4B2DB468CF
	for <public@inbox.dpdk.org>; Wed, 11 Jun 2025 06:52:39 +0200 (CEST)
Received: from mails.dpdk.org (localhost [127.0.0.1])
	by mails.dpdk.org (Postfix) with ESMTP id 2EF7D402DF;
	Wed, 11 Jun 2025 06:52:39 +0200 (CEST)
Received: from mail-oa1-f98.google.com (mail-oa1-f98.google.com
 [209.85.160.98]) by mails.dpdk.org (Postfix) with ESMTP id 147AD402DF
 for <test-report@dpdk.org>; Wed, 11 Jun 2025 06:52:38 +0200 (CEST)
Received: by mail-oa1-f98.google.com with SMTP id
 586e51a60fabf-2e9192a03d4so4236427fac.3
 for <test-report@dpdk.org>; Tue, 10 Jun 2025 21:52:37 -0700 (PDT)
DKIM-Signature: v=1; a=rsa-sha256; c=relaxed/relaxed;
 d=iol.unh.edu; s=unh-iol; t=1749617557; x=1750222357; darn=dpdk.org;
 h=references:in-reply-to:cc:to:from:subject:message-id:date:from:to
 :cc:subject:date:message-id:reply-to;
 bh=zbDHNAp5vtGzhjVzt/9dzU4fvDyqDeB/SUx394efB00=;
 b=H679O06fxW7g4VgNViqwpyPNDht5eNDJwF9wKXlIutYRIzww5ki3Gw4bc/DYIl7USh
 V1iuVtzMIiVPnTjLI8nuJglKjFmVWIJh+4K6En0Tjra3n0h6tDANKLhyz6k3xTNvrLM5
 2H010kTwIHY6dQLqF6d+fAxVw/JHMYFUj5DSA=
X-Google-DKIM-Signature: v=1; a=rsa-sha256; c=relaxed/relaxed;
 d=1e100.net; s=20230601; t=1749617557; x=1750222357;
 h=references:in-reply-to:cc:to:from:subject:message-id:date
 :x-gm-message-state:from:to:cc:subject:date:message-id:reply-to;
 bh=zbDHNAp5vtGzhjVzt/9dzU4fvDyqDeB/SUx394efB00=;
 b=iYrufcF/T8mSoTUoT2IBU0lyHXIrP9xSch8h8FE91PaRFo1X9mmSnXB9LOxbLOXTWK
 oLPr0vKPfXoNLdkjr8gfnwzAjdDQIMgdKkwx0dOVaUVX4meQbEPGHJ3UVCxzpAx4cnc4
 0KeTKZrop/QCXn8CoJTFpBBma6JWdB8yLYC/wLz9WqDBY/uvu+FyCyJwBJgvfkeFkJYd
 yUgJg2/0QkyqVF8dJdwj8w7HUPONnJstThRmR0DiJKrmMBcYaQyCYV9tz+DxL20zsxYO
 EBi1ANtylTOGGzy7HVy6JuuFoQJ+xYiZcMR+cMCN/0eIB77w/InrMm0M9r84wUl64Ukf
 /drA==
X-Gm-Message-State: AOJu0YyI10zcVrQcMWv8LGC6dQL43mHaJq0JBwqSG2/weIJ1E4444AGy
 MWUer4nPhtzRiVbtK6UvV2ebFyoOKWlBXsggKr++F1ND2sclhLJ4pvhxMCRxQj2UgJVdCkdprvN
 uTzVfIrxlpWpQ3EYqm4g7OsVOZJ7WzbygeJn+RWkoS1M9
X-Gm-Gg: ASbGncuYw8hcM6npOsH9eKbCUN1gODturMW1siwh1n4FpSfY4+RSE1OcVyj7KxxtSMz
 lHKkM6j0toQ+rWC99zTmYlN+kzfBiqobMngc43LmF5VW2emradSXv2wzQpX4rvjVGIbHciTrXNw
 Y6kOrt9X7M2gPBn6wzFRGDxQ1/SDmxjI3dkgq21W8Bx2SNjGNC4DF5xzOT5/gHl/OMQicb2UxdQ
 UdE7B6s+JJsMYyep5C+zrK+BOUf5q6KVDTkrea7NR3ciqvptBiAD+vxoodM4Cmpw34VtCgLMPhY
 A4bvjrb4KQbmGZwVDwo/1X9pzJLGpi3kh9EQjJR5/ofQhLBlURuz1pdrn3OimAnvycJk5Q==
X-Google-Smtp-Source: AGHT+IE7Pbo+Pgb9KrxUGmFGjaAIE1WbPmfZUHlD8nILr72XdDgiN01cXbP50ucRyq8zJ3ZMRjRDA7kZYrtO
X-Received: by 2002:a05:6870:a113:b0:2d4:d820:6d82 with SMTP id
 586e51a60fabf-2ea96ef73ddmr1179926fac.26.1749617557168; 
 Tue, 10 Jun 2025 21:52:37 -0700 (PDT)
Received: from postal.iol.unh.edu (postal.iol.unh.edu. [132.177.123.84])
 by smtp-relay.gmail.com with ESMTPS id
 586e51a60fabf-2ea06fe595bsm557271fac.5.2025.06.10.21.52.37
 (version=TLS1_2 cipher=ECDHE-ECDSA-AES128-GCM-SHA256 bits=128/128);
 Tue, 10 Jun 2025 21:52:37 -0700 (PDT)
X-Relaying-Domain: iol.unh.edu
Date: Tue, 10 Jun 2025 21:52:37 -0700 (PDT)
Message-ID: <68490b95.050a0220.69595.9c09SMTPIN_ADDED_MISSING@mx.google.com>
Received: from [172.21.0.6] (unknown [172.18.0.240])
 by postal.iol.unh.edu (Postfix) with ESMTP id 9E4426051830;
 Wed, 11 Jun 2025 00:52:36 -0400 (EDT)
Subject: |SUCCESS| pw154297-154304 [PATCH] [v3,8/8] net/r8169: update HW conf
From: dpdklab@iol.unh.edu
To: Test Report <test-report@dpdk.org>
Cc: dpdk-test-reports@iol.unh.edu
In-Reply-To: <20250611031001.20306-9-howard_wang@realsil.com.cn>
References: <20250611031001.20306-9-howard_wang@realsil.com.cn>
Content-Type: text/plain
X-BeenThere: test-report@dpdk.org
X-Mailman-Version: 2.1.29
Precedence: list
List-Id: automatic DPDK test reports <test-report.dpdk.org>
List-Unsubscribe: <https://mails.dpdk.org/options/test-report>,
 <mailto:test-report-request@dpdk.org?subject=unsubscribe>
List-Archive: <http://mails.dpdk.org/archives/test-report/>
List-Post: <mailto:test-report@dpdk.org>
List-Help: <mailto:test-report-request@dpdk.org?subject=help>
List-Subscribe: <https://mails.dpdk.org/listinfo/test-report>,
 <mailto:test-report-request@dpdk.org?subject=subscribe>
Errors-To: test-report-bounces@dpdk.org

Test-Label: iol-abi-testing
Test-Status: SUCCESS
http://dpdk.org/patch/154304

_Testing PASS_

Submitter: Howard Wang <howard_wang@realsil.com.cn>
Date: Wednesday, June 11 2025 03:10:01 
DPDK git baseline: Repo:dpdk
  Branch: master
  CommitID:ae29f5873362938994cd9a0948a8746d25d79e7d

154297-154304 --> testing pass

Upstream job id: Generic-DPDK-Compile-ABI#129696

Test environment and result as below:

+-------------------------------+----------+
|          Environment          | abi_test |
+===============================+==========+
| Fedora 41 (Clang)             | PASS     |
+-------------------------------+----------+
| Fedora 40 (Clang)             | PASS     |
+-------------------------------+----------+
| CentOS Stream 9               | PASS     |
+-------------------------------+----------+
| CentOS Stream 10              | PASS     |
+-------------------------------+----------+
| Debian GNU/Linux 12           | PASS     |
+-------------------------------+----------+
| Fedora 40                     | PASS     |
+-------------------------------+----------+
| Red Hat Enterprise Linux 8.10 | PASS     |
+-------------------------------+----------+
| Red Hat Enterprise Linux 9.5  | PASS     |
+-------------------------------+----------+
| Fedora 41                     | PASS     |
+-------------------------------+----------+
| Ubuntu 22.04                  | PASS     |
+-------------------------------+----------+
| openSUSE Leap 15.6            | PASS     |
+-------------------------------+----------+
| Ubuntu 24.04                  | PASS     |
+-------------------------------+----------+


Fedora 41 (Clang)
	Kernel: Depends on container host
	Compiler: clang 19.1.5 (Fedora 19.1.5-1.fc41)

Fedora 40 (Clang)
	Kernel: Depends on container host
	Compiler: clang 18.1.8 (Fedora 18.1.8-1.fc40)

CentOS Stream 9
	Kernel: Depends on container host
	Compiler: gcc 11.5.0 20240719 (Red Hat 11.5.0-2)

CentOS Stream 10
	Kernel: Depends on container host
	Compiler: gcc 14.2.1 20241104 (Red Hat 14.2.1-6)

Debian GNU/Linux 12
	Kernel: 5.15
	Compiler: gcc gcc (Debian 12.2.0-14) 12.2.0

Fedora 40
	Kernel: Depends on container host
	Compiler: gcc 14.2.1 20240912 (Red Hat 14.2.1-3)

Red Hat Enterprise Linux 8.10
	Kernel: 5.15
	Compiler: gcc gcc (GCC) 8.5.0 20210514 (Red Hat 8.5.0-22)

Red Hat Enterprise Linux 9.5
	Kernel: 5.15
	Compiler: gcc gcc (GCC) 11.5.0 20240719 (Red Hat 11.5.0-2)

Fedora 41
	Kernel: Depends on container host
	Compiler: gcc 14.2.1 20240912 (Red Hat 14.2.1-3)

Ubuntu 22.04
	Kernel: 5.15
	Compiler: gcc gcc (Ubuntu 11.4.0-1ubuntu1~22.04) 11.4.0

openSUSE Leap 15.6
	Kernel: 5.15
	Compiler: gcc gcc (SUSE Linux) 7.5.0

Ubuntu 24.04
	Kernel: 5.15
	Compiler: gcc gcc (Ubuntu 13.3.0-6ubuntu2~24.04) 13.3.0

To view detailed results, visit:
https://lab.dpdk.org/results/dashboard/patchsets/33382/

UNH-IOL DPDK Community Lab

To manage your email subscriptions, visit: 
https://lab.dpdk.org/results/dashboard/preferences/subscriptions/