From mboxrd@z Thu Jan 1 00:00:00 1970 Return-Path: Received: from mails.dpdk.org (mails.dpdk.org [217.70.189.124]) by inbox.dpdk.org (Postfix) with ESMTP id DCB60468D5 for ; Wed, 11 Jun 2025 12:50:12 +0200 (CEST) Received: from mails.dpdk.org (localhost [127.0.0.1]) by mails.dpdk.org (Postfix) with ESMTP id B78AD40144; Wed, 11 Jun 2025 12:50:12 +0200 (CEST) Received: from mail-io1-f97.google.com (mail-io1-f97.google.com [209.85.166.97]) by mails.dpdk.org (Postfix) with ESMTP id 3840640144 for ; Wed, 11 Jun 2025 12:50:12 +0200 (CEST) Received: by mail-io1-f97.google.com with SMTP id ca18e2360f4ac-86a07a1acffso535336639f.0 for ; Wed, 11 Jun 2025 03:50:12 -0700 (PDT) DKIM-Signature: v=1; a=rsa-sha256; c=relaxed/relaxed; d=iol.unh.edu; s=unh-iol; t=1749639011; x=1750243811; darn=dpdk.org; h=references:in-reply-to:cc:to:from:subject:message-id:date:from:to :cc:subject:date:message-id:reply-to; bh=WGIO3NA11fv6Okqcl36o78n78Lgg3m5ZWn/rEPG79bk=; b=NzRSAt8yOZ1RJ6tEbHdwKaQNnvL2J1Cr+EWednVZ6KtkpM+pe49yW+iwWyUr1x4ZCX XFBPj0ucKk7U+j/3UCW6hjyTxb2osi6INIi0ItWLk5CPnex82Y8VqWYdcj38DQiRzesb 9iu2Vqy4lDiv8nSRtLgUdJJ80YKy0VPEWdmFs= X-Google-DKIM-Signature: v=1; a=rsa-sha256; c=relaxed/relaxed; d=1e100.net; s=20230601; t=1749639011; x=1750243811; h=references:in-reply-to:cc:to:from:subject:message-id:date :x-gm-message-state:from:to:cc:subject:date:message-id:reply-to; bh=WGIO3NA11fv6Okqcl36o78n78Lgg3m5ZWn/rEPG79bk=; b=ookIAO9MtzsQHJti+Rahmu19k+SnBK3gAlyuJKjVHTmJdpeP++HA0fE6k5YX0l6a1r D7M3dn4IdzugksOVCb3E0CHjmbah0gWenb58RarNU0RtmoJ4okh5C5WF3YlZeyAK/9xn MVbRqYnKXODZwOg+WnlUb3QSFez4Kh34vONl6SxJrKHSX0WR51CqzoWig+OmNHRRUQHE Gmre/4d+xMO/WnI1k1aB4iffpsTl3VZgib8YcMKCwLngjpIWGqXqePbLKNao5x0qLx00 yC2//RVoeVehjuGADknzvM1Brp0UQ72gONQqRrwmz5Pp8vRmVoPSoFr/mvzi4LGC9Q3b c+Hw== X-Gm-Message-State: AOJu0YypfJWzYjZnZKamkZXcQqGyS5xIztMSZYPFwtk7hHXkcOdjbm0t 4zJzHLJZSP0q9TPA+fkzDdStzaA1npaj8WlXtgbc06bNfZyqCWic3bmfnbrwEKsWSYdJSWM7w+L HtMOTvhlqUEV43sCWyQMwuk+fr8C/t4HiLnwugoFqg62N+oSLHeG2/lbuwyJh X-Gm-Gg: ASbGncsIbkNYAbIMNl4j3uioya/WwNh1HQuRpNXWzOgSP9yNKRVv/3MgioLre7HiUQd ot5qO/RSWAzRK0+09POAqPBnJuIAiPfnEBJefvBpTJNyqebSMY9S7rqfzNSifQZ0Z2C91fkG4Vp E2IuyAkDX59aI9jxrcIgqqBVult7tY0U+FcFGm5KvAvta8wHla83jsxwbYC+m1+rAe//qwF1x4s TklmiGt5SmKuzaUU9Yh//fvUqsmB1NWncN8AQ8JZ0AOLbng7tL+ZV8SBEaKamiohrto5Mh0itSd bo7jl8zTDPRKjbkVQuP2gzh1FaEoO0aRz1QVx9wEpA2ZnM8= X-Google-Smtp-Source: AGHT+IE5cG7Ly2np5bvvwJq6l71pi12hgRkVv3Pzr0PTl7mwTGs8JWKmb8LC/Q2XQ1Hk1zv1sCo4gFtqpPPI X-Received: by 2002:a05:6e02:b28:b0:3dd:9164:906f with SMTP id e9e14a558f8ab-3ddf427510fmr30318075ab.7.1749639011327; Wed, 11 Jun 2025 03:50:11 -0700 (PDT) Received: from postal.iol.unh.edu (postal.iol.unh.edu. [2606:4100:3880:1234::84]) by smtp-relay.gmail.com with ESMTPS id e9e14a558f8ab-3ddf4761d7fsm1257365ab.56.2025.06.11.03.50.11 (version=TLS1_2 cipher=ECDHE-ECDSA-AES128-GCM-SHA256 bits=128/128); Wed, 11 Jun 2025 03:50:11 -0700 (PDT) X-Relaying-Domain: iol.unh.edu Date: Wed, 11 Jun 2025 03:50:11 -0700 (PDT) Message-ID: <68495f63.050a0220.2f455c.4607SMTPIN_ADDED_MISSING@mx.google.com> Received: from [172.21.0.6] (unknown [172.18.0.240]) by postal.iol.unh.edu (Postfix) with ESMTP id CEE2D6051830; Wed, 11 Jun 2025 06:50:10 -0400 (EDT) Subject: |SUCCESS| pw154291-154296 [PATCH] [v4,6/6] doc: announce TxPP suppor From: dpdklab@iol.unh.edu To: Test Report Cc: dpdk-test-reports@iol.unh.edu In-Reply-To: <20250610131159.495566-7-soumyadeep.hore@intel.com> References: <20250610131159.495566-7-soumyadeep.hore@intel.com> Content-Type: text/plain X-BeenThere: test-report@dpdk.org X-Mailman-Version: 2.1.29 Precedence: list List-Id: automatic DPDK test reports List-Unsubscribe: , List-Archive: List-Post: List-Help: List-Subscribe: , Errors-To: test-report-bounces@dpdk.org Test-Label: iol-unit-arm64-testing Test-Status: SUCCESS http://dpdk.org/patch/154296 _Testing PASS_ Submitter: Soumyadeep Hore Date: Tuesday, June 10 2025 13:11:59 DPDK git baseline: Repo:dpdk Branch: master CommitID:86a7583c3e0c850f7a901556bc70c35c9de36d3f 154291-154296 --> testing pass Upstream job id: Generic-Unit-Test-DPDK#344853 Test environment and result as below: +------------------------------+----------------+--------------+------------------------------+---------------------------+ | Environment | dpdk_unit_test | lpm_autotest | cryptodev_sw_snow3g_autotest | cryptodev_sw_zuc_autotest | +==============================+================+==============+==============================+===========================+ | CentOS Stream 10 (ARM) | PASS | SKIPPED | SKIPPED | SKIPPED | +------------------------------+----------------+--------------+------------------------------+---------------------------+ | CentOS Stream 9 (ARM) | PASS | SKIPPED | SKIPPED | SKIPPED | +------------------------------+----------------+--------------+------------------------------+---------------------------+ | Debian GNU/Linux 12 | PASS | SKIPPED | SKIPPED | SKIPPED | +------------------------------+----------------+--------------+------------------------------+---------------------------+ | Fedora 40 (ARM) | PASS | SKIPPED | SKIPPED | SKIPPED | +------------------------------+----------------+--------------+------------------------------+---------------------------+ | Fedora 41 (ARM) | PASS | SKIPPED | SKIPPED | SKIPPED | +------------------------------+----------------+--------------+------------------------------+---------------------------+ | Fedora 40 (ARM Clang) | PASS | SKIPPED | SKIPPED | SKIPPED | +------------------------------+----------------+--------------+------------------------------+---------------------------+ | Fedora 41 (ARM Clang) | PASS | SKIPPED | SKIPPED | SKIPPED | +------------------------------+----------------+--------------+------------------------------+---------------------------+ | Red Hat Enterprise Linux 9.5 | PASS | SKIPPED | SKIPPED | SKIPPED | +------------------------------+----------------+--------------+------------------------------+---------------------------+ | Ubuntu 20.04 | PASS | PASS | SKIPPED | SKIPPED | +------------------------------+----------------+--------------+------------------------------+---------------------------+ | Ubuntu 22.04 | PASS | SKIPPED | SKIPPED | SKIPPED | +------------------------------+----------------+--------------+------------------------------+---------------------------+ | Ubuntu 24.04 | PASS | SKIPPED | SKIPPED | SKIPPED | +------------------------------+----------------+--------------+------------------------------+---------------------------+ | Debian 12 (arm) | SKIPPED | SKIPPED | PASS | PASS | +------------------------------+----------------+--------------+------------------------------+---------------------------+ CentOS Stream 10 (ARM) Kernel: Depends on container host Compiler: gcc 14.2.1 20241104 (Red Hat 14.2.1-6) CentOS Stream 9 (ARM) Kernel: Depends on container host Compiler: gcc 11.5.0 20240719 (Red Hat 11.5.0-2) Debian GNU/Linux 12 Kernel: 5.4 Compiler: gcc gcc (Debian 12.2.0-14) 12.2.0 Fedora 40 (ARM) Kernel: Depends on container host Compiler: gcc 14.2.1 20240912 (Red Hat 14.2.1-3) Fedora 41 (ARM) Kernel: Depends on container host Compiler: gcc 14.2.1 20240912 (Red Hat 14.2.1-3) Fedora 40 (ARM Clang) Kernel: Depends on container host Compiler: clang 18.1.8 (Fedora 18.1.8-1.fc40) Fedora 41 (ARM Clang) Kernel: Depends on container host Compiler: clang 19.1.5 (Fedora 19.1.5-1.fc41) Red Hat Enterprise Linux 9.5 Kernel: 5.4 Compiler: gcc gcc (GCC) 11.5.0 20240719 (Red Hat 11.5.0-2) Ubuntu 20.04 Kernel: 5.4 Compiler: gcc gcc (Ubuntu 9.4.0-1ubuntu1~20.04.2) 9.4.0 Ubuntu 22.04 Kernel: 5.4 Compiler: gcc gcc (Ubuntu 11.4.0-1ubuntu1~22.04) 11.4.0 Ubuntu 24.04 Kernel: 5.4 Compiler: gcc gcc (Ubuntu 13.3.0-6ubuntu2~24.04) 13.3.0 Debian 12 (arm) Kernel: Depends on container host Compiler: gcc (Debian 12.2.0-14) 12.2.0 To view detailed results, visit: https://lab.dpdk.org/results/dashboard/patchsets/33381/ UNH-IOL DPDK Community Lab To manage your email subscriptions, visit: https://lab.dpdk.org/results/dashboard/preferences/subscriptions/