From mboxrd@z Thu Jan 1 00:00:00 1970 Return-Path: Received: from mails.dpdk.org (mails.dpdk.org [217.70.189.124]) by inbox.dpdk.org (Postfix) with ESMTP id 20AB3468D7 for ; Wed, 11 Jun 2025 17:44:31 +0200 (CEST) Received: from mails.dpdk.org (localhost [127.0.0.1]) by mails.dpdk.org (Postfix) with ESMTP id 1C250402DB; Wed, 11 Jun 2025 17:44:31 +0200 (CEST) Received: from mail-io1-f99.google.com (mail-io1-f99.google.com [209.85.166.99]) by mails.dpdk.org (Postfix) with ESMTP id 15D7F402DB for ; Wed, 11 Jun 2025 17:44:30 +0200 (CEST) Received: by mail-io1-f99.google.com with SMTP id ca18e2360f4ac-86a464849c2so41016639f.1 for ; Wed, 11 Jun 2025 08:44:30 -0700 (PDT) DKIM-Signature: v=1; a=rsa-sha256; c=relaxed/relaxed; d=iol.unh.edu; s=unh-iol; t=1749656669; x=1750261469; darn=dpdk.org; h=cc:to:from:subject:message-id:date:from:to:cc:subject:date :message-id:reply-to; bh=5yNRFO0XMtGNTS/y0fj94GexUaVdv8fg88szBd0cFn8=; b=gHlhpPiAO3t49DRFAckwctskIj46Pe4N8hnuseRO0uTY9hQezZG+RzXuGJIVJjhkGD SlyVHClRM611ejwQxKxcIdngJm++zi7Pfi9wECQJ9h8CIXjCtKQ4zBIzRwJvMxOyTQ/5 wECHPetfWhHZnuCJaj7b3nP12Mk3U4EqmT1fc= X-Google-DKIM-Signature: v=1; a=rsa-sha256; c=relaxed/relaxed; d=1e100.net; s=20230601; t=1749656669; x=1750261469; h=cc:to:from:subject:message-id:date:x-gm-message-state:from:to:cc :subject:date:message-id:reply-to; bh=5yNRFO0XMtGNTS/y0fj94GexUaVdv8fg88szBd0cFn8=; b=O9XwiSfnDYDz1ef64vBPcr9D+PzjTl+8/4a2IQJfbbG+aKFo2SCzxudgqPKRPKSXOH kZKTcsI2YGKcKw5fDIlE2K9LQzWXfFlRZNPu/QJUlN+56SFvPpy5roiQ5scF8eJO/xAa YKhkzIguUVhDbGtkpDO2nodEsJbM1SBBxX0vaQxG7q2599sl8Wv1pVkJ+b4IFqlHdNkO a4H3gj8FC5eIepuqjKNJZQeSwtk6h4VgD7YYGyL3C8R0BWtfLz4hMJZEhHEQJOXfm5lb t1LU6aKQ1JO7RBpLZEiwtWaXVckicfZY+TuLgWfpOcA915bfTm7oRT+55D8evffglpx2 gewg== X-Gm-Message-State: AOJu0Yx3A5+y8mZPRUICI4mvmTNeUhFIjfyEPL1RulXhlSVcJiC5/GRB sf4vMx9FiB3ESRfL1NGMZMKqtGDm9fTcnE735plrOPjJ7Tz/FweSovSFcFBI6znG5XsDhZz73mp mmKfgs20cv0VKj82mDTXo67nbWtx/sHgsB+XBbFQ0n3rt X-Gm-Gg: ASbGncvtgtDORg2oizVfGA7uJA6uZ0CfJDO7XOb5CjA9n9ZONthWzIV/geJ70Yin0vS 5VGJ3Fb/W1Kwu9XcETqhmJ1FHtmI2oLn3QWu/p2v+vVJbOYMcGueE42cgBqyWNd9QvmPkubS7us x8T8nYU7/sEDDGw26SemOpJccIg5P55eMgrJkrIygWsKH8j0ttSknkcA3qGIyo1HZpwChDxiqvz S+ghgwWiNY/eXSQRPkUA3zpBYrS1PyfnYHloHG03fROvRbUnVnCFb0hc/MYPIJYP/cKVdnC0yIf b2DVb4SAZaN4eZ8uDXfoU/+xeS9vaBuRa0bPUWZxYhdWybBKPcJ8nirx0+ZIKTzS4CbXlQ== X-Google-Smtp-Source: AGHT+IEJ/keVdvF2rYdCHiG6+BrKze4aRhP1u5wz1A3Ig7CM/1re2BVJ4r/OwHPIqdQFTbRHydDCXB6JtPwh X-Received: by 2002:a05:6602:71b:b0:85e:d0ca:b635 with SMTP id ca18e2360f4ac-875bc00e104mr357660739f.2.1749656669393; Wed, 11 Jun 2025 08:44:29 -0700 (PDT) Received: from postal.iol.unh.edu (postal.iol.unh.edu. [132.177.123.84]) by smtp-relay.gmail.com with ESMTPS id 8926c6da1cb9f-5012aaca0f5sm133380173.64.2025.06.11.08.44.29 (version=TLS1_2 cipher=ECDHE-ECDSA-AES128-GCM-SHA256 bits=128/128); Wed, 11 Jun 2025 08:44:29 -0700 (PDT) X-Relaying-Domain: iol.unh.edu Date: Wed, 11 Jun 2025 08:44:29 -0700 (PDT) Message-ID: <6849a45d.050a0220.396e23.4f59SMTPIN_ADDED_MISSING@mx.google.com> Received: from [172.17.0.2] (unknown [172.18.0.74]) by postal.iol.unh.edu (Postfix) with ESMTP id E0310604D420; Wed, 11 Jun 2025 11:44:28 -0400 (EDT) Subject: |SUCCESS| [GIT MASTER] dcf9f9363aa9b4163d241caf8b26a84ca0c0006b From: dpdklab@iol.unh.edu To: Test Report Cc: dpdk-test-reports@iol.unh.edu Content-Type: text/plain X-BeenThere: test-report@dpdk.org X-Mailman-Version: 2.1.29 Precedence: list List-Id: automatic DPDK test reports List-Unsubscribe: , List-Archive: List-Post: List-Help: List-Subscribe: , Errors-To: test-report-bounces@dpdk.org _Testing PASS_ Branch: dpdk dcf9f9363aa9b4163d241caf8b26a84ca0c0006b --> testing pass Upstream job id: Template-DTS-Pipeline#226065 Test environment and result as below: +--------------------+----------------------+----------------------+ | Environment | compressdev_zlib_pmd | dpdk_fips_validation | +====================+======================+======================+ | Ubuntu 22.04 | PASS | SKIPPED | +--------------------+----------------------+----------------------+ | Ubuntu 22.04 (ARM) | PASS | SKIPPED | +--------------------+----------------------+----------------------+ | Ubuntu 20.04 | SKIPPED | PASS | +--------------------+----------------------+----------------------+ Ubuntu 22.04 Kernel: 5.15.0-100-generic Compiler: gcc gcc (Ubuntu 11.4.0-1ubuntu1~22.04) 11.4.0 Ubuntu 22.04 (ARM) Kernel: 5.15.0-97-generic Compiler: gcc gcc (Ubuntu 11.4.0-1ubuntu1~22.04) 11.4.0 Ubuntu 20.04 Kernel: 5.15 Compiler: gcc gcc (Ubuntu 9.4.0-1ubuntu1~20.04.2) 9.4.0 To view detailed results, visit: https://lab.dpdk.org/results/dashboard/tarballs/33547/ UNH-IOL DPDK Community Lab To manage your email subscriptions, visit: https://lab.dpdk.org/results/dashboard/preferences/subscriptions/