From mboxrd@z Thu Jan 1 00:00:00 1970 Return-Path: Received: from mails.dpdk.org (mails.dpdk.org [217.70.189.124]) by inbox.dpdk.org (Postfix) with ESMTP id D85A1468D8 for ; Wed, 11 Jun 2025 18:31:34 +0200 (CEST) Received: from mails.dpdk.org (localhost [127.0.0.1]) by mails.dpdk.org (Postfix) with ESMTP id D236B40144; Wed, 11 Jun 2025 18:31:34 +0200 (CEST) Received: from mail-vk1-f227.google.com (mail-vk1-f227.google.com [209.85.221.227]) by mails.dpdk.org (Postfix) with ESMTP id A0E5540144 for ; Wed, 11 Jun 2025 18:31:33 +0200 (CEST) Received: by mail-vk1-f227.google.com with SMTP id 71dfb90a1353d-53118db57b4so13456e0c.2 for ; Wed, 11 Jun 2025 09:31:33 -0700 (PDT) DKIM-Signature: v=1; a=rsa-sha256; c=relaxed/relaxed; d=iol.unh.edu; s=unh-iol; t=1749659493; x=1750264293; darn=dpdk.org; h=references:in-reply-to:cc:to:from:subject:message-id:date:from:to :cc:subject:date:message-id:reply-to; bh=c8Js8IOn8DalVJxImBoWGIRwJUrnX+Ls4blNtLALG9A=; b=G4j8ULPBVJ9OYesbaeXD5F0pL+eDXKBtS6mRu6WQ9VsB4/SAhszyfZ+HOFpfF0xDvM J4FO3NuRYF8i7UA5i65l2NYVGQ7k57tyR4Uj8wgvi2i+JCZ0AhbnUzs5UqoYRVJ56iyX wlr9rBZhL/8ncFxXYX3Svfg7tuK4dsuVlsHLk= X-Google-DKIM-Signature: v=1; a=rsa-sha256; c=relaxed/relaxed; d=1e100.net; s=20230601; t=1749659493; x=1750264293; h=references:in-reply-to:cc:to:from:subject:message-id:date :x-gm-message-state:from:to:cc:subject:date:message-id:reply-to; bh=c8Js8IOn8DalVJxImBoWGIRwJUrnX+Ls4blNtLALG9A=; b=sETCAiksG/oxoTK9VEaIdv9ME1Ne4HOI5nblGWyuBCACS+0v8YlZw1HXU+1WzfbG3k 50E83BmCEpMOoOJhczoctlQkLKxcVNafe9r4IBLXzOtGWZ/OnG7ydjWV325Fx8MpLpXz O0fQS8tnX5L4oQu9MRULT1Ybxas9FJG3Ss6XDXiQ8p9Dm39cGNeWdxLKSTtgxPeGVbL9 0cENitUwNDQirkQGScWHYcdspnIiXpZ0gIPvjm/D5COfhyat/Mpbq+Zhek6WO5ZgiRI6 PiLYCQ6M0fZs73dI2F1Xc3Ki4F5bKANlNP9/U0iR1OaaBkHoKhMVCrKMy0J78zFAi1bH QTfQ== X-Gm-Message-State: AOJu0YxTXAjuKFJM9yoOhXJJVZmSlY/iXiRCk+k0daUpUIRty8lZxFSH AMHwkt1l49h3Mf2tkEhUEB5gcQEp+lrswgG4a0TYAPamCHQbqyTzHkNosill6gEjjuBbxo4DQ5r BtBalT1eJiFe8qvL8c86vSjMenKVl1itFhyzmldCUCAHm7Dz9gcg595kgmtf8 X-Gm-Gg: ASbGnctEJNNlVBF7rzldO29SibXZ7bWijMB4XulVV2HRzsXhMSei7wOEL+ZPTnwYiVP ZzHptXcgnnMAFroAuUCyPOo+xBy7YNF4H8KzCJ++Q18iWkNN1XohdIIqId/nU2nKkEfh+olMoRV zJFKFMleOf5mDeM25FrrkM2yb/cw+x8Pk8cslXqk9lJEpmowfdKwuSvbwWCU5DwaT7DWOREVpsQ XWlLEBJTWLdmwZvR3K7ouz2TQrwdub+gAQ/hDrsDOKztOl6Uu25+dTQ/1NM/Qtqt45z+E+WhtCN qzF8QIlbW0RU7WbzaypsEfPiS/hKchZT5ZNp6qOu4HFjmbs= X-Google-Smtp-Source: AGHT+IEnYI+CNBziyN2Dh4AvxZB5550PHpx1tm9E3F0hyzj6ERaq3Wc8BDp869c+354fAyi2OlEUkI6eOQ9Z X-Received: by 2002:a05:6122:a0c:b0:520:60c2:3fd with SMTP id 71dfb90a1353d-5312cda8898mr899951e0c.3.1749659492915; Wed, 11 Jun 2025 09:31:32 -0700 (PDT) Received: from postal.iol.unh.edu (postal.iol.unh.edu. [2606:4100:3880:1234::84]) by smtp-relay.gmail.com with ESMTPS id 71dfb90a1353d-53113a7af6bsm337398e0c.4.2025.06.11.09.31.32 (version=TLS1_2 cipher=ECDHE-ECDSA-AES128-GCM-SHA256 bits=128/128); Wed, 11 Jun 2025 09:31:32 -0700 (PDT) X-Relaying-Domain: iol.unh.edu Date: Wed, 11 Jun 2025 09:31:32 -0700 (PDT) Message-ID: <6849af64.050a0220.874ca.e354SMTPIN_ADDED_MISSING@mx.google.com> Received: from [172.17.0.4] (unknown [172.18.0.74]) by postal.iol.unh.edu (Postfix) with ESMTP id 91C80604D420; Wed, 11 Jun 2025 12:31:32 -0400 (EDT) Subject: |SUCCESS| pw154291-154296 [PATCH] [v4,6/6] doc: announce TxPP suppor From: dpdklab@iol.unh.edu To: Test Report Cc: dpdk-test-reports@iol.unh.edu In-Reply-To: <20250610131159.495566-7-soumyadeep.hore@intel.com> References: <20250610131159.495566-7-soumyadeep.hore@intel.com> Content-Type: text/plain X-BeenThere: test-report@dpdk.org X-Mailman-Version: 2.1.29 Precedence: list List-Id: automatic DPDK test reports List-Unsubscribe: , List-Archive: List-Post: List-Help: List-Subscribe: , Errors-To: test-report-bounces@dpdk.org Test-Label: iol-compile-arm64-testing Test-Status: SUCCESS http://dpdk.org/patch/154296 _Testing PASS_ Submitter: Soumyadeep Hore Date: Tuesday, June 10 2025 13:11:59 DPDK git baseline: Repo:dpdk Branch: master CommitID:86a7583c3e0c850f7a901556bc70c35c9de36d3f 154291-154296 --> testing pass Upstream job id: Generic-DPDK-Compile-Meson#396276 Test environment and result as below: +------------------------------+--------------------+ | Environment | dpdk_meson_compile | +==============================+====================+ | Red Hat Enterprise Linux 9.5 | PASS | +------------------------------+--------------------+ | Ubuntu 20.04 | PASS | +------------------------------+--------------------+ | Debian GNU/Linux 12 | PASS | +------------------------------+--------------------+ | Fedora 40 (ARM) | PASS | +------------------------------+--------------------+ | Fedora 40 (ARM Clang) | PASS | +------------------------------+--------------------+ | Fedora 41 (ARM) | PASS | +------------------------------+--------------------+ | Fedora 41 (ARM Clang) | PASS | +------------------------------+--------------------+ | Ubuntu 22.04 | PASS | +------------------------------+--------------------+ | Ubuntu 24.04 | PASS | +------------------------------+--------------------+ | CentOS Stream 9 (ARM) | PASS | +------------------------------+--------------------+ | CentOS Stream 10 (ARM) | PASS | +------------------------------+--------------------+ Red Hat Enterprise Linux 9.5 Kernel: 5.4 Compiler: gcc gcc (GCC) 11.5.0 20240719 (Red Hat 11.5.0-2) Ubuntu 20.04 Kernel: 5.15 Compiler: aarch64-linux-gnu-gcc gcc (Ubuntu 9.4.0-1ubuntu1~20.04.2) 9.4.0 Debian GNU/Linux 12 Kernel: 5.4 Compiler: gcc gcc (Debian 12.2.0-14) 12.2.0 Fedora 40 (ARM) Kernel: Depends on container host Compiler: gcc 14.2.1 20240912 (Red Hat 14.2.1-3) Fedora 40 (ARM Clang) Kernel: Depends on container host Compiler: clang 18.1.8 (Fedora 18.1.8-1.fc40) Fedora 41 (ARM) Kernel: Depends on container host Compiler: gcc 14.2.1 20240912 (Red Hat 14.2.1-3) Fedora 41 (ARM Clang) Kernel: Depends on container host Compiler: clang 19.1.5 (Fedora 19.1.5-1.fc41) Ubuntu 22.04 Kernel: 5.4 Compiler: gcc gcc (Ubuntu 11.4.0-1ubuntu1~22.04) 11.4.0 Ubuntu 24.04 Kernel: 5.4 Compiler: gcc gcc (Ubuntu 13.3.0-6ubuntu2~24.04) 13.3.0 CentOS Stream 9 (ARM) Kernel: Depends on container host Compiler: gcc 11.5.0 20240719 (Red Hat 11.5.0-2) CentOS Stream 10 (ARM) Kernel: Depends on container host Compiler: gcc 14.2.1 20241104 (Red Hat 14.2.1-6) To view detailed results, visit: https://lab.dpdk.org/results/dashboard/patchsets/33381/ UNH-IOL DPDK Community Lab To manage your email subscriptions, visit: https://lab.dpdk.org/results/dashboard/preferences/subscriptions/