From mboxrd@z Thu Jan 1 00:00:00 1970 Return-Path: Received: from mails.dpdk.org (mails.dpdk.org [217.70.189.124]) by inbox.dpdk.org (Postfix) with ESMTP id 7211B468E4 for ; Fri, 13 Jun 2025 00:44:59 +0200 (CEST) Received: from mails.dpdk.org (localhost [127.0.0.1]) by mails.dpdk.org (Postfix) with ESMTP id 6BEC740291; Fri, 13 Jun 2025 00:44:59 +0200 (CEST) Received: from mail-pf1-f228.google.com (mail-pf1-f228.google.com [209.85.210.228]) by mails.dpdk.org (Postfix) with ESMTP id 89BC640291 for ; Fri, 13 Jun 2025 00:44:58 +0200 (CEST) Received: by mail-pf1-f228.google.com with SMTP id d2e1a72fcca58-7481600130eso1855168b3a.3 for ; Thu, 12 Jun 2025 15:44:58 -0700 (PDT) DKIM-Signature: v=1; a=rsa-sha256; c=relaxed/relaxed; d=iol.unh.edu; s=unh-iol; t=1749768297; x=1750373097; darn=dpdk.org; h=references:in-reply-to:cc:to:from:subject:message-id:date:from:to :cc:subject:date:message-id:reply-to; bh=/+nrWDPLzn2AaNRNyci5tQTRO8pSZMoiMBWpi/s2a+U=; b=Q0l4cSu+Xz3c3/vVewfVYSAeKYfZj8psdGx0OGUEnj2CPOaz0M5cToJoP0NpxtB7dQ cFv2uelv2pi7vG6ACD2Qq18nK0QOKs/Ri/X6AdI1zYVoutQd2Dmyk7mIulQ5riMEBNuf GNWbsG++7fdpJRZfnkYrGVBGwrtdIudBpN6Us= X-Google-DKIM-Signature: v=1; a=rsa-sha256; c=relaxed/relaxed; d=1e100.net; s=20230601; t=1749768297; x=1750373097; h=references:in-reply-to:cc:to:from:subject:message-id:date :x-gm-message-state:from:to:cc:subject:date:message-id:reply-to; bh=/+nrWDPLzn2AaNRNyci5tQTRO8pSZMoiMBWpi/s2a+U=; b=QLQRUOs28VuILlBdGghp2xNu9obmMEgnE0xliRkmno65YXRLVN5WXgHxTA/IF6TXAl tKwEy/oaHdps/+AaS4EYUmk1SXMmXNABVQqcIuTaM+ixCJs0+x98WFlMEwuUNz1ZYX+j j/q6gm+LGCQ11GmY3ZaGnHG1RhU4wmREIhBmglJpPy/pcC2ygfdnPthsD0Ibw45QN4Bq Yi0f97K8pLm2XZoKRNLBM//IJ0UtIspwYADn6CKscLhuvNVA5QblT6YWPkQ7Ww7Kim9g SaRMebZ8AZA0JM8tkHQj96rPVSHp7+sSc56+/vOAKwLETgx7AD50F/yvrWG8oHV2tzl8 EHTw== X-Gm-Message-State: AOJu0YxPftBqH9VI78J87yrmUOZ7EhAjs3m9/NSSnwkEsMTl6qlQel15 TlXX3VAwBEV3Mp1bhQSuWV5Ty1c6SS2CYOmqzqj7FzUV1XAN8JViwX8h5lKVmUhmFZrHpLd6ET+ X76gZC92ig72cMrpkhVBQ2Sot0AZi9RkfIfMLGZcZwqfT X-Gm-Gg: ASbGnct/32KkMzH4IRcSMrYSsQnv6e82Ri58c3V5DEeytbEqRD+ptcfUe+W2gA63OMa 3GB6mxVFWOceO202KEKrtlUkokb1+Y7VzpCFa2S0UOdhAsUbVKF5wjzzw6RR847IykdSDch4VV8 STCtPJvhuNSmlOsU3wx9YXqN0JUYxqESrlzXZMGOiJWjIzyl392j90wblVgwuax2DSL2ZGAEOyw 8rv2dgb8oji9fbseSsHEDRZOZvom50sIGAdcFU0IKpCefneyysy96Y34iUvzbvLKy9tfF78hDp8 cDPmmsXBCkA/E2ZKrSdE0dYDz0yvh6cPE9eCEaYWy7tmtMxc6ItV7+yEeqzU7i6iGuQfzQ== X-Google-Smtp-Source: AGHT+IG0VAcLIkR3TV3Ru2wGwSPvRjtrTfJdMYkIwZxrEbfBOQquv6F1AUlJAqNSseFGev3HSZMRp/QOrwYB X-Received: by 2002:a05:6a00:1814:b0:740:a879:4f7b with SMTP id d2e1a72fcca58-7488f71def1mr1432159b3a.18.1749768297395; Thu, 12 Jun 2025 15:44:57 -0700 (PDT) Received: from postal.iol.unh.edu (postal.iol.unh.edu. [132.177.123.84]) by smtp-relay.gmail.com with ESMTPS id d2e1a72fcca58-748900c0f69sm25847b3a.19.2025.06.12.15.44.57 (version=TLS1_2 cipher=ECDHE-ECDSA-AES128-GCM-SHA256 bits=128/128); Thu, 12 Jun 2025 15:44:57 -0700 (PDT) X-Relaying-Domain: iol.unh.edu Date: Thu, 12 Jun 2025 15:44:57 -0700 (PDT) Message-ID: <684b5869.050a0220.22e3ed.1467SMTPIN_ADDED_MISSING@mx.google.com> Received: from [172.17.0.2] (unknown [172.18.0.74]) by postal.iol.unh.edu (Postfix) with ESMTP id 8B4226051830; Thu, 12 Jun 2025 18:44:56 -0400 (EDT) Subject: |SUCCESS| pw154413 [PATCH] [v1] dts: fix devbind initialization bug From: dpdklab@iol.unh.edu To: Test Report Cc: dpdk-test-reports@iol.unh.edu In-Reply-To: <20250612201220.614724-1-dmarx@iol.unh.edu> References: <20250612201220.614724-1-dmarx@iol.unh.edu> Content-Type: text/plain X-BeenThere: test-report@dpdk.org X-Mailman-Version: 2.1.29 Precedence: list List-Id: automatic DPDK test reports List-Unsubscribe: , List-Archive: List-Post: List-Help: List-Subscribe: , Errors-To: test-report-bounces@dpdk.org Test-Label: iol-abi-testing Test-Status: SUCCESS http://dpdk.org/patch/154413 _Testing PASS_ Submitter: Dean Marx Date: Thursday, June 12 2025 20:12:20 DPDK git baseline: Repo:dpdk Branch: master CommitID:398bb775edc5434ad94578a5e6c49fa1328acc0f 154413 --> testing pass Upstream job id: Generic-DPDK-Compile-ABI#129996 Test environment and result as below: +-------------------------------+----------+ | Environment | abi_test | +===============================+==========+ | Fedora 40 (Clang) | PASS | +-------------------------------+----------+ | CentOS Stream 10 | PASS | +-------------------------------+----------+ | CentOS Stream 9 | PASS | +-------------------------------+----------+ | Debian GNU/Linux 12 | PASS | +-------------------------------+----------+ | Fedora 40 | PASS | +-------------------------------+----------+ | Fedora 41 (Clang) | PASS | +-------------------------------+----------+ | Fedora 41 | PASS | +-------------------------------+----------+ | openSUSE Leap 15.6 | PASS | +-------------------------------+----------+ | Red Hat Enterprise Linux 8.10 | PASS | +-------------------------------+----------+ | Red Hat Enterprise Linux 9.5 | PASS | +-------------------------------+----------+ | Ubuntu 22.04 | PASS | +-------------------------------+----------+ | Ubuntu 24.04 | PASS | +-------------------------------+----------+ Fedora 40 (Clang) Kernel: Depends on container host Compiler: clang 18.1.8 (Fedora 18.1.8-1.fc40) CentOS Stream 10 Kernel: Depends on container host Compiler: gcc 14.2.1 20241104 (Red Hat 14.2.1-6) CentOS Stream 9 Kernel: Depends on container host Compiler: gcc 11.5.0 20240719 (Red Hat 11.5.0-2) Debian GNU/Linux 12 Kernel: 5.15 Compiler: gcc gcc (Debian 12.2.0-14) 12.2.0 Fedora 40 Kernel: Depends on container host Compiler: gcc 14.2.1 20240912 (Red Hat 14.2.1-3) Fedora 41 (Clang) Kernel: Depends on container host Compiler: clang 19.1.5 (Fedora 19.1.5-1.fc41) Fedora 41 Kernel: Depends on container host Compiler: gcc 14.2.1 20240912 (Red Hat 14.2.1-3) openSUSE Leap 15.6 Kernel: 5.15 Compiler: gcc gcc (SUSE Linux) 7.5.0 Red Hat Enterprise Linux 8.10 Kernel: 5.15 Compiler: gcc gcc (GCC) 8.5.0 20210514 (Red Hat 8.5.0-22) Red Hat Enterprise Linux 9.5 Kernel: 5.15 Compiler: gcc gcc (GCC) 11.5.0 20240719 (Red Hat 11.5.0-2) Ubuntu 22.04 Kernel: 5.15 Compiler: gcc gcc (Ubuntu 11.4.0-1ubuntu1~22.04) 11.4.0 Ubuntu 24.04 Kernel: 5.15 Compiler: gcc gcc (Ubuntu 13.3.0-6ubuntu2~24.04) 13.3.0 To view detailed results, visit: https://lab.dpdk.org/results/dashboard/patchsets/33405/ UNH-IOL DPDK Community Lab To manage your email subscriptions, visit: https://lab.dpdk.org/results/dashboard/preferences/subscriptions/