From mboxrd@z Thu Jan 1 00:00:00 1970 Return-Path: Received: from mails.dpdk.org (mails.dpdk.org [217.70.189.124]) by inbox.dpdk.org (Postfix) with ESMTP id CF01C468E5 for ; Fri, 13 Jun 2025 03:37:23 +0200 (CEST) Received: from mails.dpdk.org (localhost [127.0.0.1]) by mails.dpdk.org (Postfix) with ESMTP id ABEA5402C1; Fri, 13 Jun 2025 03:37:23 +0200 (CEST) Received: from mail-oa1-f97.google.com (mail-oa1-f97.google.com [209.85.160.97]) by mails.dpdk.org (Postfix) with ESMTP id AFAAB402C1 for ; Fri, 13 Jun 2025 03:37:22 +0200 (CEST) Received: by mail-oa1-f97.google.com with SMTP id 586e51a60fabf-2dfb991cb45so750418fac.0 for ; Thu, 12 Jun 2025 18:37:22 -0700 (PDT) DKIM-Signature: v=1; a=rsa-sha256; c=relaxed/relaxed; d=iol.unh.edu; s=unh-iol; t=1749778642; x=1750383442; darn=dpdk.org; h=references:in-reply-to:cc:to:from:subject:message-id:date:from:to :cc:subject:date:message-id:reply-to; bh=mrpmq7f87hPEoKHDWDQGtoU05CtymCESecbD1ncoUY4=; b=c8x/NtzuCFj99yiqsku2qCwQOCoSjYGMy0nvsQlFKbFNJM/Q2VXhnRZ8FWxZDTEWem N9r8ZyaSQ7Uq6a33jFM6SbZrSGlZdX6kFQ/Ae15btkttV63H8U2zRVIsq190/YU3MzMg SZFL/+tz3DJVq4DOkcGOO/sT0nTVGkTKqJn/E= X-Google-DKIM-Signature: v=1; a=rsa-sha256; c=relaxed/relaxed; d=1e100.net; s=20230601; t=1749778642; x=1750383442; h=references:in-reply-to:cc:to:from:subject:message-id:date :x-gm-message-state:from:to:cc:subject:date:message-id:reply-to; bh=mrpmq7f87hPEoKHDWDQGtoU05CtymCESecbD1ncoUY4=; b=t3NOjoOsEYeQ+xEXoztLwU7eqVvklnabWypeSczpIixQhbTi1oSebdS+FYD1H8tY+b cevQEv2v49ADmaL8MCKu19I1caVoDl/bfYqiB4oh3EJgUGtQAK4xO8TTsi9oRBsS069q cLR2amftMcGcfzxEQngVYWOlYKrgZ51GtPoxy5UsCD5IIwGG869UaITnha1oLD/GyGg7 cqmigcO6mU+ygZUJb96EUWLAJGNCiCOzenk1aSUhaATYhjiVrH7s2+yokH0BO57pkAY1 iaNLzPuwjXAoOFPWVd/75qYcWCJ1iICMLqtcC76awPlABKQr+rT1DKd65BwKEUzOw5NU PmoQ== X-Gm-Message-State: AOJu0YyhOg4XjmUPQfL60ki6We7WMOgJQyJVjF06qAEu3k+qHs3mFoFY LkZMIaiUTzPHa6NeKNswHOKoLU3zULhHeygounNBuA00e5IltA3AcfFU1rkmj2cUAac8VqgUXik CbW9eC7zZohI0KjzV30gxD2TiktRVLR36zRDdeCbLLPpXZ4w7zl0FXUU2yUcv X-Gm-Gg: ASbGncszh+rAF/c+s6Y7nUnvNF3nf8cGeTYjGcDAikrdaOEtLKxujaLr0QWMiSQM5OV 9L4pSr/n94TQOCIiArcuDDoL7NbEepdNZfYx3IrxMdVId//Xh0IegwvY9k6OYcotyC2CiH1H2hq QB5EizObIGco1CiQKd4i/PFsRmZuireInS5yiIR4cHY+1B3JIlKaRO77Nk/2X9ABwIjqEwPWTh3 xJybVtwBVrBv0chDP9OpM3Z7OwGY5r5WK7DPTtfShC+IX0qpNaZzDs/5vXbqr4XxgrbiSG7f9qZ QvAIQ54WpiP/zQMOhmSDXTtayHKZs4OEav8WHr0t2JU6rNo= X-Google-Smtp-Source: AGHT+IHUH59arAmiAPBXtRrB/hzgAbhojbC4i31IDNSF6GK7CKjvuZD0amflonLkupO+o5C/0Oc3AaboICYT X-Received: by 2002:a05:6870:d10b:b0:29e:24c7:2861 with SMTP id 586e51a60fabf-2ead4f20fb2mr808941fac.13.1749778641839; Thu, 12 Jun 2025 18:37:21 -0700 (PDT) Received: from postal.iol.unh.edu (postal.iol.unh.edu. [2606:4100:3880:1234::84]) by smtp-relay.gmail.com with ESMTPS id 586e51a60fabf-2eab8f1b3c1sm150913fac.41.2025.06.12.18.37.21 (version=TLS1_2 cipher=ECDHE-ECDSA-AES128-GCM-SHA256 bits=128/128); Thu, 12 Jun 2025 18:37:21 -0700 (PDT) X-Relaying-Domain: iol.unh.edu Date: Thu, 12 Jun 2025 18:37:21 -0700 (PDT) Message-ID: <684b80d1.050a0220.234d76.6dadSMTPIN_ADDED_MISSING@mx.google.com> Received: from [172.17.0.2] (unknown [172.18.0.74]) by postal.iol.unh.edu (Postfix) with ESMTP id 4C8096051830; Thu, 12 Jun 2025 21:37:21 -0400 (EDT) Subject: |SUCCESS| pw154414-154415 [PATCH] [2/2] latencystats: optimize locki From: dpdklab@iol.unh.edu To: Test Report Cc: dpdk-test-reports@iol.unh.edu In-Reply-To: <20250613003547.39239-3-stephen@networkplumber.org> References: <20250613003547.39239-3-stephen@networkplumber.org> Content-Type: text/plain X-BeenThere: test-report@dpdk.org X-Mailman-Version: 2.1.29 Precedence: list List-Id: automatic DPDK test reports List-Unsubscribe: , List-Archive: List-Post: List-Help: List-Subscribe: , Errors-To: test-report-bounces@dpdk.org Test-Label: iol-compile-amd64-testing Test-Status: SUCCESS http://dpdk.org/patch/154415 _Testing PASS_ Submitter: Stephen Hemminger Date: Friday, June 13 2025 00:34:26 DPDK git baseline: Repo:dpdk Branch: master CommitID:dbeb8ae8d09387bd525353f4a5aa6ec152cddffa 154414-154415 --> testing pass Upstream job id: Windows-Compile-DPDK-Native#29010 Test environment and result as below: +---------------------+-------------------+-------------------------+--------------------+----------------------+ | Environment | dpdk_msvc_compile | dpdk_llvm_clang_compile | dpdk_meson_compile | dpdk_mingw64_compile | +=====================+===================+=========================+====================+======================+ | Windows Server 2022 | PASS | PASS | SKIPPED | PASS | +---------------------+-------------------+-------------------------+--------------------+----------------------+ | FreeBSD 14.2 | SKIPPED | SKIPPED | PASS | SKIPPED | +---------------------+-------------------+-------------------------+--------------------+----------------------+ Windows Server 2022 Kernel: 10.0.20348.2031 Compiler: clang 15.0.7, gcc 14.1.0 (MinGW), and MSVC VS 19.39.33521 FreeBSD 14.2 Kernel: 14.2-RELEASE Compiler: clang 18.1.6 To view detailed results, visit: https://lab.dpdk.org/results/dashboard/patchsets/33406/ UNH-IOL DPDK Community Lab To manage your email subscriptions, visit: https://lab.dpdk.org/results/dashboard/preferences/subscriptions/