From mboxrd@z Thu Jan 1 00:00:00 1970 Return-Path: Received: from mails.dpdk.org (mails.dpdk.org [217.70.189.124]) by inbox.dpdk.org (Postfix) with ESMTP id E3910468E6 for ; Fri, 13 Jun 2025 04:57:11 +0200 (CEST) Received: from mails.dpdk.org (localhost [127.0.0.1]) by mails.dpdk.org (Postfix) with ESMTP id D7931402E6; Fri, 13 Jun 2025 04:57:11 +0200 (CEST) Received: from mail-io1-f97.google.com (mail-io1-f97.google.com [209.85.166.97]) by mails.dpdk.org (Postfix) with ESMTP id 4A2D4402E6 for ; Fri, 13 Jun 2025 04:57:11 +0200 (CEST) Received: by mail-io1-f97.google.com with SMTP id ca18e2360f4ac-86d00ae076dso90334739f.0 for ; Thu, 12 Jun 2025 19:57:11 -0700 (PDT) DKIM-Signature: v=1; a=rsa-sha256; c=relaxed/relaxed; d=iol.unh.edu; s=unh-iol; t=1749783430; x=1750388230; darn=dpdk.org; h=references:in-reply-to:cc:to:from:subject:message-id:date:from:to :cc:subject:date:message-id:reply-to; bh=16ZDWtCPQyT1c5oh5g1Nh8QUZsyYWcXjwLcllbZMxXU=; b=SVEqWBDlsgHfZgdvSfgl5SQ1Zeh/GjfMoambb5RshQT/h+f0KE9VgGDqLFnSThlIbw brLUwWROgoppd2nXXGLUF/Rn+rpJupdQT6//QzU8VkNn5TDZAoXoe6NiUH3fyOgJpFB5 yknIS151sLs7IEP9Ivv8SFpElgaKj/lRzdkTc= X-Google-DKIM-Signature: v=1; a=rsa-sha256; c=relaxed/relaxed; d=1e100.net; s=20230601; t=1749783430; x=1750388230; h=references:in-reply-to:cc:to:from:subject:message-id:date :x-gm-message-state:from:to:cc:subject:date:message-id:reply-to; bh=16ZDWtCPQyT1c5oh5g1Nh8QUZsyYWcXjwLcllbZMxXU=; b=of4qqYpDDIl3lVUosDYxEumJxo4yXxQAo19SpgB0ZDUCkjXs1lYweh/z5qQWyBk35F BzFL2e/iPI3m+sBBzPaEylaURrjs8+pRFU2VX0SXhpfqFuRXMFCEy5nCKFdOCiUetuNV 6J+e+7QqLSRvGViTgRLr4qsIKZMcOl1SKgqNDng4X0r1UFsjIiWbmunXSAPGq9yPLeDG Qzko8opbyMLD2eOyacSSFm7Mn8rhirVwHwLtnvbFXPZPhoGSeNrKEAyGn0lnpzlfLq02 CKiooSz5R1+UzGIdp8c2FA4qBd2lDSG6JLs1P3GOPZ/0C8og4CQcIms4o7Zxh5lLptIN KGwA== X-Gm-Message-State: AOJu0YwRtidrRouPL262agTHnEqOKpNbv4Vw0uiXTh3izRU727Z4AYcb BkxeZ93hr1ZdjBo5NYY2OAj5kuloiwvpl+AV2QjhE6mcn4rOn1qZhebDCGrw8aoX0SUOhfTaPg/ JTDC4ymMQAXkfgdpI/Zz2tnpTCcNWc0kZrI+Bnes81w9/NCXjnSsX1YCmAz3U X-Gm-Gg: ASbGncsd27x0v23eDzjJjof6xeMeRjkkxyxgs6c67CWcdoKhkDtnDjGcIXgKAGF/Y1A NzEa6d171TPhclPjaVeZHkNe1X595BE9rgHOHSmbcdtzHFqecNIt9IWBVuwhRKXrQJZMB2ted9/ C4NOl0l/FtcJs/rIY/tiBu/XT8vaLca+RZk6McoSXKHKOCjXwQ97OuZLyjRDEqh84QmTt5//Zkn b/VJ5pMb3ThptdOhzQn23nwA6IkK8Xk3WqREaFBGfZmn86FCAu4n25XsgA9frAPDYpAzrbOdKrP qez7NyJ3HHzzdIHeZ8P1YOa/zvaTzhgobP8ng6iZT3SYEpk= X-Google-Smtp-Source: AGHT+IElHWTBj/LJNAAFa0f0GsgyM1b8XJHrhph/lhYsA60zdhVidZS9152xAE6BSOGlrfPM+9RGw67XCJxZ X-Received: by 2002:a6b:7411:0:b0:873:1e91:210e with SMTP id ca18e2360f4ac-875d54f45d3mr65244339f.4.1749783430636; Thu, 12 Jun 2025 19:57:10 -0700 (PDT) Received: from postal.iol.unh.edu (postal.iol.unh.edu. [2606:4100:3880:1234::84]) by smtp-relay.gmail.com with ESMTPS id 8926c6da1cb9f-50149c5fd20sm25193173.41.2025.06.12.19.57.10 (version=TLS1_2 cipher=ECDHE-ECDSA-AES128-GCM-SHA256 bits=128/128); Thu, 12 Jun 2025 19:57:10 -0700 (PDT) X-Relaying-Domain: iol.unh.edu Date: Thu, 12 Jun 2025 19:57:10 -0700 (PDT) Message-ID: <684b9386.050a0220.11e9f.12f6SMTPIN_ADDED_MISSING@mx.google.com> Received: from [172.17.0.3] (unknown [172.18.0.75]) by postal.iol.unh.edu (Postfix) with ESMTP id 26FCF6051830; Thu, 12 Jun 2025 22:57:10 -0400 (EDT) Subject: |SUCCESS| pw154411 [PATCH] test_bbdev: enable to be compiled on Wind From: dpdklab@iol.unh.edu To: Test Report Cc: dpdk-test-reports@iol.unh.edu In-Reply-To: <1749741884-13081-1-git-send-email-andremue@linux.microsoft.com> References: <1749741884-13081-1-git-send-email-andremue@linux.microsoft.com> Content-Type: text/plain X-BeenThere: test-report@dpdk.org X-Mailman-Version: 2.1.29 Precedence: list List-Id: automatic DPDK test reports List-Unsubscribe: , List-Archive: List-Post: List-Help: List-Subscribe: , Errors-To: test-report-bounces@dpdk.org Test-Label: iol-compile-arm64-testing Test-Status: SUCCESS http://dpdk.org/patch/154411 _Testing PASS_ Submitter: Andre Muezerie Date: Thursday, June 12 2025 15:24:43 DPDK git baseline: Repo:dpdk Branch: master CommitID:dbeb8ae8d09387bd525353f4a5aa6ec152cddffa 154411 --> testing pass Upstream job id: Generic-DPDK-Compile-Meson#397003 Test environment and result as below: +------------------------------+--------------------+ | Environment | dpdk_meson_compile | +==============================+====================+ | Red Hat Enterprise Linux 9.5 | PASS | +------------------------------+--------------------+ | Ubuntu 20.04 | PASS | +------------------------------+--------------------+ | Debian GNU/Linux 12 | PASS | +------------------------------+--------------------+ | Fedora 40 (ARM) | PASS | +------------------------------+--------------------+ | Fedora 40 (ARM Clang) | PASS | +------------------------------+--------------------+ | Fedora 41 (ARM) | PASS | +------------------------------+--------------------+ | Fedora 41 (ARM Clang) | PASS | +------------------------------+--------------------+ | Ubuntu 22.04 | PASS | +------------------------------+--------------------+ | Ubuntu 24.04 | PASS | +------------------------------+--------------------+ | CentOS Stream 10 (ARM) | PASS | +------------------------------+--------------------+ | CentOS Stream 9 (ARM) | PASS | +------------------------------+--------------------+ Red Hat Enterprise Linux 9.5 Kernel: 5.4 Compiler: gcc gcc (GCC) 11.5.0 20240719 (Red Hat 11.5.0-2) Ubuntu 20.04 Kernel: 5.15 Compiler: aarch64-linux-gnu-gcc gcc (Ubuntu 9.4.0-1ubuntu1~20.04.2) 9.4.0 Debian GNU/Linux 12 Kernel: 5.4 Compiler: gcc gcc (Debian 12.2.0-14) 12.2.0 Fedora 40 (ARM) Kernel: Depends on container host Compiler: gcc 14.2.1 20240912 (Red Hat 14.2.1-3) Fedora 40 (ARM Clang) Kernel: Depends on container host Compiler: clang 18.1.8 (Fedora 18.1.8-1.fc40) Fedora 41 (ARM) Kernel: Depends on container host Compiler: gcc 14.2.1 20240912 (Red Hat 14.2.1-3) Fedora 41 (ARM Clang) Kernel: Depends on container host Compiler: clang 19.1.5 (Fedora 19.1.5-1.fc41) Ubuntu 22.04 Kernel: 5.4 Compiler: gcc gcc (Ubuntu 11.4.0-1ubuntu1~22.04) 11.4.0 Ubuntu 24.04 Kernel: 5.4 Compiler: gcc gcc (Ubuntu 13.3.0-6ubuntu2~24.04) 13.3.0 CentOS Stream 10 (ARM) Kernel: Depends on container host Compiler: gcc 14.2.1 20241104 (Red Hat 14.2.1-6) CentOS Stream 9 (ARM) Kernel: Depends on container host Compiler: gcc 11.5.0 20240719 (Red Hat 11.5.0-2) To view detailed results, visit: https://lab.dpdk.org/results/dashboard/patchsets/33403/ UNH-IOL DPDK Community Lab To manage your email subscriptions, visit: https://lab.dpdk.org/results/dashboard/preferences/subscriptions/