From mboxrd@z Thu Jan 1 00:00:00 1970 Return-Path: Received: from mails.dpdk.org (mails.dpdk.org [217.70.189.124]) by inbox.dpdk.org (Postfix) with ESMTP id 0427B468ED for ; Fri, 13 Jun 2025 13:47:14 +0200 (CEST) Received: from mails.dpdk.org (localhost [127.0.0.1]) by mails.dpdk.org (Postfix) with ESMTP id F1CAC42EC3; Fri, 13 Jun 2025 13:47:13 +0200 (CEST) Received: from mail-qv1-f100.google.com (mail-qv1-f100.google.com [209.85.219.100]) by mails.dpdk.org (Postfix) with ESMTP id B3E4642EC3 for ; Fri, 13 Jun 2025 13:47:12 +0200 (CEST) Received: by mail-qv1-f100.google.com with SMTP id 6a1803df08f44-6fae04a3795so20961876d6.3 for ; Fri, 13 Jun 2025 04:47:12 -0700 (PDT) DKIM-Signature: v=1; a=rsa-sha256; c=relaxed/relaxed; d=iol.unh.edu; s=unh-iol; t=1749815232; x=1750420032; darn=dpdk.org; h=references:in-reply-to:cc:to:from:subject:message-id:date:from:to :cc:subject:date:message-id:reply-to; bh=7/pCLO/nxEx6GxuvtMHf3WBfOp+UgM1B0b47xffpKMI=; b=XCagS65qWO/TJdcfeX5yttZSbbUKyt+0/R+aYpP9fWCxZEgEGMy4OU1iqQIxjwylJE /aj6oNr+Z3mtQY7o6mJZ5gi7Xz1St7pmx8LU65T1EweEAT67ol1Wp+X1z3utz+ivQxir QRpYbvu6Au4+Pcq/pUFT/V72VDm9MRZKqZ4BI= X-Google-DKIM-Signature: v=1; a=rsa-sha256; c=relaxed/relaxed; d=1e100.net; s=20230601; t=1749815232; x=1750420032; h=references:in-reply-to:cc:to:from:subject:message-id:date :x-gm-message-state:from:to:cc:subject:date:message-id:reply-to; bh=7/pCLO/nxEx6GxuvtMHf3WBfOp+UgM1B0b47xffpKMI=; b=sMLBjR0br0Re+LAAXS5Ig34JAg1AS2gS6JI9qXKekYZ1XF/aUyo8QMBOB7BLet26iO KsORdGyBvULnKYFZdAm9fgA4l0tYgouX4Cy6e/5PITzVAMuccR2myIrQT0Dk6blZPMFN CYJBK3QaOWXYhiXdU2/DN1Fxzf9wrZ1hxC1bR5malcP39cvTx1Qk2gJsEmkoMHFmZZv1 fFUTA2zJRBCh1J+QeeIUSr5IAXJgbjcZXB+nAQMGGgzbIWPGurnn1/A2djVEOE15GuUf V763MkvUheU4QpohEc0GH2j0S5l8YxNwqq3LfpeIHDZ5JRD14ne6B1+FS6+B7uCo91LK N8dg== X-Gm-Message-State: AOJu0Yz2tFA7xZRX6wyNi2TPm57Cnw20HgfwdSBqVg1t6y5Os74pezVv kZefj5VumjpQqkl3fZy2MwptXIbLznHUJ8nLPKoKpyLp2hqoxoxfSgR2Obkkc4akijYpjrTDkDH L1GtRNwKala3uP610M1gi/SijFiijCBjzYiudN113Loem X-Gm-Gg: ASbGncsz3bWbVEyo/TV3RPdo8K7gxWt1ewvJHYjcz3lbBk5N2xkL5crQIQkWCh7FenD KyjV8uYAj14Zip9z0VScSisaZpu1K6f3+T3Cjh+kZCocbd6C9p6bRs7KeNSmXkUgiNGjt5ru1lu 2eDa0E8BTANmnhigk7/IDYB68rr/nXV0fTYEdeaI8EGrZSvCxWuCM8+tjw1thZ0NZ0mQu2WfZo7 x/JEWtvpzSoEi1vJp7KmtkoyTEnj10IRzo4REY0yEVHeVUPT0INjDX+qWnISVE46tt/OBl0sb9M DOAmNiqCV3kSGOnWkdYvXbIUQhBEzKD4tqOjEQ+etzbBUTL5fGRaIIfIFvXxOGOHuaor3g== X-Google-Smtp-Source: AGHT+IHE/0FPiUDljwSzmhpVz4vvWaQC2FTqgXGJWSxqfz7DrALJKbkDzRh8f6cWc5JNEDEV/bpQTf9d62s4 X-Received: by 2002:ad4:5aa2:0:b0:6fa:fb4f:b58e with SMTP id 6a1803df08f44-6fb3e59a959mr36206086d6.6.1749815232072; Fri, 13 Jun 2025 04:47:12 -0700 (PDT) Received: from postal.iol.unh.edu (postal.iol.unh.edu. [132.177.123.84]) by smtp-relay.gmail.com with ESMTPS id 6a1803df08f44-6fb35bed12csm1387036d6.34.2025.06.13.04.47.12 (version=TLS1_2 cipher=ECDHE-ECDSA-AES128-GCM-SHA256 bits=128/128); Fri, 13 Jun 2025 04:47:12 -0700 (PDT) X-Relaying-Domain: iol.unh.edu Date: Fri, 13 Jun 2025 04:47:12 -0700 (PDT) Message-ID: <684c0fc0.050a0220.255af1.6704SMTPIN_ADDED_MISSING@mx.google.com> Received: from [172.21.0.7] (unknown [172.18.0.240]) by postal.iol.unh.edu (Postfix) with ESMTP id C24936051830; Fri, 13 Jun 2025 07:47:11 -0400 (EDT) Subject: |SUCCESS| pw154427 [PATCH] common/mlx5: fix dependency detection on From: dpdklab@iol.unh.edu To: Test Report Cc: dpdk-test-reports@iol.unh.edu In-Reply-To: <20250613081018.2790825-1-david.marchand@redhat.com> References: <20250613081018.2790825-1-david.marchand@redhat.com> Content-Type: text/plain X-BeenThere: test-report@dpdk.org X-Mailman-Version: 2.1.29 Precedence: list List-Id: automatic DPDK test reports List-Unsubscribe: , List-Archive: List-Post: List-Help: List-Subscribe: , Errors-To: test-report-bounces@dpdk.org Test-Label: iol-abi-testing Test-Status: SUCCESS http://dpdk.org/patch/154427 _Testing PASS_ Submitter: David Marchand Date: Friday, June 13 2025 08:10:18 DPDK git baseline: Repo:dpdk Branch: master CommitID:77ba8d12251b203a4ec69a569c2f2f07edb7b1e8 154427 --> testing pass Upstream job id: Generic-DPDK-Compile-ABI#130065 Test environment and result as below: +-------------------------------+----------+ | Environment | abi_test | +===============================+==========+ | CentOS Stream 9 | PASS | +-------------------------------+----------+ | CentOS Stream 10 | PASS | +-------------------------------+----------+ | Debian GNU/Linux 12 | PASS | +-------------------------------+----------+ | Fedora 40 (Clang) | PASS | +-------------------------------+----------+ | Fedora 40 | PASS | +-------------------------------+----------+ | Fedora 41 (Clang) | PASS | +-------------------------------+----------+ | openSUSE Leap 15.6 | PASS | +-------------------------------+----------+ | Fedora 41 | PASS | +-------------------------------+----------+ | Red Hat Enterprise Linux 8.10 | PASS | +-------------------------------+----------+ | Red Hat Enterprise Linux 9.5 | PASS | +-------------------------------+----------+ | Ubuntu 22.04 | PASS | +-------------------------------+----------+ | Ubuntu 24.04 | PASS | +-------------------------------+----------+ CentOS Stream 9 Kernel: Depends on container host Compiler: gcc 11.5.0 20240719 (Red Hat 11.5.0-2) CentOS Stream 10 Kernel: Depends on container host Compiler: gcc 14.2.1 20241104 (Red Hat 14.2.1-6) Debian GNU/Linux 12 Kernel: 5.15 Compiler: gcc gcc (Debian 12.2.0-14) 12.2.0 Fedora 40 (Clang) Kernel: Depends on container host Compiler: clang 18.1.8 (Fedora 18.1.8-1.fc40) Fedora 40 Kernel: Depends on container host Compiler: gcc 14.2.1 20240912 (Red Hat 14.2.1-3) Fedora 41 (Clang) Kernel: Depends on container host Compiler: clang 19.1.5 (Fedora 19.1.5-1.fc41) openSUSE Leap 15.6 Kernel: 5.15 Compiler: gcc gcc (SUSE Linux) 7.5.0 Fedora 41 Kernel: Depends on container host Compiler: gcc 14.2.1 20240912 (Red Hat 14.2.1-3) Red Hat Enterprise Linux 8.10 Kernel: 5.15 Compiler: gcc gcc (GCC) 8.5.0 20210514 (Red Hat 8.5.0-22) Red Hat Enterprise Linux 9.5 Kernel: 5.15 Compiler: gcc gcc (GCC) 11.5.0 20240719 (Red Hat 11.5.0-2) Ubuntu 22.04 Kernel: 5.15 Compiler: gcc gcc (Ubuntu 11.4.0-1ubuntu1~22.04) 11.4.0 Ubuntu 24.04 Kernel: 5.15 Compiler: gcc gcc (Ubuntu 13.3.0-6ubuntu2~24.04) 13.3.0 To view detailed results, visit: https://lab.dpdk.org/results/dashboard/patchsets/33408/ UNH-IOL DPDK Community Lab To manage your email subscriptions, visit: https://lab.dpdk.org/results/dashboard/preferences/subscriptions/