From mboxrd@z Thu Jan  1 00:00:00 1970
Return-Path: <test-report-bounces@dpdk.org>
Received: from mails.dpdk.org (mails.dpdk.org [217.70.189.124])
	by inbox.dpdk.org (Postfix) with ESMTP id AAB9F468ED
	for <public@inbox.dpdk.org>; Fri, 13 Jun 2025 14:46:58 +0200 (CEST)
Received: from mails.dpdk.org (localhost [127.0.0.1])
	by mails.dpdk.org (Postfix) with ESMTP id 7D52442EC3;
	Fri, 13 Jun 2025 14:46:58 +0200 (CEST)
Received: from mail-yw1-f226.google.com (mail-yw1-f226.google.com
 [209.85.128.226])
 by mails.dpdk.org (Postfix) with ESMTP id 9D73742EC3
 for <test-report@dpdk.org>; Fri, 13 Jun 2025 14:46:57 +0200 (CEST)
Received: by mail-yw1-f226.google.com with SMTP id
 00721157ae682-70e2b601a6bso21362867b3.0
 for <test-report@dpdk.org>; Fri, 13 Jun 2025 05:46:57 -0700 (PDT)
DKIM-Signature: v=1; a=rsa-sha256; c=relaxed/relaxed;
 d=iol.unh.edu; s=unh-iol; t=1749818817; x=1750423617; darn=dpdk.org;
 h=references:in-reply-to:cc:to:from:subject:message-id:date:from:to
 :cc:subject:date:message-id:reply-to;
 bh=H0x2Eparoqy+DYi6R5SkGOy14C/xI0RaPlqUWlOKNi4=;
 b=XnUFWlGv1rX9LmGnG65fyWPY3u9ducoQjkgeGhW19Lq77nCNGnNSenDErhJgQuPwUj
 f5Fp8zxnw5h/oXyiyKKameNpcLEhiDfmPMSv+O2BE4RB0iB54Zz0Mv0RA1uhRwCscQZW
 w0+WtPYLAhmCkRR9G6lSDs8adJclB6rASsJM4=
X-Google-DKIM-Signature: v=1; a=rsa-sha256; c=relaxed/relaxed;
 d=1e100.net; s=20230601; t=1749818817; x=1750423617;
 h=references:in-reply-to:cc:to:from:subject:message-id:date
 :x-gm-message-state:from:to:cc:subject:date:message-id:reply-to;
 bh=H0x2Eparoqy+DYi6R5SkGOy14C/xI0RaPlqUWlOKNi4=;
 b=Rf0n2NnrV4ZykA/FU/Yq2hpQrkOZ5s1CBXkIPkxdKSZUvQv9KntsTMTRSmNd2ebvb8
 dxF55RiUYxU74bAM9WmOxyRj8wnmf8GAnypRokdqfXiRklcghA3kDjtx1gRe5+SHtXsC
 y24Lw81ovcfit7PhqurW1kF2w3puzfIf2W/+HSaUyybanngdevtjJOmbC3pH9+/HFOtE
 kxwH96vZBhs/bbgBFJi8QX3HxvBhz3AMzoEV1kFnhlnF6AbQRPtoLAYrbOgWFs2461dj
 dGovdskKjjyLpHvSbzW6tYjmNefxDYDtew40Pf0Un1zlpsg2eZhN02NbcjZIC2RDoCs0
 OR3A==
X-Gm-Message-State: AOJu0YzO5odvXUrdh5yWaApPq6bYNoM2YqXo/A+lqzr9SZP/foNX54AK
 Kxf2l3oYYnXbQN5Nt4m1+3GXqXwlVZCPKB89/SoD+V1BCyydBxkPXnioQWKid6JX+qLAhegD7lA
 RY9EsTQV1jLj+RgJkyRPyIhgMSwWCWVWxvmwYLQNGoO9oxg1EG7CvaLMQnl8x
X-Gm-Gg: ASbGncvzyAJ6qORN0z2eAruh4CBulMSYl90wAbJuuJhJpxUlgv1BvhV9Zxr33B2cji1
 RHzolgZOIh9xRuz/me6rNk9IrR3HXD0t6NValLBC3hFadelvLKYOxxTCjKFpHoscyHLoxMlky/j
 lCa3pC2OpYce3TDI51BewGltBTdGEML9QTcMU+CDAIW/cw/uaPyYq7t+Ct/qzyKAya3A2mpyzCX
 NVp5KdLFa8fSlLBmUiCIZymIaD7VV5fBbs3tRc8CfthgZU02hmtu+v8C41Iqb8qiNa6QHq+sBrh
 EoQnvbgU0okzaqEcpf020OVrVzcrLVaVslY/cwibv2URRz8=
X-Google-Smtp-Source: AGHT+IEbnxQ65NbtQvlg1hPMBGjZfiUzayrqV+nxN4ysup1WsIkFaWld10F5rfmy+D2LZJSpOhwCOUFl3EtF
X-Received: by 2002:a05:690c:6106:b0:710:f2a1:fa6 with SMTP id
 00721157ae682-7116376182fmr41467847b3.29.1749818816921; 
 Fri, 13 Jun 2025 05:46:56 -0700 (PDT)
Received: from postal.iol.unh.edu (postal.iol.unh.edu.
 [2606:4100:3880:1234::84]) by smtp-relay.gmail.com with ESMTPS id
 00721157ae682-71152a1cc92sm555877b3.51.2025.06.13.05.46.56
 (version=TLS1_2 cipher=ECDHE-ECDSA-AES128-GCM-SHA256 bits=128/128);
 Fri, 13 Jun 2025 05:46:56 -0700 (PDT)
X-Relaying-Domain: iol.unh.edu
Date: Fri, 13 Jun 2025 05:46:56 -0700 (PDT)
Message-ID: <684c1dc0.050a0220.16b32c.289eSMTPIN_ADDED_MISSING@mx.google.com>
Received: from [172.21.0.5] (unknown [172.18.0.240])
 by postal.iol.unh.edu (Postfix) with ESMTP id 9456A604D420;
 Fri, 13 Jun 2025 08:46:56 -0400 (EDT)
Subject: |SUCCESS| pw154445 [PATCH] [v1] app/test-crypto-perf: remove unsuppo
From: dpdklab@iol.unh.edu
To: Test Report <test-report@dpdk.org>
Cc: dpdk-test-reports@iol.unh.edu
In-Reply-To: <20250613110001.350767-1-kai.ji@intel.com>
References: <20250613110001.350767-1-kai.ji@intel.com>
Content-Type: text/plain
X-BeenThere: test-report@dpdk.org
X-Mailman-Version: 2.1.29
Precedence: list
List-Id: automatic DPDK test reports <test-report.dpdk.org>
List-Unsubscribe: <https://mails.dpdk.org/options/test-report>,
 <mailto:test-report-request@dpdk.org?subject=unsubscribe>
List-Archive: <http://mails.dpdk.org/archives/test-report/>
List-Post: <mailto:test-report@dpdk.org>
List-Help: <mailto:test-report-request@dpdk.org?subject=help>
List-Subscribe: <https://mails.dpdk.org/listinfo/test-report>,
 <mailto:test-report-request@dpdk.org?subject=subscribe>
Errors-To: test-report-bounces@dpdk.org

Test-Label: iol-compile-amd64-testing
Test-Status: SUCCESS
http://dpdk.org/patch/154445

_Testing PASS_

Submitter: Kai Ji <kai.ji@intel.com>
Date: Friday, June 13 2025 11:00:01 
DPDK git baseline: Repo:dpdk
  Branch: master
  CommitID:dbeb8ae8d09387bd525353f4a5aa6ec152cddffa

154445 --> testing pass

Upstream job id: Windows-Compile-DPDK-Native#29028

Test environment and result as below:

+---------------------+-------------------------+-------------------+--------------------+----------------------+
|     Environment     | dpdk_llvm_clang_compile | dpdk_msvc_compile | dpdk_meson_compile | dpdk_mingw64_compile |
+=====================+=========================+===================+====================+======================+
| Windows Server 2022 | PASS                    | PASS              | SKIPPED            | PASS                 |
+---------------------+-------------------------+-------------------+--------------------+----------------------+
| FreeBSD 14.2        | SKIPPED                 | SKIPPED           | PASS               | SKIPPED              |
+---------------------+-------------------------+-------------------+--------------------+----------------------+


Windows Server 2022
	Kernel: 10.0.20348.2031
	Compiler: clang 15.0.7, gcc 14.1.0 (MinGW), and MSVC VS 19.39.33521

FreeBSD 14.2
	Kernel: 14.2-RELEASE
	Compiler: clang 18.1.6

To view detailed results, visit:
https://lab.dpdk.org/results/dashboard/patchsets/33410/

UNH-IOL DPDK Community Lab

To manage your email subscriptions, visit: 
https://lab.dpdk.org/results/dashboard/preferences/subscriptions/