From mboxrd@z Thu Jan  1 00:00:00 1970
Return-Path: <test-report-bounces@dpdk.org>
Received: from mails.dpdk.org (mails.dpdk.org [217.70.189.124])
	by inbox.dpdk.org (Postfix) with ESMTP id 54FE8468F0
	for <public@inbox.dpdk.org>; Fri, 13 Jun 2025 19:32:55 +0200 (CEST)
Received: from mails.dpdk.org (localhost [127.0.0.1])
	by mails.dpdk.org (Postfix) with ESMTP id 50127402E1;
	Fri, 13 Jun 2025 19:32:55 +0200 (CEST)
Received: from mail-pj1-f99.google.com (mail-pj1-f99.google.com
 [209.85.216.99]) by mails.dpdk.org (Postfix) with ESMTP id EB8D2402E1
 for <test-report@dpdk.org>; Fri, 13 Jun 2025 19:32:53 +0200 (CEST)
Received: by mail-pj1-f99.google.com with SMTP id
 98e67ed59e1d1-3138e64b42aso2662044a91.0
 for <test-report@dpdk.org>; Fri, 13 Jun 2025 10:32:53 -0700 (PDT)
DKIM-Signature: v=1; a=rsa-sha256; c=relaxed/relaxed;
 d=iol.unh.edu; s=unh-iol; t=1749835973; x=1750440773; darn=dpdk.org;
 h=references:in-reply-to:cc:to:from:subject:message-id:date:from:to
 :cc:subject:date:message-id:reply-to;
 bh=s32TpYRuhnau2uFm63c0MYIoMmtaMXAH7CqpJSMU3P4=;
 b=UccwO2XAybQRN/BHqZB3Dx9ULom3GmLj7S1P8GHeXjPJ2J1AMiO7Cu7JN9PLGX3qJm
 qOEWJvXiy/HD2KxkcTeDy3aQX74gAkyH6bazHDnzZzfSMVFb0C/2Fa4UJotXto4icF/p
 7zPsWOAwia2CJTePQ8kf7xI4oapMtldAEe1JQ=
X-Google-DKIM-Signature: v=1; a=rsa-sha256; c=relaxed/relaxed;
 d=1e100.net; s=20230601; t=1749835973; x=1750440773;
 h=references:in-reply-to:cc:to:from:subject:message-id:date
 :x-gm-message-state:from:to:cc:subject:date:message-id:reply-to;
 bh=s32TpYRuhnau2uFm63c0MYIoMmtaMXAH7CqpJSMU3P4=;
 b=GrpFP2h6HszaFXXZQgPEkSAlrnBbWZwqGB0hPEiXPCi48m6apcHyEoOEDRxsHS2IAZ
 5f09ijZCcZcs5gQ5Vo+Sx82X6IRddHBsoABwzoWTYBfPs9Ctz5/3UCORyVB/3E4k142a
 Z1Xa9ZDdhHmsH7rPoRbTaVGZNHwrbVsX+mvcdSHi7mRlTISMqYwq1/xllOp4a0XM3jLT
 QCekivlO2mEGXJDVXlXnn8wU7wKSM7/kM6OblTjUnF0UtUfe2dkr5EwnF022V7jpJnXV
 pNMeXGNmq8iF6Y/q3HHrPgybYfT27RBqldGyUB9V8Yj1oZqdET5FLlKV1NnzVq4Yf7zr
 rGJQ==
X-Gm-Message-State: AOJu0YwX0jo+8P7fPSzcxtAI65tZnLl7u+S+HWabyHe7FB+ugCUnIEAD
 kFWSn0qdzfvT9hHo2JAHNZOb13w3ok46Aqz0NymIkWeXyvT2FFVPrcm2pkqsspoHJ3CnBIF6NxI
 aicVyBQj2p6z0vUOGpO3frf3PcUOCmHSt/ashOCA5YY8IOCVpbrnt3MSoSFOa
X-Gm-Gg: ASbGncs5YrQVu9QPeygWb/7zuf+40dck7ouIkrnVLs3Y2NlTKTptOJlAs/jQNEvPtEB
 btGB8hgSo08uX8xXlqPm3vePqpgtY37i4fCXw0ECGA0iEgy6p20bOe26dDJYRw2WbKFyeFjumAc
 XKRspvVXfUAErXtNhVPEHar8m8LZSP1uIZem0ycpHUgOeTs4Ay8OFCoCSQ7rPAt5ZXZ/Rnt7pbK
 itu32X1uicV/wIARCnq4tP227vgSiHj/SpXRSturwT5UiN7e5vnN2PG48lq3Fq2otjvcSVTf6JE
 XD75bjCVTc6eJIupo1Ker0pLy7QiS+SbKOzZd0xeMDXJQA8=
X-Google-Smtp-Source: AGHT+IEgsFCNwBBbAKWI3L4LR1sNXg012YHvMhDoRd2/4LoC5l+QJShg99wpDjINS8TyUMpLmzHoauIej3SO
X-Received: by 2002:a17:90b:5104:b0:311:ad7f:329c with SMTP id
 98e67ed59e1d1-313f1ce5cacmr851713a91.18.1749835972933; 
 Fri, 13 Jun 2025 10:32:52 -0700 (PDT)
Received: from postal.iol.unh.edu (postal.iol.unh.edu.
 [2606:4100:3880:1234::84]) by smtp-relay.gmail.com with ESMTPS id
 98e67ed59e1d1-313c1b4fb0bsm197093a91.15.2025.06.13.10.32.52
 (version=TLS1_2 cipher=ECDHE-ECDSA-AES128-GCM-SHA256 bits=128/128);
 Fri, 13 Jun 2025 10:32:52 -0700 (PDT)
X-Relaying-Domain: iol.unh.edu
Date: Fri, 13 Jun 2025 10:32:52 -0700 (PDT)
Message-ID: <684c60c4.170a0220.196739.9186SMTPIN_ADDED_MISSING@mx.google.com>
Received: from [172.17.0.3] (unknown [172.18.0.74])
 by postal.iol.unh.edu (Postfix) with ESMTP id 1C67D6050A62;
 Fri, 13 Jun 2025 13:32:52 -0400 (EDT)
Subject: |WARNING| pw154446 [PATCH] buildtools: allow a different minimum mes
From: dpdklab@iol.unh.edu
To: Test Report <test-report@dpdk.org>
Cc: dpdk-test-reports@iol.unh.edu
In-Reply-To: <1749831278-8286-1-git-send-email-andremue@linux.microsoft.com>
References: <1749831278-8286-1-git-send-email-andremue@linux.microsoft.com>
Content-Type: text/plain
X-BeenThere: test-report@dpdk.org
X-Mailman-Version: 2.1.29
Precedence: list
List-Id: automatic DPDK test reports <test-report.dpdk.org>
List-Unsubscribe: <https://mails.dpdk.org/options/test-report>,
 <mailto:test-report-request@dpdk.org?subject=unsubscribe>
List-Archive: <http://mails.dpdk.org/archives/test-report/>
List-Post: <mailto:test-report@dpdk.org>
List-Help: <mailto:test-report-request@dpdk.org?subject=help>
List-Subscribe: <https://mails.dpdk.org/listinfo/test-report>,
 <mailto:test-report-request@dpdk.org?subject=subscribe>
Errors-To: test-report-bounces@dpdk.org

Test-Label: iol-compile-amd64-testing
Test-Status: WARNING
http://dpdk.org/patch/154446

_Testing issues_

Submitter: Andre Muezerie <andremue@linux.microsoft.com>
Date: Friday, June 13 2025 16:14:38 
DPDK git baseline: Repo:dpdk
  Branch: master
  CommitID:794cce6797bbec2bd290573cfafe71a5a41ea9d5

154446 --> testing issues

Upstream job id: Generic-DPDK-Compile-Meson#397416

Test environment and result as below:

+-------------------------------+--------------------+-------------------+------------------+-------------------------+-------------------+----------------------+
|          Environment          | dpdk_meson_compile | dpdk_compile_spdk | dpdk_compile_ovs | dpdk_llvm_clang_compile | dpdk_msvc_compile | dpdk_mingw64_compile |
+===============================+====================+===================+==================+=========================+===================+======================+
| CentOS Stream 9               | PASS               | PASS              | SKIPPED          | SKIPPED                 | SKIPPED           | SKIPPED              |
+-------------------------------+--------------------+-------------------+------------------+-------------------------+-------------------+----------------------+
| CentOS Stream 10              | PASS               | SKIPPED           | SKIPPED          | SKIPPED                 | SKIPPED           | SKIPPED              |
+-------------------------------+--------------------+-------------------+------------------+-------------------------+-------------------+----------------------+
| Fedora 40 (Clang)             | PASS               | WARN              | SKIPPED          | SKIPPED                 | SKIPPED           | SKIPPED              |
+-------------------------------+--------------------+-------------------+------------------+-------------------------+-------------------+----------------------+
| Debian GNU/Linux 12           | PASS               | PASS              | SKIPPED          | SKIPPED                 | SKIPPED           | SKIPPED              |
+-------------------------------+--------------------+-------------------+------------------+-------------------------+-------------------+----------------------+
| Fedora 41                     | PASS               | PASS              | PASS             | SKIPPED                 | SKIPPED           | SKIPPED              |
+-------------------------------+--------------------+-------------------+------------------+-------------------------+-------------------+----------------------+
| Fedora 40                     | PASS               | PASS              | SKIPPED          | SKIPPED                 | SKIPPED           | SKIPPED              |
+-------------------------------+--------------------+-------------------+------------------+-------------------------+-------------------+----------------------+
| Fedora 41 (Clang)             | PEND               | PEND              | PEND             | SKIPPED                 | SKIPPED           | SKIPPED              |
+-------------------------------+--------------------+-------------------+------------------+-------------------------+-------------------+----------------------+
| openSUSE Leap 15.6            | PEND               | SKIPPED           | SKIPPED          | SKIPPED                 | SKIPPED           | SKIPPED              |
+-------------------------------+--------------------+-------------------+------------------+-------------------------+-------------------+----------------------+
| Red Hat Enterprise Linux 8.10 | PASS               | SKIPPED           | SKIPPED          | SKIPPED                 | SKIPPED           | SKIPPED              |
+-------------------------------+--------------------+-------------------+------------------+-------------------------+-------------------+----------------------+
| Red Hat Enterprise Linux 9.5  | PASS               | SKIPPED           | SKIPPED          | SKIPPED                 | SKIPPED           | SKIPPED              |
+-------------------------------+--------------------+-------------------+------------------+-------------------------+-------------------+----------------------+
| Ubuntu 20.04                  | PASS               | SKIPPED           | SKIPPED          | SKIPPED                 | SKIPPED           | SKIPPED              |
+-------------------------------+--------------------+-------------------+------------------+-------------------------+-------------------+----------------------+
| Ubuntu 22.04                  | PASS               | PASS              | SKIPPED          | SKIPPED                 | SKIPPED           | SKIPPED              |
+-------------------------------+--------------------+-------------------+------------------+-------------------------+-------------------+----------------------+
| Ubuntu 24.04                  | PEND               | PEND              | PEND             | SKIPPED                 | SKIPPED           | SKIPPED              |
+-------------------------------+--------------------+-------------------+------------------+-------------------------+-------------------+----------------------+
| Alpine                        | PASS               | SKIPPED           | SKIPPED          | SKIPPED                 | SKIPPED           | SKIPPED              |
+-------------------------------+--------------------+-------------------+------------------+-------------------------+-------------------+----------------------+
| FreeBSD 14.2                  | PASS               | SKIPPED           | SKIPPED          | SKIPPED                 | SKIPPED           | SKIPPED              |
+-------------------------------+--------------------+-------------------+------------------+-------------------------+-------------------+----------------------+
| Windows Server 2022           | SKIPPED            | SKIPPED           | SKIPPED          | PASS                    | PASS              | PASS                 |
+-------------------------------+--------------------+-------------------+------------------+-------------------------+-------------------+----------------------+

==== 20 line log output for Fedora 40 (Clang) (dpdk_compile_spdk): ====
 --- Failed to get log output --- 
==== End log output ====

CentOS Stream 9
	Kernel: Depends on container host
	Compiler: gcc 11.5.0 20240719 (Red Hat 11.5.0-2)

CentOS Stream 10
	Kernel: Depends on container host
	Compiler: gcc 14.2.1 20241104 (Red Hat 14.2.1-6)

Fedora 40 (Clang)
	Kernel: Depends on container host
	Compiler: clang 18.1.8 (Fedora 18.1.8-1.fc40)

Debian GNU/Linux 12
	Kernel: 5.15
	Compiler: gcc gcc (Debian 12.2.0-14) 12.2.0

Fedora 41
	Kernel: Depends on container host
	Compiler: gcc 14.2.1 20240912 (Red Hat 14.2.1-3)

Fedora 40
	Kernel: Depends on container host
	Compiler: gcc 14.2.1 20240912 (Red Hat 14.2.1-3)

Fedora 41 (Clang)
	Kernel: Depends on container host
	Compiler: clang 19.1.5 (Fedora 19.1.5-1.fc41)

openSUSE Leap 15.6
	Kernel: 5.15
	Compiler: gcc gcc (SUSE Linux) 7.5.0

Red Hat Enterprise Linux 8.10
	Kernel: 5.15
	Compiler: gcc gcc (GCC) 8.5.0 20210514 (Red Hat 8.5.0-22)

Red Hat Enterprise Linux 9.5
	Kernel: 5.15
	Compiler: gcc gcc (GCC) 11.5.0 20240719 (Red Hat 11.5.0-2)

Ubuntu 20.04
	Kernel: 5.15
	Compiler: gcc gcc (Ubuntu 9.4.0-1ubuntu1~20.04.2) 9.4.0

Ubuntu 22.04
	Kernel: 5.15
	Compiler: gcc gcc (Ubuntu 11.4.0-1ubuntu1~22.04) 11.4.0

Ubuntu 24.04
	Kernel: 5.15
	Compiler: gcc gcc (Ubuntu 13.3.0-6ubuntu2~24.04) 13.3.0

Alpine
	Kernel: Depends on container host
	Compiler: gcc (Alpine 14.2.0) 14.2.0

FreeBSD 14.2
	Kernel: 14.2-RELEASE
	Compiler: clang 18.1.6

Windows Server 2022
	Kernel: 10.0.20348.2031
	Compiler: clang 15.0.7, gcc 14.1.0 (MinGW), and MSVC VS 19.39.33521

To view detailed results, visit:
https://lab.dpdk.org/results/dashboard/patchsets/33411/

UNH-IOL DPDK Community Lab

To manage your email subscriptions, visit: 
https://lab.dpdk.org/results/dashboard/preferences/subscriptions/