From mboxrd@z Thu Jan 1 00:00:00 1970 Return-Path: Received: from mails.dpdk.org (mails.dpdk.org [217.70.189.124]) by inbox.dpdk.org (Postfix) with ESMTP id 4995C469ED for ; Wed, 18 Jun 2025 16:15:16 +0200 (CEST) Received: from mails.dpdk.org (localhost [127.0.0.1]) by mails.dpdk.org (Postfix) with ESMTP id 43FC5427B1; Wed, 18 Jun 2025 16:15:16 +0200 (CEST) Received: from mail-pj1-f99.google.com (mail-pj1-f99.google.com [209.85.216.99]) by mails.dpdk.org (Postfix) with ESMTP id 96B11427B1 for ; Wed, 18 Jun 2025 16:15:14 +0200 (CEST) Received: by mail-pj1-f99.google.com with SMTP id 98e67ed59e1d1-312116d75a6so5922264a91.3 for ; Wed, 18 Jun 2025 07:15:14 -0700 (PDT) DKIM-Signature: v=1; a=rsa-sha256; c=relaxed/relaxed; d=iol.unh.edu; s=unh-iol; t=1750256114; x=1750860914; darn=dpdk.org; h=references:in-reply-to:cc:to:from:subject:message-id:date:from:to :cc:subject:date:message-id:reply-to; bh=OH1e/ID5gtjOEP1RB684yl+tTQWM2dQ95lz7jgti7s8=; b=RmJ82UGaadfaA+ZhKC587yh/CVEQxUuL27xDK4J98upS//od360dl10xSD+PWRvI8P ZLZ98ax2AR7qTTfbpIEhJH2BUoddJ+ckX3J6mbZRHRdQEhin2PSfZwQ9Pd79Pq6UWMpC mfGdBhRwEOz8171zuxZOAEb1S2hr9uvn4b9hs= X-Google-DKIM-Signature: v=1; a=rsa-sha256; c=relaxed/relaxed; d=1e100.net; s=20230601; t=1750256114; x=1750860914; h=references:in-reply-to:cc:to:from:subject:message-id:date :x-gm-message-state:from:to:cc:subject:date:message-id:reply-to; bh=OH1e/ID5gtjOEP1RB684yl+tTQWM2dQ95lz7jgti7s8=; b=RxUENleh2WJbAKfN+on9ycqaGg3FLjUOVza4hK1AnOenY/PqNWdNeAJ4LkgEKLwQ/s Cb2lLGjoyBevnp6HwHYwofJfYV1eLxcuF6FQA/NcvYX833e4WmaVuTjzthJDdC/5eThe xozYIpXgCszNWHgSjgguHxR8fFsM2V4FOQJ5XaLzDzU1ZPkZWrgKSJIfLEtrvYtAMxAD jAp5yJxtfQi7kRZhseVD1USeyxI29wX2KoHts8qO8ZFLoDAMV8TzmxYVHQbIQUhUnQ1U tAdNnFrxWUqsR+T2GjSppigkCg9fAI8m/cpD+r2pOUJadl5TqeYzwbMaHryW3HGd9i5l DqCA== X-Gm-Message-State: AOJu0YySMpzsAVgH3I5E1jXbhY0OaVSi8rw8XTzdrOoF9Ioc8WkAY8ko XlsH+nI2pz++acEV9P7j73ule6DvmnQWfwhH3IaPAal7vBqsNccn00fr9tpT6kwsim5ptnPBkRx 5qAUBRSw7MntLX5jbWBEgJ/nKWjodu9bi+ptgoxHHzP2oHYM9Guhx7KEL1mwM X-Gm-Gg: ASbGnctXobyNWA/AxwUbvGrHVHSZlPPkDTMzRX/xCYdHTepL4yHGygB1GlM+NB15ztJ i9oeXRt1/Ytz9Eeh1AZvbEX0fblU9GUOm/uAPm/Yc5eUgR8Z+lrZH+yoJEucHobiHy8y9kIfT3k iWtpdefIiX39BttQgKggQCsIYIP5b+GcWs1I8geKPNLfaFAGbz4qqGbuYkUXaAda0snKJQWRZzc vvJJuco/jbTVaXK26vGivXr7K6is7279NroMHPsL55w0R2wts2Mb5YsiokW96FOssw7YyU3b99Q p/HVygOUHUYypQF1lFANy42ym9M5JG2HY2ejPCFihqOrwaM= X-Google-Smtp-Source: AGHT+IGj7+fmzqHEicW/Hr9otVI1eQvDRM+uJCju/lOnLX0vT9Roao7UMk/DbzYl/WRJVvkmUueZyqVojTYf X-Received: by 2002:a17:90b:288e:b0:312:e76f:5213 with SMTP id 98e67ed59e1d1-313f1dd3b02mr27736576a91.28.1750256113617; Wed, 18 Jun 2025 07:15:13 -0700 (PDT) Received: from postal.iol.unh.edu (postal.iol.unh.edu. [2606:4100:3880:1234::84]) by smtp-relay.gmail.com with ESMTPS id d9443c01a7336-2365de619d6sm6987535ad.112.2025.06.18.07.15.13 (version=TLS1_2 cipher=ECDHE-ECDSA-AES128-GCM-SHA256 bits=128/128); Wed, 18 Jun 2025 07:15:13 -0700 (PDT) X-Relaying-Domain: iol.unh.edu Date: Wed, 18 Jun 2025 07:15:13 -0700 (PDT) Message-ID: <6852c9f1.170a0220.21e9e2.173dSMTPIN_ADDED_MISSING@mx.google.com> Received: from [172.21.0.9] (unknown [172.18.0.240]) by postal.iol.unh.edu (Postfix) with ESMTP id CA499604D420; Wed, 18 Jun 2025 10:15:12 -0400 (EDT) Subject: |SUCCESS| pw154343 [PATCH] [v2] dts: fix deterministic doc From: dpdklab@iol.unh.edu To: Test Report Cc: dpdk-test-reports@iol.unh.edu In-Reply-To: <20250611140530.51551-1-cfamullaconrad@suse.com> References: <20250611140530.51551-1-cfamullaconrad@suse.com> Content-Type: text/plain X-BeenThere: test-report@dpdk.org X-Mailman-Version: 2.1.29 Precedence: list List-Id: automatic DPDK test reports List-Unsubscribe: , List-Archive: List-Post: List-Help: List-Subscribe: , Errors-To: test-report-bounces@dpdk.org Test-Label: iol-sample-apps-testing Test-Status: SUCCESS http://dpdk.org/patch/154343 _Testing PASS_ Submitter: Clemens Famulla-Conrad Date: Wednesday, June 11 2025 14:05:30 DPDK git baseline: Repo:dpdk Branch: master CommitID:398bb775edc5434ad94578a5e6c49fa1328acc0f 154343 --> testing pass Upstream job id: Template-DTS-Pipeline#230245 Test environment and result as below: +--------------------+----------------------+----------------------+ | Environment | compressdev_zlib_pmd | dpdk_fips_validation | +====================+======================+======================+ | Ubuntu 22.04 | PASS | SKIPPED | +--------------------+----------------------+----------------------+ | Ubuntu 22.04 (ARM) | PASS | SKIPPED | +--------------------+----------------------+----------------------+ | Ubuntu 20.04 | SKIPPED | PASS | +--------------------+----------------------+----------------------+ Ubuntu 22.04 Kernel: 5.15 Compiler: gcc gcc (Ubuntu 11.4.0-1ubuntu1~22.04) 11.4.0 Ubuntu 22.04 (ARM) Kernel: 5.15.0-97-generic Compiler: gcc gcc (Ubuntu 11.4.0-1ubuntu1~22.04) 11.4.0 Ubuntu 20.04 Kernel: 5.15 Compiler: gcc gcc (Ubuntu 9.4.0-1ubuntu1~20.04.2) 9.4.0 To view detailed results, visit: https://lab.dpdk.org/results/dashboard/patchsets/33391/ UNH-IOL DPDK Community Lab To manage your email subscriptions, visit: https://lab.dpdk.org/results/dashboard/preferences/subscriptions/