From mboxrd@z Thu Jan  1 00:00:00 1970
Return-Path: <test-report-bounces@dpdk.org>
Received: from mails.dpdk.org (mails.dpdk.org [217.70.189.124])
	by inbox.dpdk.org (Postfix) with ESMTP id BA553469ED
	for <public@inbox.dpdk.org>; Wed, 18 Jun 2025 16:23:24 +0200 (CEST)
Received: from mails.dpdk.org (localhost [127.0.0.1])
	by mails.dpdk.org (Postfix) with ESMTP id B444E427B1;
	Wed, 18 Jun 2025 16:23:24 +0200 (CEST)
Received: from mail-pl1-f225.google.com (mail-pl1-f225.google.com
 [209.85.214.225])
 by mails.dpdk.org (Postfix) with ESMTP id 6BE07427B1
 for <test-report@dpdk.org>; Wed, 18 Jun 2025 16:23:23 +0200 (CEST)
Received: by mail-pl1-f225.google.com with SMTP id
 d9443c01a7336-235ea292956so65122055ad.1
 for <test-report@dpdk.org>; Wed, 18 Jun 2025 07:23:23 -0700 (PDT)
DKIM-Signature: v=1; a=rsa-sha256; c=relaxed/relaxed;
 d=iol.unh.edu; s=unh-iol; t=1750256602; x=1750861402; darn=dpdk.org;
 h=references:in-reply-to:cc:to:from:subject:message-id:date:from:to
 :cc:subject:date:message-id:reply-to;
 bh=8Okt7ytSun9+9Ob5dT+rluZIUc39gt5PrWmfbbFsjKo=;
 b=dvam9OZRgjoqTr9Wl44wAZTa0Uh6IfRAncaoUiMsBbhgxaopLZGzEgPNDoAptbDJ6N
 t21946QNvNCxVIINJFBiFe0Em/5h3F9YHpgbeOTErT+Iyj+lvXgCwcc4cuePAbvxn3xx
 Urn8QSCXt8SXYCG4Y0a0d8yES124Fmih+IKvE=
X-Google-DKIM-Signature: v=1; a=rsa-sha256; c=relaxed/relaxed;
 d=1e100.net; s=20230601; t=1750256602; x=1750861402;
 h=references:in-reply-to:cc:to:from:subject:message-id:date
 :x-gm-message-state:from:to:cc:subject:date:message-id:reply-to;
 bh=8Okt7ytSun9+9Ob5dT+rluZIUc39gt5PrWmfbbFsjKo=;
 b=njdyqVu4r3txb1Hww1NTTFXcHFwJyJG673A36WKbz50Xu8U0OsNeqn8z1qTcY2o39X
 Pd0JvTk1ZN10ivRyO5/OUEhUUIA1Sc3uyhBuwZhhxNz6i6ZC8gGNuKEmEFcITWSu04EE
 AWiO45gPQ2W87NkW19BerAIQ5Yya+4tg1ZCc5KWeOf+jHvQdlJX7rfht8ALPe/02l2Y+
 +wcctbm2wsh10DqLMQrajX11BBQsULn/P36g7O3Xa1BBV2rNWsw/iOlStPcoCwNKWLZs
 +bCCPsCO83U/fZKm5Kn8bnpPQtIMZh8OjKw8RJHywgtAGxP/W+jZnHVZ3fsuJbFuWd8P
 Xecw==
X-Gm-Message-State: AOJu0YyMofpB7BmPltPTcPvk62KCvJBAnXQu+bk3oo4WUgMbf+91oA0d
 BCoQBpP38irUADnJYMrIKmfmXXo1kP5xJpo0XYWYEVWYSAQ8MJDqxzcgNM9JYpNFyzX3foq+s2R
 TPVm9NqEZKDL/JwOQ9k5Ixc69zQZEI/u6kGkI+PmQJgUUSK4V878AfcMZ5eLR
X-Gm-Gg: ASbGncvd9vg0X37skTHw+TW2b084mn+jpaWHGgsW+n8nr0F2rThiv7yXit9Tz1gtWAu
 IQX9GGCAohjvH+oBkxQfXLDL5EyNjUQsdu5o2jxgXBZVO8UIhv8V+MJbzX6UAUDMrqVl5rKlgIR
 peQyFMn7C1rwgbm4vof3fKrNYezBKNZI2wiDYpsYhrnUG16HtXV+amwo1mndJQiu3QPdDSYtmH0
 QglZ7zDlxbLM27SpZbMW9pHHoNuo255LXvVjrPbCPszL7JydtjgnBsWUngz3Y56Zqu6W/mgB6jL
 F3aAv4hlwC4JRb+0hFuT7qSus1LA8QgwPw9xS1uhsapAOTM=
X-Google-Smtp-Source: AGHT+IHLPGZh6MnIFs+yeOEF4CXOrl8jX8ZHJ2ILhivs7yoFHV2i3dzyBW4Z5jo6LAf2BAv8B+wO2nyWAR2K
X-Received: by 2002:a17:902:ec8a:b0:235:f143:9b07 with SMTP id
 d9443c01a7336-2366afe98a9mr260573865ad.5.1750256602353; 
 Wed, 18 Jun 2025 07:23:22 -0700 (PDT)
Received: from postal.iol.unh.edu (postal.iol.unh.edu.
 [2606:4100:3880:1234::84]) by smtp-relay.gmail.com with ESMTPS id
 d9443c01a7336-2365dc39133sm6939605ad.68.2025.06.18.07.23.22
 (version=TLS1_2 cipher=ECDHE-ECDSA-AES128-GCM-SHA256 bits=128/128);
 Wed, 18 Jun 2025 07:23:22 -0700 (PDT)
X-Relaying-Domain: iol.unh.edu
Date: Wed, 18 Jun 2025 07:23:22 -0700 (PDT)
Message-ID: <6852cbda.170a0220.2dd0b9.1a53SMTPIN_ADDED_MISSING@mx.google.com>
Received: from [172.21.0.6] (unknown [172.18.0.240])
 by postal.iol.unh.edu (Postfix) with ESMTP id 865A9604D421;
 Wed, 18 Jun 2025 10:23:21 -0400 (EDT)
Subject: |SUCCESS| pw154445 [PATCH] [v1] app/test-crypto-perf: remove unsuppo
From: dpdklab@iol.unh.edu
To: Test Report <test-report@dpdk.org>
Cc: dpdk-test-reports@iol.unh.edu
In-Reply-To: <20250613110001.350767-1-kai.ji@intel.com>
References: <20250613110001.350767-1-kai.ji@intel.com>
Content-Type: text/plain
X-BeenThere: test-report@dpdk.org
X-Mailman-Version: 2.1.29
Precedence: list
List-Id: automatic DPDK test reports <test-report.dpdk.org>
List-Unsubscribe: <https://mails.dpdk.org/options/test-report>,
 <mailto:test-report-request@dpdk.org?subject=unsubscribe>
List-Archive: <http://mails.dpdk.org/archives/test-report/>
List-Post: <mailto:test-report@dpdk.org>
List-Help: <mailto:test-report-request@dpdk.org?subject=help>
List-Subscribe: <https://mails.dpdk.org/listinfo/test-report>,
 <mailto:test-report-request@dpdk.org?subject=subscribe>
Errors-To: test-report-bounces@dpdk.org

Test-Label: iol-sample-apps-testing
Test-Status: SUCCESS
http://dpdk.org/patch/154445

_Testing PASS_

Submitter: Ji, Kai <kai.ji@intel.com>
Date: Friday, June 13 2025 11:00:01 
DPDK git baseline: Repo:dpdk
  Branch: master
  CommitID:dbeb8ae8d09387bd525353f4a5aa6ec152cddffa

154445 --> testing pass

Upstream job id: Template-DTS-Pipeline#230661

Test environment and result as below:

+--------------------+----------------------+----------------------+
|    Environment     | compressdev_zlib_pmd | dpdk_fips_validation |
+====================+======================+======================+
| Ubuntu 22.04       | PASS                 | SKIPPED              |
+--------------------+----------------------+----------------------+
| Ubuntu 22.04 (ARM) | PASS                 | SKIPPED              |
+--------------------+----------------------+----------------------+
| Ubuntu 20.04       | SKIPPED              | PASS                 |
+--------------------+----------------------+----------------------+


Ubuntu 22.04
	Kernel: 5.15
	Compiler: gcc gcc (Ubuntu 11.4.0-1ubuntu1~22.04) 11.4.0

Ubuntu 22.04 (ARM)
	Kernel: 5.15.0-97-generic
	Compiler: gcc gcc (Ubuntu 11.4.0-1ubuntu1~22.04) 11.4.0

Ubuntu 20.04
	Kernel: 5.15
	Compiler: gcc gcc (Ubuntu 9.4.0-1ubuntu1~20.04.2) 9.4.0

To view detailed results, visit:
https://lab.dpdk.org/results/dashboard/patchsets/33410/

UNH-IOL DPDK Community Lab

To manage your email subscriptions, visit: 
https://lab.dpdk.org/results/dashboard/preferences/subscriptions/