From mboxrd@z Thu Jan  1 00:00:00 1970
Return-Path: <test-report-bounces@dpdk.org>
Received: from mails.dpdk.org (mails.dpdk.org [217.70.189.124])
	by inbox.dpdk.org (Postfix) with ESMTP id 2F1DB469FF
	for <public@inbox.dpdk.org>; Thu, 19 Jun 2025 15:35:13 +0200 (CEST)
Received: from mails.dpdk.org (localhost [127.0.0.1])
	by mails.dpdk.org (Postfix) with ESMTP id 25C964025E;
	Thu, 19 Jun 2025 15:35:13 +0200 (CEST)
Received: from mail-il1-f226.google.com (mail-il1-f226.google.com
 [209.85.166.226])
 by mails.dpdk.org (Postfix) with ESMTP id 274C74025E
 for <test-report@dpdk.org>; Thu, 19 Jun 2025 15:35:12 +0200 (CEST)
Received: by mail-il1-f226.google.com with SMTP id
 e9e14a558f8ab-3ddff24fdc4so9509505ab.2
 for <test-report@dpdk.org>; Thu, 19 Jun 2025 06:35:12 -0700 (PDT)
DKIM-Signature: v=1; a=rsa-sha256; c=relaxed/relaxed;
 d=iol.unh.edu; s=unh-iol; t=1750340111; x=1750944911; darn=dpdk.org;
 h=references:in-reply-to:cc:to:from:subject:message-id:date:from:to
 :cc:subject:date:message-id:reply-to;
 bh=ArHaeos25qi1KNAxHv5LkfczF04ABxV4FpSDdMrrAnw=;
 b=WRvn600UCyN71qNfGC6KXAobhlwoTTSXuGa4+lK7jKrI19rZUK3fuEF0iwxaDmivh5
 SK0MV8Op4UP5URr/j/Vu2oTuU2KeAruuJhN9QI552ijxYYncpX4rZQOe/ULNzSIoAoMT
 2CtCWXr/JQmlLtzqice04mgUESbrFz1I6ZphE=
X-Google-DKIM-Signature: v=1; a=rsa-sha256; c=relaxed/relaxed;
 d=1e100.net; s=20230601; t=1750340111; x=1750944911;
 h=references:in-reply-to:cc:to:from:subject:message-id:date
 :x-gm-message-state:from:to:cc:subject:date:message-id:reply-to;
 bh=ArHaeos25qi1KNAxHv5LkfczF04ABxV4FpSDdMrrAnw=;
 b=Wke6HZZER5EhgsHKGx51n62JXb10OrDZxCb5i+Zsw72hQ7gerV7lXmptd9na1HBL6q
 hQXsmZj7oqzI3y5ppipiVIl6QNgDyEKTjAVutsHHcapYixhJ0opY0EYECtxaXHwdUrTQ
 OjyifdiJ9Th4aZKjzrizMuGkxTrtG1D8h29LpTHpJuzjnaKbTM67On4fRLGV1dT5iCz0
 gbI0TTRr4MUvsQ5xHszW8fKIF2UpUdv6kLsF3FoKuEC+FRlqLyXLbdgLs0SW/4wweD6S
 rbh+/SDJEZ9HZZ9v5HNDSJBLmj/q6K7PMIaruPA1Zsd5DBT5KV/hpQD8Nsl1ftDjl/w4
 6XeA==
X-Gm-Message-State: AOJu0YxStzLleuBOEucRer8UT/XXZ23PYSp/+lVONAsMYIfb1Zv5fMfW
 Nuf514lIGk0dfxmD2/D3t/yOtkwJBQEs0MbJQRPRC+xnZaD2m9+qZ+Hu0bq4JPBx96KvzBhS2sE
 uLZLdpIsdhkzSw80Hnoe5lwqCEQT164Vn+kug9Z1U+KlO
X-Gm-Gg: ASbGnctlKvqEayeyoZyzNZFshJO/0eB2uO0ccbX+RdzMmQPdfrNDlLW6zKkIX/STO/m
 E1BfFFTksHF5I6Xh/b9CekhSE2qggx7+1ZBmmKOSx8rtJ0ZD9koCrHdjeG8PcwxdRM65zNYm6/n
 y6YOiWy3Zw1ka+trWj9ts6BKJT5avlId9QrlEF0xOv0KgP9VTjrV+v+vavzYo9t4bDI28P0bNwH
 OAvkbrbPMi94gPpZ5IIG6k2ClaVlF7Er1+0NtbPafljhkGKTKWNr4d3r9LmpK67jQodUsO/Kss3
 HYSQ0WfZiS+xvjzA+66y69H96FLSotKy9zq5JMi6vBbMg8ZHgj3pV/fid8AiqRQKQFjosg==
X-Google-Smtp-Source: AGHT+IHBADDv64jpBt9NrVF/tILEbduwDJhC5MiHS8uqNEgb8TrYFbKZPwQ/POFh+AHs97IxjzEOu6kUwVzH
X-Received: by 2002:a05:6e02:164e:b0:3dd:b808:be68 with SMTP id
 e9e14a558f8ab-3de07cc48c1mr237814145ab.16.1750340111188; 
 Thu, 19 Jun 2025 06:35:11 -0700 (PDT)
Received: from postal.iol.unh.edu (postal.iol.unh.edu. [132.177.123.84])
 by smtp-relay.gmail.com with ESMTPS id
 8926c6da1cb9f-50149c7f7e7sm709228173.52.2025.06.19.06.35.11
 (version=TLS1_2 cipher=ECDHE-ECDSA-AES128-GCM-SHA256 bits=128/128);
 Thu, 19 Jun 2025 06:35:11 -0700 (PDT)
X-Relaying-Domain: iol.unh.edu
Date: Thu, 19 Jun 2025 06:35:11 -0700 (PDT)
Message-ID: <6854120f.050a0220.7413a.2897SMTPIN_ADDED_MISSING@mx.google.com>
Received: from [172.17.0.5] (unknown [172.18.0.74])
 by postal.iol.unh.edu (Postfix) with ESMTP id BA6246051830;
 Thu, 19 Jun 2025 09:35:10 -0400 (EDT)
Subject: |SUCCESS| pw154585 [PATCH] net/mlx5: mlx5 malloc NUMA fallback
From: dpdklab@iol.unh.edu
To: Test Report <test-report@dpdk.org>
Cc: dpdk-test-reports@iol.unh.edu
In-Reply-To: <20250619070132.35181-1-mkashani@nvidia.com>
References: <20250619070132.35181-1-mkashani@nvidia.com>
Content-Type: text/plain
X-BeenThere: test-report@dpdk.org
X-Mailman-Version: 2.1.29
Precedence: list
List-Id: automatic DPDK test reports <test-report.dpdk.org>
List-Unsubscribe: <https://mails.dpdk.org/options/test-report>,
 <mailto:test-report-request@dpdk.org?subject=unsubscribe>
List-Archive: <http://mails.dpdk.org/archives/test-report/>
List-Post: <mailto:test-report@dpdk.org>
List-Help: <mailto:test-report-request@dpdk.org?subject=help>
List-Subscribe: <https://mails.dpdk.org/listinfo/test-report>,
 <mailto:test-report-request@dpdk.org?subject=subscribe>
Errors-To: test-report-bounces@dpdk.org

Test-Label: iol-unit-arm64-testing
Test-Status: SUCCESS
http://dpdk.org/patch/154585

_Testing PASS_

Submitter: Maayan Kashani <mkashani@nvidia.com>
Date: Thursday, June 19 2025 07:01:32 
DPDK git baseline: Repo:dpdk
  Branch: master
  CommitID:77ba8d12251b203a4ec69a569c2f2f07edb7b1e8

154585 --> testing pass

Upstream job id: Generic-Unit-Test-DPDK#347652

Test environment and result as below:

+------------------------------+--------------+------------------------------+---------------------------+----------------+
|         Environment          | lpm_autotest | cryptodev_sw_snow3g_autotest | cryptodev_sw_zuc_autotest | dpdk_unit_test |
+==============================+==============+==============================+===========================+================+
| Ubuntu 20.04                 | PASS         | SKIPPED                      | SKIPPED                   | PASS           |
+------------------------------+--------------+------------------------------+---------------------------+----------------+
| Debian 12 (arm)              | SKIPPED      | PASS                         | PASS                      | SKIPPED        |
+------------------------------+--------------+------------------------------+---------------------------+----------------+
| CentOS Stream 9              | SKIPPED      | SKIPPED                      | SKIPPED                   | PASS           |
+------------------------------+--------------+------------------------------+---------------------------+----------------+
| Debian GNU/Linux 12          | SKIPPED      | SKIPPED                      | SKIPPED                   | PASS           |
+------------------------------+--------------+------------------------------+---------------------------+----------------+
| CentOS Stream 10             | SKIPPED      | SKIPPED                      | SKIPPED                   | PASS           |
+------------------------------+--------------+------------------------------+---------------------------+----------------+
| Fedora Linux 40              | SKIPPED      | SKIPPED                      | SKIPPED                   | PASS           |
+------------------------------+--------------+------------------------------+---------------------------+----------------+
| Fedora Linux 41              | SKIPPED      | SKIPPED                      | SKIPPED                   | PASS           |
+------------------------------+--------------+------------------------------+---------------------------+----------------+
| Red Hat Enterprise Linux 9.5 | SKIPPED      | SKIPPED                      | SKIPPED                   | PASS           |
+------------------------------+--------------+------------------------------+---------------------------+----------------+
| Ubuntu 22.04                 | SKIPPED      | SKIPPED                      | SKIPPED                   | PASS           |
+------------------------------+--------------+------------------------------+---------------------------+----------------+
| Ubuntu 24.04                 | SKIPPED      | SKIPPED                      | SKIPPED                   | PASS           |
+------------------------------+--------------+------------------------------+---------------------------+----------------+


Ubuntu 20.04
	Kernel: 5.4
	Compiler: gcc gcc (Ubuntu 9.4.0-1ubuntu1~20.04.2) 9.4.0

Debian 12 (arm)
	Kernel: Depends on container host
	Compiler: gcc (Debian 12.2.0-14) 12.2.0

CentOS Stream 9
	Kernel: 5.4
	Compiler: gcc gcc (GCC) 11.5.0 20240719 (Red Hat 11.5.0-7)

Debian GNU/Linux 12
	Kernel: 5.4
	Compiler: gcc gcc (Debian 12.2.0-14+deb12u1) 12.2.0

CentOS Stream 10
	Kernel: 5.4
	Compiler: gcc gcc (GCC) 14.2.1 20250110 (Red Hat 14.2.1-8)

Fedora Linux 40
	Kernel: 5.4
	Compiler: gcc gcc (GCC) 14.2.1 20240912 (Red Hat 14.2.1-3)

Fedora Linux 41
	Kernel: 5.4
	Compiler: gcc gcc (GCC) 14.3.1 20250523 (Red Hat 14.3.1-1)

Red Hat Enterprise Linux 9.5
	Kernel: 5.4
	Compiler: gcc gcc (GCC) 11.5.0 20240719 (Red Hat 11.5.0-2)

Ubuntu 22.04
	Kernel: 5.4
	Compiler: gcc gcc (Ubuntu 11.4.0-1ubuntu1~22.04) 11.4.0

Ubuntu 24.04
	Kernel: 5.4
	Compiler: gcc gcc (Ubuntu 13.3.0-6ubuntu2~24.04) 13.3.0

To view detailed results, visit:
https://lab.dpdk.org/results/dashboard/patchsets/33458/

UNH-IOL DPDK Community Lab

To manage your email subscriptions, visit: 
https://lab.dpdk.org/results/dashboard/preferences/subscriptions/